BEGIN:VCALENDAR
VERSION:2.0
PRODID:-//Hardloopevenementen - ECPv6.15.14//NONSGML v1.0//EN
CALSCALE:GREGORIAN
METHOD:PUBLISH
X-ORIGINAL-URL:https://hardloopevenementen.com
X-WR-CALDESC:Evenementen voor Hardloopevenementen
REFRESH-INTERVAL;VALUE=DURATION:PT1H
X-Robots-Tag:noindex
X-PUBLISHED-TTL:PT1H
BEGIN:VTIMEZONE
TZID:UTC
BEGIN:STANDARD
TZOFFSETFROM:+0000
TZOFFSETTO:+0000
TZNAME:UTC
DTSTART:20160101T000000
END:STANDARD
END:VTIMEZONE
BEGIN:VEVENT
DTSTART;VALUE=DATE:20180530
DTEND;VALUE=DATE:20180531
DTSTAMP:20260424T005903
CREATED:20120422T135145Z
LAST-MODIFIED:20190423T120442Z
UID:16506-1527638400-1527638400@hardloopevenementen.com
SUMMARY:COP RUN Amsterdam Amsterdam (NH)
DESCRIPTION:Doe mee met het hardloopevenement COP RUN Amsterdam te Amsterdam (NH) op wo 30 mei 2018. De volgende afstanden staan op het programma: 5 km hardlopen. Wilt u inschrijven voor dit loopevenement?  Raadpleeg hiervoor dan de website van de organisatie\nDe uitslagen van deze hardloopwedstrijd zijn te raadplegen via dezelfde website of via de bekende websites zoals uitslagen.nl\, runtimer en mylaps. Doet u mee met dit evenement\, zorg dan dat u goed voorbereid aan de start staat! Met een goed trainingsschema komt u een heel eind. Train bijvoorbeeld met start to run van Evy Gruyaert. Download de start to run mp3 bestanden en zet ze op uw telefoon. Oortjes in\, hit the play button en en rennen maar! \n\n\n\n\nMeer informatie over COP RUN Amsterdam op Hardloopkalender.nl  \nEen 15k estafette loop waarbij iedere loper 5x 1km loopt. Inschrijving kost 1euro pp. Meer informatie kan ook gevonden worden op: https:  www.facebook.com events 212131422722746 \n  \n  \n 
URL:https://hardloopevenementen.com/loopagenda/cop-run-amsterdam-amsterdam-nh-2/
END:VEVENT
BEGIN:VEVENT
DTSTART;VALUE=DATE:20170901
DTEND;VALUE=DATE:20170902
DTSTAMP:20260424T005903
CREATED:20130930T114711Z
LAST-MODIFIED:20190423T114425Z
UID:14212-1504224000-1504224000@hardloopevenementen.com
SUMMARY:COP RUN Amsterdam Amsterdam (NH)
DESCRIPTION:Doe mee met het hardloopevenement COP RUN Amsterdam te Amsterdam (NH) op vr 01 sep 2017. De volgende afstanden staan op het programma: 5 km hardlopen. Wilt u inschrijven voor dit loopevenement?  Raadpleeg hiervoor dan de website van de organisatie\nDe uitslagen van deze hardloopwedstrijd zijn te raadplegen via dezelfde website of via de bekende websites zoals uitslagen.nl\, runtimer en mylaps. Doet u mee met dit evenement\, zorg dan dat u goed voorbereid aan de start staat! Met een goed trainingsschema komt u een heel eind. Train bijvoorbeeld met start to run van Evy Gruyaert. Download de start to run mp3 bestanden en zet ze op uw telefoon. Oortjes in\, hit the play button en en rennen maar! \n\n\n\n\nMeer informatie over COP RUN Amsterdam op Hardloopkalender.nl  \nEen estafette in teams van drie. Iedere loper loopt 5 keer 1km. Deelname is gratis\, ook individueel meedoen is mogelijk waarbij je in een willekeurig team wordt geplaatst. \n  \n  \n 
URL:https://hardloopevenementen.com/loopagenda/cop-run-amsterdam-amsterdam-nh/
END:VEVENT
END:VCALENDAR