BEGIN:VCALENDAR
VERSION:2.0
PRODID:-//Hardloopevenementen - ECPv6.15.14//NONSGML v1.0//EN
CALSCALE:GREGORIAN
METHOD:PUBLISH
X-ORIGINAL-URL:https://hardloopevenementen.com
X-WR-CALDESC:Evenementen voor Hardloopevenementen
REFRESH-INTERVAL;VALUE=DURATION:PT1H
X-Robots-Tag:noindex
X-PUBLISHED-TTL:PT1H
BEGIN:VTIMEZONE
TZID:UTC
BEGIN:STANDARD
TZOFFSETFROM:+0000
TZOFFSETTO:+0000
TZNAME:UTC
DTSTART:20130101T000000
END:STANDARD
END:VTIMEZONE
BEGIN:VEVENT
DTSTART;VALUE=DATE:20140412
DTEND;VALUE=DATE:20140413
DTSTAMP:20260425T191210
CREATED:20070526T070909Z
LAST-MODIFIED:20190423T105632Z
UID:34360-1397260800-1397260800@hardloopevenementen.com
SUMMARY:Countryrun Gilze\, gemeente Gilze en Rijen (NB)
DESCRIPTION:Doe mee met het hardloopevenement Countryrun te Gilze\, gemeente Gilze en Rijen (NB) op za 12 apr 2014. De volgende afstanden staan op het programma: 5 km – 10 km hardlopen. Wilt u inschrijven voor dit loopevenement?  Raadpleeg hiervoor dan de website van de organisatie\nDe uitslagen van deze hardloopwedstrijd zijn te raadplegen via dezelfde website of via de bekende websites zoals uitslagen.nl\, runtimer en mylaps. Doet u mee met dit evenement\, zorg dan dat u goed voorbereid aan de start staat! Met een goed trainingsschema komt u een heel eind. Train bijvoorbeeld met start to run van Evy Gruyaert. Download de start to run mp3 bestanden en zet ze op uw telefoon. Oortjes in\, hit the play button en en rennen maar! \n\n\n\n\nMeer informatie over Countryrun op Hardloopkalender.nl  \nstart 17.00u bij cafe de tip te Gilze.  Deze loop wordt georganiseerd voor het goede doel namelijk de alpe d huzes \n  \n  \n 
URL:https://hardloopevenementen.com/loopagenda/countryrun-gilze-gemeente-gilze-en-rijen-nb/
END:VEVENT
END:VCALENDAR