BEGIN:VCALENDAR
VERSION:2.0
PRODID:-//Hardloopevenementen - ECPv6.15.14//NONSGML v1.0//EN
CALSCALE:GREGORIAN
METHOD:PUBLISH
X-WR-CALNAME:Hardloopevenementen
X-ORIGINAL-URL:https://hardloopevenementen.com
X-WR-CALDESC:Evenementen voor Hardloopevenementen
REFRESH-INTERVAL;VALUE=DURATION:PT1H
X-Robots-Tag:noindex
X-PUBLISHED-TTL:PT1H
BEGIN:VTIMEZONE
TZID:UTC
BEGIN:STANDARD
TZOFFSETFROM:+0000
TZOFFSETTO:+0000
TZNAME:UTC
DTSTART:20120101T000000
END:STANDARD
END:VTIMEZONE
BEGIN:VEVENT
DTSTART;VALUE=DATE:20150913
DTEND;VALUE=DATE:20150914
DTSTAMP:20260424T011345
CREATED:20160427T172216Z
LAST-MODIFIED:20190423T110919Z
UID:9800-1442102400-1442102400@hardloopevenementen.com
SUMMARY:Crazy River Run Gorinchem (ZH)
DESCRIPTION:Doe mee met het hardloopevenement Crazy River Run te Gorinchem (ZH) op zo 13 sep 2015. De volgende afstanden staan op het programma: 5 km – 15 km hardlopen. Wilt u inschrijven voor dit loopevenement?  Raadpleeg hiervoor dan de website van de organisatie\nDe uitslagen van deze hardloopwedstrijd zijn te raadplegen via dezelfde website of via de bekende websites zoals uitslagen.nl\, runtimer en mylaps. Doet u mee met dit evenement\, zorg dan dat u goed voorbereid aan de start staat! Met een goed trainingsschema komt u een heel eind. Train bijvoorbeeld met start to run van Evy Gruyaert. Download de start to run mp3 bestanden en zet ze op uw telefoon. Oortjes in\, hit the play button en en rennen maar! \n\n\n\n\nMeer informatie over Crazy River Run op Hardloopkalender.nl  \nCrazy River Run 2015    Het favoriete trainingsrondje wordt een happening voor hardlopers: de Crazy River Run. De eerste helft op de weg\, over de dijk langs de Merwede vanuit Gorinchem naar het dorp Vuren. De tweede helft trail: vanaf de dijk de uiterwaarden in en weer terug naar Gorinchem\, offroad tussen de rivier en de dijk.    Voor een groep enthousiaste hardlopers uit de regio is dit een geliefd trainingsparcours dat ze met geestverwanten willen delen. De Crazy River Run is dus uitgezet voor en door hardlopers. Het wordt geen officiële Atletiekunie-wedstrijd\, maar wel wordt gezorgd voor officiële tijdregistratie\, zodat de lopers voor zichzelf weten hoe ze gepresteerd hebben.    Er is een uitdagende route voor alle niveaus. De Crazy River Run met parcours over 5 en 15 kilometer en kinderen rennen de één kilometer lange Crazy River Kids Run onder professionele begeleiding.    Loop mee met de derde Crazy River Run op 13 september 2015! Het startschot klinkt om 14:00 uur Buiten de Waterpoort in Gorinchem.     Kidsrun 14:00 uur   15 km 14:15 uur   5 km 14:30 uur \n  \n  \n 
URL:https://hardloopevenementen.com/loopagenda/crazy-river-run-gorinchem-zh/
END:VEVENT
BEGIN:VEVENT
DTSTART;VALUE=DATE:20140914
DTEND;VALUE=DATE:20140915
DTSTAMP:20260424T011345
CREATED:20181021T184441Z
LAST-MODIFIED:20190423T105137Z
UID:33278-1410652800-1410652800@hardloopevenementen.com
SUMMARY:Crazy River Run Gorinchem (ZH)
DESCRIPTION:Doe mee met het hardloopevenement Crazy River Run te Gorinchem (ZH) op zo 14 sep 2014. De volgende afstanden staan op het programma: 1 km – 5 km – 15 km hardlopen. Wilt u inschrijven voor dit loopevenement?  Raadpleeg hiervoor dan de website van de organisatie\nDe uitslagen van deze hardloopwedstrijd zijn te raadplegen via dezelfde website of via de bekende websites zoals uitslagen.nl\, runtimer en mylaps. Doet u mee met dit evenement\, zorg dan dat u goed voorbereid aan de start staat! Met een goed trainingsschema komt u een heel eind. Train bijvoorbeeld met start to run van Evy Gruyaert. Download de start to run mp3 bestanden en zet ze op uw telefoon. Oortjes in\, hit the play button en en rennen maar! \n\n\n\n\nMeer informatie over Crazy River Run op Hardloopkalender.nl  \n  \n  \n 
URL:https://hardloopevenementen.com/loopagenda/crazy-river-run-gorinchem-zh-3/
END:VEVENT
BEGIN:VEVENT
DTSTART;VALUE=DATE:20140913
DTEND;VALUE=DATE:20140914
DTSTAMP:20260424T011345
CREATED:20160220T051743Z
LAST-MODIFIED:20190423T105144Z
UID:33299-1410566400-1410566400@hardloopevenementen.com
SUMMARY:Crazy Colorrun Assen (DR)
DESCRIPTION:Doe mee met het hardloopevenement Crazy Colorrun te Assen (DR) op za 13 sep 2014. De volgende afstanden staan op het programma: 8 km hardlopen. Wilt u inschrijven voor dit loopevenement?  Raadpleeg hiervoor dan de website van de organisatie\nDe uitslagen van deze hardloopwedstrijd zijn te raadplegen via dezelfde website of via de bekende websites zoals uitslagen.nl\, runtimer en mylaps. Doet u mee met dit evenement\, zorg dan dat u goed voorbereid aan de start staat! Met een goed trainingsschema komt u een heel eind. Train bijvoorbeeld met start to run van Evy Gruyaert. Download de start to run mp3 bestanden en zet ze op uw telefoon. Oortjes in\, hit the play button en en rennen maar! \n\n\n\n\nMeer informatie over Crazy Colorrun op Hardloopkalender.nl  \nWat is de Crazy Colorrun?    Wil jij de maximale aantal kilometers bereiken? Maakt niet uit. De snelste tijd? Niet interessant. Conditie? Onbelangrijk. Bij de Crazy Colorrun beleef jij de gekste 5 miles uit je leven. De prestatie is in deze run ondergeschikt aan het concept\, plezier en gekkigheid en met elkaar een leuke tijd te hebben\, en meer….. veel meer! Het maakt niet uit\, atleet of amateur\, jong of oud…. een run voor iedereen!    Details:    Bij de Crazy Colorrun koopt u een runners pakket. Deze bestaat uit een Crazy Colorrun shirt\, poederverfzakje\, glowartikelen en natuurlijk jou eigen startnummer. Op een vast tijdstip welke nader bekend word gemaakt verschijn je aan de start. Met een startschot begin jij aan de run. De meest kleurrijke run uit jou leven! Lopen\, kruipen\, vliegen…. jij bepaald hoe jij het parcours aflegd. Na de eerste kilometer bereik je de eerste van de vier kleurenzones\, in deze zone zorgen wij ervoor dat je als ware paradijsvogel de rest van het parcours gaat afleggen. Je start trouwens als zelfstandig loper of als team vanaf 4 personen. Kinderen mogen mee doen tegen 50% korting.    Wat voor verf en poeder gebruiken we?    Dat is snel uitgelegd; we gebruiken 5 verschillende kleuren (geel\, blauw\, groen\, paars en oranje). Zorg ervoor dat jij alle kleuren op je shirt krijgt. Parcours-medewerkers zorgen ervoor  dat je niet stralend wit bij de finish aankomt. Het verfpoeder is samengesteld met maïsmeel en daarmee gegarandeerd ongevaarlijk\, verf is gecertificeerd en op waterbasis. Wie wil kan het zelfs eten\, alhoewel we dit niet adviseren.    Na de run!    Zoals altijd komt het beste aan het eind. Heb jij de 5 miles volbracht als een sierlijke en kleurrijke paradijsvogel? Dan ben jij klaar om helemaal los te gaan. Dit wordt gevierd op het finish terrein. Met het poederzakje welke je bij de finish ontvangt\, vette beats van de DJ en een gezellig drankje met een hapje. Op een aftelklok zal te zien zijn wanneer we met zijn allen een kleuren regen van verf gaan lanceren tijdens de Crazy Colorrun afterparty.    Wij wensen jou veel plezier en een kleurrijke run. Tot ziens aan de start van de Crazy Colorrun. Meer informatie op www.colorsensation.nl Crazy Colorrun. \n  \n  \n 
URL:https://hardloopevenementen.com/loopagenda/crazy-colorrun-assen-dr/
END:VEVENT
BEGIN:VEVENT
DTSTART;VALUE=DATE:20130915
DTEND;VALUE=DATE:20130916
DTSTAMP:20260424T011345
CREATED:20150421T212050Z
LAST-MODIFIED:20190423T103959Z
UID:31111-1379203200-1379203200@hardloopevenementen.com
SUMMARY:Crazy River Run Gorinchem (ZH)
DESCRIPTION:Doe mee met het hardloopevenement Crazy River Run te Gorinchem (ZH) op zo 15 sep 2013. De volgende afstanden staan op het programma: 1 km – 5 km – 15 km hardlopen. Wilt u inschrijven voor dit loopevenement?  Raadpleeg hiervoor dan de website van de organisatie\nDe uitslagen van deze hardloopwedstrijd zijn te raadplegen via dezelfde website of via de bekende websites zoals uitslagen.nl\, runtimer en mylaps. Doet u mee met dit evenement\, zorg dan dat u goed voorbereid aan de start staat! Met een goed trainingsschema komt u een heel eind. Train bijvoorbeeld met start to run van Evy Gruyaert. Download de start to run mp3 bestanden en zet ze op uw telefoon. Oortjes in\, hit the play button en en rennen maar! \n\n\n\n\nMeer informatie over Crazy River Run op Hardloopkalender.nl  \nVijftien kilometer. Crazy? Half weg\, half trail. Crazy? Waar de Merwede in winterweken metershoog stroomt. Are you crazy?!    Doe dan mee aan de allereerste Crazy River Run! Een uniek nieuw loopevenement tussen Gorinchem en Gorinchem op de derde zondag van september. Over het strand naar de oude vestingstad\, over de dijk naar het dorp Vuren en door de uiterwaarden langs de rivier de Merwede weer terug.  Een uitdaging voor jong en oud\, voor lopers van alle niveaus. Zorg dat je fit bent en loop mee!    Zondag 15 september\, startschot om 14 uur \n  \n  \n 
URL:https://hardloopevenementen.com/loopagenda/crazy-river-run-gorinchem-zh-2/
END:VEVENT
END:VCALENDAR