BEGIN:VCALENDAR
VERSION:2.0
PRODID:-//Hardloopevenementen - ECPv6.15.14//NONSGML v1.0//EN
CALSCALE:GREGORIAN
METHOD:PUBLISH
X-ORIGINAL-URL:https://hardloopevenementen.com
X-WR-CALDESC:Evenementen voor Hardloopevenementen
REFRESH-INTERVAL;VALUE=DURATION:PT1H
X-Robots-Tag:noindex
X-PUBLISHED-TTL:PT1H
BEGIN:VTIMEZONE
TZID:UTC
BEGIN:STANDARD
TZOFFSETFROM:+0000
TZOFFSETTO:+0000
TZNAME:UTC
DTSTART:20140101T000000
END:STANDARD
END:VTIMEZONE
BEGIN:VEVENT
DTSTART;VALUE=DATE:20150607
DTEND;VALUE=DATE:20150608
DTSTAMP:20260423T031747
CREATED:20090613T121900Z
LAST-MODIFIED:20190423T111141Z
UID:10333-1433635200-1433635200@hardloopevenementen.com
SUMMARY:Croky Run Apeldoorn (GE)
DESCRIPTION:Doe mee met het hardloopevenement Croky Run te Apeldoorn (GE) op zo 07 jun 2015. De volgende afstanden staan op het programma: 14 km hardlopen. Wilt u inschrijven voor dit loopevenement?  Raadpleeg hiervoor dan de website van de organisatie\nDe uitslagen van deze hardloopwedstrijd zijn te raadplegen via dezelfde website of via de bekende websites zoals uitslagen.nl\, runtimer en mylaps. Doet u mee met dit evenement\, zorg dan dat u goed voorbereid aan de start staat! Met een goed trainingsschema komt u een heel eind. Train bijvoorbeeld met start to run van Evy Gruyaert. Download de start to run mp3 bestanden en zet ze op uw telefoon. Oortjes in\, hit the play button en en rennen maar! \n\n\n\n\nMeer informatie over Croky Run op Hardloopkalender.nl  \nZondag 7 juni 10:00 uur  Start Halte Assel   Apeldoorn (Assel 1 – 7346 AK – Hoog Soeren)  Inschrijving aan de start:  8\,-  Geen chip tijdmeting  Prachtige loop door bosrijk Apeldoorn. \n  \n  \n 
URL:https://hardloopevenementen.com/loopagenda/croky-run-apeldoorn-ge/
END:VEVENT
END:VCALENDAR