BEGIN:VCALENDAR
VERSION:2.0
PRODID:-//Hardloopevenementen - ECPv6.15.14//NONSGML v1.0//EN
CALSCALE:GREGORIAN
METHOD:PUBLISH
X-WR-CALNAME:Hardloopevenementen
X-ORIGINAL-URL:https://hardloopevenementen.com
X-WR-CALDESC:Evenementen voor Hardloopevenementen
REFRESH-INTERVAL;VALUE=DURATION:PT1H
X-Robots-Tag:noindex
X-PUBLISHED-TTL:PT1H
BEGIN:VTIMEZONE
TZID:UTC
BEGIN:STANDARD
TZOFFSETFROM:+0000
TZOFFSETTO:+0000
TZNAME:UTC
DTSTART:20090101T000000
END:STANDARD
END:VTIMEZONE
BEGIN:VEVENT
DTSTART;VALUE=DATE:20170219
DTEND;VALUE=DATE:20170220
DTSTAMP:20260420T120858
CREATED:20140601T151936Z
LAST-MODIFIED:20190423T114810Z
UID:15219-1487462400-1487462400@hardloopevenementen.com
SUMMARY:Avonturenpark Hellendoorn crosloop Hellendoorn (OV)
DESCRIPTION:Doe mee met het hardloopevenement Avonturenpark Hellendoorn crosloop te Hellendoorn (OV) op zo 19 feb 2017. De volgende afstanden staan op het programma: 1\,5 km – 2\,5 km – 5 km – 10 km hardlopen. Wilt u inschrijven voor dit loopevenement?  Raadpleeg hiervoor dan de website van de organisatie\nDe uitslagen van deze hardloopwedstrijd zijn te raadplegen via dezelfde website of via de bekende websites zoals uitslagen.nl\, runtimer en mylaps. Doet u mee met dit evenement\, zorg dan dat u goed voorbereid aan de start staat! Met een goed trainingsschema komt u een heel eind. Train bijvoorbeeld met start to run van Evy Gruyaert. Download de start to run mp3 bestanden en zet ze op uw telefoon. Oortjes in\, hit the play button en en rennen maar! \n\n\n\n\nMeer informatie over Avonturenpark Hellendoorn crosloop op Hardloopkalender.nl  \nDe 2.5 km\, 5 km en 10 km maken deel uit van het Sallands Cross Circuit. \n  \n  \n 
URL:https://hardloopevenementen.com/loopagenda/avonturenpark-hellendoorn-crosloop-hellendoorn-ov/
END:VEVENT
BEGIN:VEVENT
DTSTART;VALUE=DATE:20131214
DTEND;VALUE=DATE:20131215
DTSTAMP:20260420T120858
CREATED:20061031T081154Z
LAST-MODIFIED:20190423T103736Z
UID:7947-1386979200-1386979200@hardloopevenementen.com
SUMMARY:winter crosloop Veenhuizen\, gemeente Coevorden (DR)
DESCRIPTION:Doe mee met het hardloopevenement winter crosloop te Veenhuizen\, gemeente Coevorden (DR) op za 14 dec 2013. De volgende afstanden staan op het programma: 10 km hardlopen. Wilt u inschrijven voor dit loopevenement?  Raadpleeg hiervoor dan de website van de organisatie\nDe uitslagen van deze hardloopwedstrijd zijn te raadplegen via dezelfde website of via de bekende websites zoals uitslagen.nl\, runtimer en mylaps. Doet u mee met dit evenement\, zorg dan dat u goed voorbereid aan de start staat! Met een goed trainingsschema komt u een heel eind. Train bijvoorbeeld met start to run van Evy Gruyaert. Download de start to run mp3 bestanden en zet ze op uw telefoon. Oortjes in\, hit the play button en en rennen maar! \n\n\n\n\nMeer informatie over winter crosloop op Hardloopkalender.nl  \nHet loopevenement winter crosloop te Veenhuizen vindt plaats op zaterdag 14 december 2013. De loop wordt georganisseerd door GV Rood Zwart. Inschrijven is mogelijk vanaf 14 december 2013. Klik hier voor het adres van de start (Google Maps).Er is verkleedaccomodatie met douchemogelijkheid aanwezig. Bijzonderheden: bij deelname aan 3 van de 4 seizoenslopen heeft men prijs .Voor meer informatie:L. Hermelinkluuk58@hotmail.nl0611133500http:  veenhuizenactief.nl \n  \n  \n 
URL:https://hardloopevenementen.com/loopagenda/winter-crosloop-veenhuizen-gemeente-coevorden-dr/
END:VEVENT
BEGIN:VEVENT
DTSTART;VALUE=DATE:20131012
DTEND;VALUE=DATE:20131013
DTSTAMP:20260420T120858
CREATED:20140418T194620Z
LAST-MODIFIED:20190423T103920Z
UID:8319-1381536000-1381536000@hardloopevenementen.com
SUMMARY:herfst crosloop Veenhuizen\, gemeente Coevorden (DR)
DESCRIPTION:Doe mee met het hardloopevenement herfst crosloop te Veenhuizen\, gemeente Coevorden (DR) op za 12 okt 2013. De volgende afstanden staan op het programma: 10 km hardlopen. Wilt u inschrijven voor dit loopevenement?  Raadpleeg hiervoor dan de website van de organisatie\nDe uitslagen van deze hardloopwedstrijd zijn te raadplegen via dezelfde website of via de bekende websites zoals uitslagen.nl\, runtimer en mylaps. Doet u mee met dit evenement\, zorg dan dat u goed voorbereid aan de start staat! Met een goed trainingsschema komt u een heel eind. Train bijvoorbeeld met start to run van Evy Gruyaert. Download de start to run mp3 bestanden en zet ze op uw telefoon. Oortjes in\, hit the play button en en rennen maar! \n\n\n\n\nMeer informatie over herfst crosloop op Hardloopkalender.nl  \nHet loopevenement herfst crosloop te Veenhuizen vindt plaats op zaterdag 12 oktober 2013. De loop wordt georganisseerd door GV Rood Zwart. Inschrijven is mogelijk vanaf 12 oktober 2013. Klik hier voor het adres van de start (Google Maps).Er is verkleedaccomodatie met douchemogelijkheid aanwezig. Bijzonderheden: bij deelname van 3 van de 4 seizoenslopen een prijs.Voor meer informatie:L. Hermelinkluuk58@hotmail.nl0611133500http:  veenhuizenactief.nl \n  \n  \n 
URL:https://hardloopevenementen.com/loopagenda/herfst-crosloop-veenhuizen-gemeente-coevorden-dr-2/
END:VEVENT
BEGIN:VEVENT
DTSTART;VALUE=DATE:20130615
DTEND;VALUE=DATE:20130616
DTSTAMP:20260420T120858
CREATED:20150901T222233Z
LAST-MODIFIED:20190423T104204Z
UID:31574-1371254400-1371254400@hardloopevenementen.com
SUMMARY:zomer crosloop Veenhuizen\, gemeente Coevorden (DR)
DESCRIPTION:Doe mee met het hardloopevenement zomer crosloop te Veenhuizen\, gemeente Coevorden (DR) op za 15 jun 2013. De volgende afstanden staan op het programma: 10 km hardlopen. Wilt u inschrijven voor dit loopevenement?  Raadpleeg hiervoor dan de website van de organisatie\nDe uitslagen van deze hardloopwedstrijd zijn te raadplegen via dezelfde website of via de bekende websites zoals uitslagen.nl\, runtimer en mylaps. Doet u mee met dit evenement\, zorg dan dat u goed voorbereid aan de start staat! Met een goed trainingsschema komt u een heel eind. Train bijvoorbeeld met start to run van Evy Gruyaert. Download de start to run mp3 bestanden en zet ze op uw telefoon. Oortjes in\, hit the play button en en rennen maar! \n\n\n\n\nMeer informatie over zomer crosloop op Hardloopkalender.nl  \nHet loopevenement zomer crosloop te Veenhuizen vindt plaats op zaterdag 15 juni 2013. De loop wordt georganisseerd door GV Rood Zwart. Inschrijven is mogelijk vanaf 15 juni 2013. Klik hier voor het adres van de start (Google Maps).Er is verkleedaccomodatie met douchemogelijkheid aanwezig. Bijzonderheden: als men 3 van de 4 seizoenslopen mee doet heeft men prijs.Voor meer informatie:L. Hermelinkluuk58@hotmail.nl0611133500http:  veenhuizenactief.nl \n  \n  \n 
URL:https://hardloopevenementen.com/loopagenda/zomer-crosloop-veenhuizen-gemeente-coevorden-dr-2/
END:VEVENT
BEGIN:VEVENT
DTSTART;VALUE=DATE:20120616
DTEND;VALUE=DATE:20120617
DTSTAMP:20260420T120858
CREATED:20150213T111416Z
LAST-MODIFIED:20190423T103135Z
UID:28167-1339804800-1339804800@hardloopevenementen.com
SUMMARY:zomer crosloop Veenhuizen\, gemeente Coevorden (DR)
DESCRIPTION:Doe mee met het hardloopevenement zomer crosloop te Veenhuizen\, gemeente Coevorden (DR) op za 16 jun 2012. De volgende afstanden staan op het programma: 10 km hardlopen. Wilt u inschrijven voor dit loopevenement?  Raadpleeg hiervoor dan de website van de organisatie\nDe uitslagen van deze hardloopwedstrijd zijn te raadplegen via dezelfde website of via de bekende websites zoals uitslagen.nl\, runtimer en mylaps. Doet u mee met dit evenement\, zorg dan dat u goed voorbereid aan de start staat! Met een goed trainingsschema komt u een heel eind. Train bijvoorbeeld met start to run van Evy Gruyaert. Download de start to run mp3 bestanden en zet ze op uw telefoon. Oortjes in\, hit the play button en en rennen maar! \n\n\n\n\nMeer informatie over zomer crosloop op Hardloopkalender.nl  \nHet loopevenement zomer crosloop te Veenhuizen vindt plaats op zaterdag 16 juni 2012. De loop wordt georganiseerd door GV Rood Zwart. Inschrijven is mogelijk vanaf 16 juni 2012. Klik hier voor het adres van de start (Google Maps).Bijzonderheden: als men 3 van de 4 seizoenslopen mee doet heeft men een leuke  prijs.Afstand SoortloopInschrijfgeldStarttijdInfo10 km3\,5010:30Voor meer informatie:H van der Meulen hermanenevelyn@hotmail.nl0642730110http:  veenhuizenactief.nl \n  \n  \n 
URL:https://hardloopevenementen.com/loopagenda/zomer-crosloop-veenhuizen-gemeente-coevorden-dr/
END:VEVENT
BEGIN:VEVENT
DTSTART;VALUE=DATE:20101003
DTEND;VALUE=DATE:20101004
DTSTAMP:20260420T120858
CREATED:20081126T144612Z
LAST-MODIFIED:20190423T100809Z
UID:3500-1286064000-1286064000@hardloopevenementen.com
SUMMARY:herfst crosloop Veenhuizen\, gemeente Coevorden (DR)
DESCRIPTION:Doe mee met het hardloopevenement herfst crosloop te Veenhuizen\, gemeente Coevorden (DR) op zo 03 okt 2010. De volgende afstanden staan op het programma: 3 km – 5 km – 10 km hardlopen. Wilt u inschrijven voor dit loopevenement?  Raadpleeg hiervoor dan de website van de organisatie\nDe uitslagen van deze hardloopwedstrijd zijn te raadplegen via dezelfde website of via de bekende websites zoals uitslagen.nl\, runtimer en mylaps. Doet u mee met dit evenement\, zorg dan dat u goed voorbereid aan de start staat! Met een goed trainingsschema komt u een heel eind. Train bijvoorbeeld met start to run van Evy Gruyaert. Download de start to run mp3 bestanden en zet ze op uw telefoon. Oortjes in\, hit the play button en en rennen maar! \n\n\n\n\nMeer informatie over herfst crosloop op Hardloopkalender.nl  \nDit loopevenement wordt georganiseerd door GV Rood Zwart.De eerste afstand (of onderdeel) start om 10:30.Het adres van de start en de finish is Kerklaan 10Categorie(ën): mannen\, vrouwen\, jeugdVooraf inschrijven is mogelijk vanaf 03 oktober 2010 tot 03 oktober 2010.Inschrijven op de dag van de loop is mogelijk (vanaf 9.30) op dit adres: sporthal aan de Kerklaan in Veenhuizen.Meer informatie:Contactpersoon: H van der MeulenTel.: 0642730110Email: hermanenevelyn@hotmail.comEr is een kleedaccomodatie aanwezig. Douchen is niet mogelijk.Het parcours is onverhard.Overige bijzonderheden:  bij deelname van 3 van de 4 seizoenslopen een prijs \n  \n  \n 
URL:https://hardloopevenementen.com/loopagenda/herfst-crosloop-veenhuizen-gemeente-coevorden-dr/
END:VEVENT
END:VCALENDAR