BEGIN:VCALENDAR
VERSION:2.0
PRODID:-//Hardloopevenementen - ECPv6.15.14//NONSGML v1.0//EN
CALSCALE:GREGORIAN
METHOD:PUBLISH
X-WR-CALNAME:Hardloopevenementen
X-ORIGINAL-URL:https://hardloopevenementen.com
X-WR-CALDESC:Evenementen voor Hardloopevenementen
REFRESH-INTERVAL;VALUE=DURATION:PT1H
X-Robots-Tag:noindex
X-PUBLISHED-TTL:PT1H
BEGIN:VTIMEZONE
TZID:UTC
BEGIN:STANDARD
TZOFFSETFROM:+0000
TZOFFSETTO:+0000
TZNAME:UTC
DTSTART:20160101T000000
END:STANDARD
END:VTIMEZONE
BEGIN:VEVENT
DTSTART;VALUE=DATE:20170121
DTEND;VALUE=DATE:20170122
DTSTAMP:20260420T064839
CREATED:20151105T101951Z
LAST-MODIFIED:20190423T114847Z
UID:15381-1484956800-1484956800@hardloopevenementen.com
SUMMARY:Running Dead Groningen (GR)
DESCRIPTION:Doe mee met het hardloopevenement Running Dead te Groningen (GR) op za 21 jan 2017. De volgende afstanden staan op het programma: 5 km hardlopen. Wilt u inschrijven voor dit loopevenement?  Raadpleeg hiervoor dan de website van de organisatie\nDe uitslagen van deze hardloopwedstrijd zijn te raadplegen via dezelfde website of via de bekende websites zoals uitslagen.nl\, runtimer en mylaps. Doet u mee met dit evenement\, zorg dan dat u goed voorbereid aan de start staat! Met een goed trainingsschema komt u een heel eind. Train bijvoorbeeld met start to run van Evy Gruyaert. Download de start to run mp3 bestanden en zet ze op uw telefoon. Oortjes in\, hit the play button en en rennen maar! \n\n\n\n\nMeer informatie over Running Dead op Hardloopkalender.nl  \nGraag stellen wij ons aan u voor\, wij zijn 6 studenten aan de Hanzehogeschool te Groningen. Op dit moment volgen wij de minor Eventmanagement. Als onderdeel voor deze minor moeten wij een event organiseren\, de gemaakte winst voor dit event gaat naar een goed doel. Wij hebben gekozen voor het Rode Kruis.    Het event wat wij organiseren is een zombie run genaamd Running Dead. Het event vindt plaats op het voormalig Suikerunie terrein te Groningen op 21 januari 2017. Dit is een obstakel run met het vernieuwd spel evenement met als thema zombies. Dit betekent niet dat je alleen de obstakel run moet lopen maar dat je ook moet uitkijken voor de zombies die tijdens de run achter je aan zitten. Het ultieme doel is\, zo min mogelijk gepakt te worden door de zombies. In Amerika is dit al een enorme rage\, wij willen dit idee graag naar Groningen brengen. \n  \n  \n 
URL:https://hardloopevenementen.com/loopagenda/running-dead-groningen-gr/
END:VEVENT
END:VCALENDAR