BEGIN:VCALENDAR
VERSION:2.0
PRODID:-//Hardloopevenementen - ECPv6.15.14//NONSGML v1.0//EN
CALSCALE:GREGORIAN
METHOD:PUBLISH
X-WR-CALNAME:Hardloopevenementen
X-ORIGINAL-URL:https://hardloopevenementen.com
X-WR-CALDESC:Evenementen voor Hardloopevenementen
REFRESH-INTERVAL;VALUE=DURATION:PT1H
X-Robots-Tag:noindex
X-PUBLISHED-TTL:PT1H
BEGIN:VTIMEZONE
TZID:UTC
BEGIN:STANDARD
TZOFFSETFROM:+0000
TZOFFSETTO:+0000
TZNAME:UTC
DTSTART:20060101T000000
END:STANDARD
END:VTIMEZONE
BEGIN:VEVENT
DTSTART;VALUE=DATE:20191221
DTEND;VALUE=DATE:20191222
DTSTAMP:20260420T135039
CREATED:20151124T032603Z
LAST-MODIFIED:20191114T112326Z
UID:142520-1576886400-1576886400@hardloopevenementen.com
SUMMARY:OVM DEO loop Borculo\, gemeente Berkelland (GE)
DESCRIPTION:Doe mee met het hardloopevenement OVM DEO loop te Borculo\, gemeente Berkelland (GE) op za 21 dec 2019. De volgende afstanden staan op het programma: 1\,5 km – 4\,6 km – 9\,1 km – 12\,7 km hardlopen. Wilt u inschrijven voor dit loopevenement?  Raadpleeg hiervoor dan de website van de organisatie\nDe uitslagen van deze hardloopwedstrijd zijn te raadplegen via dezelfde website of via de bekende websites zoals uitslagen.nl\, runtimer en mylaps. Doet u mee met dit evenement\, zorg dan dat u goed voorbereid aan de start staat! Met een goed trainingsschema komt u een heel eind. Train bijvoorbeeld met start to run van Evy Gruyaert. Download de start to run mp3 bestanden en zet ze op uw telefoon. Oortjes in\, hit the play button en en rennen maar! \n\n\n\n\nMeer informatie over OVM DEO loop op Hardloopkalender.nl  \nMooie (cross)loop door bosrijke gebied. Voor prestatie en recreatieve loper een leuke wedstrijd. \n  \n  \n 
URL:https://hardloopevenementen.com/loopagenda/ovm-deo-loop-borculo-gemeente-berkelland-ge-2/
END:VEVENT
BEGIN:VEVENT
DTSTART;VALUE=DATE:20181215
DTEND;VALUE=DATE:20181216
DTSTAMP:20260420T135039
CREATED:20150225T110214Z
LAST-MODIFIED:20190423T120111Z
UID:15565-1544832000-1544832000@hardloopevenementen.com
SUMMARY:OVM DEO loop Borculo\, gemeente Berkelland (GE)
DESCRIPTION:Doe mee met het hardloopevenement OVM DEO loop te Borculo\, gemeente Berkelland (GE) op za 15 dec 2018. De volgende afstanden staan op het programma: 1\,5 km – 4\,6 km – 9\,1 km – 12\,7 km hardlopen. Wilt u inschrijven voor dit loopevenement?  Raadpleeg hiervoor dan de website van de organisatie\nDe uitslagen van deze hardloopwedstrijd zijn te raadplegen via dezelfde website of via de bekende websites zoals uitslagen.nl\, runtimer en mylaps. Doet u mee met dit evenement\, zorg dan dat u goed voorbereid aan de start staat! Met een goed trainingsschema komt u een heel eind. Train bijvoorbeeld met start to run van Evy Gruyaert. Download de start to run mp3 bestanden en zet ze op uw telefoon. Oortjes in\, hit the play button en en rennen maar! \n\n\n\n\nMeer informatie over OVM DEO loop op Hardloopkalender.nl  \nEchte crossloop op een nieuw parcours  Sinds 2016 zijn het parcours en de afstanden gewijzigd ten opzichte van de jaren daarvoor. De OVM DEO-loop is een echte crossloop met een uitdagend grotendeels onverhard parcours\, slingerend over de bospaden en heidevelden in de Dijkhoek. \n  \n  \n 
URL:https://hardloopevenementen.com/loopagenda/ovm-deo-loop-borculo-gemeente-berkelland-ge/
END:VEVENT
BEGIN:VEVENT
DTSTART;VALUE=DATE:20161217
DTEND;VALUE=DATE:20161218
DTSTAMP:20260420T135039
CREATED:20171114T150227Z
LAST-MODIFIED:20190423T112005Z
UID:11373-1481932800-1481932800@hardloopevenementen.com
SUMMARY:DEO loop Borculo\, gemeente Berkelland (GE)
DESCRIPTION:Doe mee met het hardloopevenement DEO loop te Borculo\, gemeente Berkelland (GE) op za 17 dec 2016. De volgende afstanden staan op het programma: 2\,1 km – 5\,1 km – 10\,3 km – 14\,1 km hardlopen. Wilt u inschrijven voor dit loopevenement?  Raadpleeg hiervoor dan de website van de organisatie\nDe uitslagen van deze hardloopwedstrijd zijn te raadplegen via dezelfde website of via de bekende websites zoals uitslagen.nl\, runtimer en mylaps. Doet u mee met dit evenement\, zorg dan dat u goed voorbereid aan de start staat! Met een goed trainingsschema komt u een heel eind. Train bijvoorbeeld met start to run van Evy Gruyaert. Download de start to run mp3 bestanden en zet ze op uw telefoon. Oortjes in\, hit the play button en en rennen maar! \n\n\n\n\nMeer informatie over DEO loop op Hardloopkalender.nl  \nHet loopevenement DEO loop te Borculo vindt plaats op zaterdag 17 december 2016. \n  \n  \n 
URL:https://hardloopevenementen.com/loopagenda/deo-loop-borculo-gemeente-berkelland-ge-7/
END:VEVENT
BEGIN:VEVENT
DTSTART;VALUE=DATE:20151219
DTEND;VALUE=DATE:20151220
DTSTAMP:20260420T135039
CREATED:20121102T003317Z
LAST-MODIFIED:20190423T110638Z
UID:9202-1450483200-1450483200@hardloopevenementen.com
SUMMARY:DEO loop Borculo\, gemeente Berkelland (GE)
DESCRIPTION:Doe mee met het hardloopevenement DEO loop te Borculo\, gemeente Berkelland (GE) op za 19 dec 2015. De volgende afstanden staan op het programma: 2\,1 km – 5\,1 km – 10\,3 km – 14\,1 km hardlopen. Wilt u inschrijven voor dit loopevenement?  Raadpleeg hiervoor dan de website van de organisatie\nDe uitslagen van deze hardloopwedstrijd zijn te raadplegen via dezelfde website of via de bekende websites zoals uitslagen.nl\, runtimer en mylaps. Doet u mee met dit evenement\, zorg dan dat u goed voorbereid aan de start staat! Met een goed trainingsschema komt u een heel eind. Train bijvoorbeeld met start to run van Evy Gruyaert. Download de start to run mp3 bestanden en zet ze op uw telefoon. Oortjes in\, hit the play button en en rennen maar! \n\n\n\n\nMeer informatie over DEO loop op Hardloopkalender.nl  \nHet loopevenement DEO loop te Borculo vindt plaats op zaterdag 19 december 2015. \n  \n  \n 
URL:https://hardloopevenementen.com/loopagenda/deo-loop-borculo-gemeente-berkelland-ge-6/
END:VEVENT
BEGIN:VEVENT
DTSTART;VALUE=DATE:20141220
DTEND;VALUE=DATE:20141221
DTSTAMP:20260420T135039
CREATED:20090809T170850Z
LAST-MODIFIED:20190423T104838Z
UID:8509-1419033600-1419033600@hardloopevenementen.com
SUMMARY:DEO loop Borculo\, gemeente Berkelland (GE)
DESCRIPTION:Doe mee met het hardloopevenement DEO loop te Borculo\, gemeente Berkelland (GE) op za 20 dec 2014. De volgende afstanden staan op het programma: 2\,1 km – 5\,1 km – 10\,3 km – 14\,1 km hardlopen. Wilt u inschrijven voor dit loopevenement?  Raadpleeg hiervoor dan de website van de organisatie\nDe uitslagen van deze hardloopwedstrijd zijn te raadplegen via dezelfde website of via de bekende websites zoals uitslagen.nl\, runtimer en mylaps. Doet u mee met dit evenement\, zorg dan dat u goed voorbereid aan de start staat! Met een goed trainingsschema komt u een heel eind. Train bijvoorbeeld met start to run van Evy Gruyaert. Download de start to run mp3 bestanden en zet ze op uw telefoon. Oortjes in\, hit the play button en en rennen maar! \n\n\n\n\nMeer informatie over DEO loop op Hardloopkalender.nl  \nHet loopevenement DEO loop te Borculo vindt plaats op zaterdag 20 december 2014. De loop wordt georganisseerd door DEO. Klik hier voor het adres van de start (Google Maps). \n  \n  \n 
URL:https://hardloopevenementen.com/loopagenda/deo-loop-borculo-gemeente-berkelland-ge-5/
END:VEVENT
BEGIN:VEVENT
DTSTART;VALUE=DATE:20131221
DTEND;VALUE=DATE:20131222
DTSTAMP:20260420T135039
CREATED:20071203T005345Z
LAST-MODIFIED:20190423T103726Z
UID:7913-1387584000-1387584000@hardloopevenementen.com
SUMMARY:DEO loop Borculo\, gemeente Berkelland (GE)
DESCRIPTION:Doe mee met het hardloopevenement DEO loop te Borculo\, gemeente Berkelland (GE) op za 21 dec 2013. De volgende afstanden staan op het programma: 2\,1 km – 5\,1 km – 10\,3 km – 14\,1 km hardlopen. Wilt u inschrijven voor dit loopevenement?  Raadpleeg hiervoor dan de website van de organisatie\nDe uitslagen van deze hardloopwedstrijd zijn te raadplegen via dezelfde website of via de bekende websites zoals uitslagen.nl\, runtimer en mylaps. Doet u mee met dit evenement\, zorg dan dat u goed voorbereid aan de start staat! Met een goed trainingsschema komt u een heel eind. Train bijvoorbeeld met start to run van Evy Gruyaert. Download de start to run mp3 bestanden en zet ze op uw telefoon. Oortjes in\, hit the play button en en rennen maar! \n\n\n\n\nMeer informatie over DEO loop op Hardloopkalender.nl  \nHet loopevenement DEO loop te Borculo vindt plaats op zaterdag 21 december 2013. De loop wordt georganisseerd door DEO. Inschrijven is mogelijk vanaf 01 november 2013. Klik hier voor het adres van de start (Google Maps).Er is verkleedaccomodatie met douchemogelijkheid aanwezig. Er is EHBO aanwezig. Voor meer informatie:B. Dibbelinkinfo@vvdeo.nl0545275911http:  www.vvdeo.nl \n  \n  \n 
URL:https://hardloopevenementen.com/loopagenda/deo-loop-borculo-gemeente-berkelland-ge-4/
END:VEVENT
BEGIN:VEVENT
DTSTART;VALUE=DATE:20111217
DTEND;VALUE=DATE:20111218
DTSTAMP:20260420T135039
CREATED:20090601T002336Z
LAST-MODIFIED:20190423T101631Z
UID:5790-1324080000-1324080000@hardloopevenementen.com
SUMMARY:DEO loop Borculo\, gemeente Berkelland (GE)
DESCRIPTION:Doe mee met het hardloopevenement DEO loop te Borculo\, gemeente Berkelland (GE) op za 17 dec 2011. De volgende afstanden staan op het programma: 2\,7 km – 5\,3 km – 10\,1 km – 14\,1 km hardlopen. Wilt u inschrijven voor dit loopevenement?  Raadpleeg hiervoor dan de website van de organisatie\nDe uitslagen van deze hardloopwedstrijd zijn te raadplegen via dezelfde website of via de bekende websites zoals uitslagen.nl\, runtimer en mylaps. Doet u mee met dit evenement\, zorg dan dat u goed voorbereid aan de start staat! Met een goed trainingsschema komt u een heel eind. Train bijvoorbeeld met start to run van Evy Gruyaert. Download de start to run mp3 bestanden en zet ze op uw telefoon. Oortjes in\, hit the play button en en rennen maar! \n\n\n\n\nMeer informatie over DEO loop op Hardloopkalender.nl  \nHet loopevenement DEO loop te Borculo vindt plaats op zaterdag 17 december 2011. De loop wordt georganiseerd door DEO. Inschrijven is mogelijk vanaf 01 november 2010. Klik hier voor het adres van de start (Google Maps).Er is verkleedaccomodatie met douchemogelijkheid aanwezig. Er is EHBO aanwezig. Afstand(km)Inschrijfgeld(€)Starttijd2\,1€2\,0013.005\,1€4\,0013.3010\,3€4\,0013.3014\,1€4\,0013.30Voor meer informatie:B. Dibbelinkinfo@vvdeo.nl0545275911http:  www.vvdeo.nl \n  \n  \n 
URL:https://hardloopevenementen.com/loopagenda/deo-loop-borculo-gemeente-berkelland-ge-3/
END:VEVENT
BEGIN:VEVENT
DTSTART;VALUE=DATE:20101218
DTEND;VALUE=DATE:20101219
DTSTAMP:20260420T135039
CREATED:20100329T121543Z
LAST-MODIFIED:20190423T100546Z
UID:3078-1292630400-1292630400@hardloopevenementen.com
SUMMARY:DEO loop Borculo\, gemeente Berkelland (GE)
DESCRIPTION:Doe mee met het hardloopevenement DEO loop te Borculo\, gemeente Berkelland (GE) op za 18 dec 2010. De volgende afstanden staan op het programma: 2\,7 km – 5\,3 km – 10\,1 km – 14\,1 km hardlopen. Wilt u inschrijven voor dit loopevenement?  Raadpleeg hiervoor dan de website van de organisatie\nDe uitslagen van deze hardloopwedstrijd zijn te raadplegen via dezelfde website of via de bekende websites zoals uitslagen.nl\, runtimer en mylaps. Doet u mee met dit evenement\, zorg dan dat u goed voorbereid aan de start staat! Met een goed trainingsschema komt u een heel eind. Train bijvoorbeeld met start to run van Evy Gruyaert. Download de start to run mp3 bestanden en zet ze op uw telefoon. Oortjes in\, hit the play button en en rennen maar! \n\n\n\n\nMeer informatie over DEO loop op Hardloopkalender.nl  \nDit loopevenement wordt georganiseerd door DEO.De eerste afstand (of onderdeel) start om 13:00.Het adres van de start en de finish is Platvoetsdijk 8Categorie(ën): mannen\, vrouwenVooraf inschrijven is mogelijk vanaf 01 november 2010 tot 17 december 2009.Inschrijven op de dag van de loop is mogelijk (vanaf 12.00) op dit adres: Platvoetsdijk 8  Borculo.Meer informatie:Contactpersoon: B. DibbelinkTel.: 0545275911Email: info@vvdeo.nlEr is een kleedaccomodatie aanwezig. Douchen is mogelijk.Het parcours is deels onverhard.Vorig jaar deden er 200 lopers mee aan dit evenement.Overige bijzonderheden:  Coopertest: 19.30 uur  5 km baanloop: 20.00 uur \n  \n  \n 
URL:https://hardloopevenementen.com/loopagenda/deo-loop-borculo-gemeente-berkelland-ge-2/
END:VEVENT
BEGIN:VEVENT
DTSTART;VALUE=DATE:20091219
DTEND;VALUE=DATE:20091220
DTSTAMP:20260420T135039
CREATED:20061118T055848Z
LAST-MODIFIED:20190423T095627Z
UID:1294-1261180800-1261180800@hardloopevenementen.com
SUMMARY:DEO loop Borculo\, gemeente Berkelland (GE)
DESCRIPTION:Doe mee met het hardloopevenement DEO loop te Borculo\, gemeente Berkelland (GE) op za 19 dec 2009. De volgende afstanden staan op het programma: 2\,5 km – 5 km – 10\,5 km – 14\,5 km hardlopen. Wilt u inschrijven voor dit loopevenement?  Raadpleeg hiervoor dan de website van de organisatie\nDe uitslagen van deze hardloopwedstrijd zijn te raadplegen via dezelfde website of via de bekende websites zoals uitslagen.nl\, runtimer en mylaps. Doet u mee met dit evenement\, zorg dan dat u goed voorbereid aan de start staat! Met een goed trainingsschema komt u een heel eind. Train bijvoorbeeld met start to run van Evy Gruyaert. Download de start to run mp3 bestanden en zet ze op uw telefoon. Oortjes in\, hit the play button en en rennen maar! \n\n\n\n\nMeer informatie over DEO loop op Hardloopkalender.nl  \n2\,5 km 13:00 uur\, 5-10\,5-14\,5 km 13:30 uur \n  \n  \n 
URL:https://hardloopevenementen.com/loopagenda/deo-loop-borculo-gemeente-berkelland-ge/
END:VEVENT
BEGIN:VEVENT
DTSTART;VALUE=DATE:20081220
DTEND;VALUE=DATE:20081221
DTSTAMP:20260420T135039
CREATED:20150617T222227Z
LAST-MODIFIED:20190423T094312Z
UID:897-1229731200-1229731200@hardloopevenementen.com
SUMMARY:DEO loop Borculo
DESCRIPTION:Doe mee met het hardloopevenement DEO loop te Borculo op za 20 dec 2008. De volgende afstanden staan op het programma: 2\,5 km – 5 km – 10\,5 km – 14\,5 km hardlopen. Wilt u inschrijven voor dit loopevenement?  Raadpleeg hiervoor dan de website van de organisatie\nDe uitslagen van deze hardloopwedstrijd zijn te raadplegen via dezelfde website of via de bekende websites zoals uitslagen.nl\, runtimer en mylaps. Doet u mee met dit evenement\, zorg dan dat u goed voorbereid aan de start staat! Met een goed trainingsschema komt u een heel eind. Train bijvoorbeeld met start to run van Evy Gruyaert. Download de start to run mp3 bestanden en zet ze op uw telefoon. Oortjes in\, hit the play button en en rennen maar! \n\n\n\n\nMeer informatie over DEO loop op Hardloopkalender.nl  \nstart   2\,5 km 13:00 uur  5-10\,5-14\,5 km 13:30 uur \n  \n  \n 
URL:https://hardloopevenementen.com/loopagenda/deo-loop-borculo-2/
END:VEVENT
BEGIN:VEVENT
DTSTART;VALUE=DATE:20071215
DTEND;VALUE=DATE:20071216
DTSTAMP:20260420T135039
CREATED:20120426T162949Z
LAST-MODIFIED:20190423T093808Z
UID:72-1197676800-1197676800@hardloopevenementen.com
SUMMARY:DEO loop Borculo
DESCRIPTION:Doe mee met het hardloopevenement DEO loop te Borculo op za 15 dec 2007. De volgende afstanden staan op het programma: 2\,5 km – 5 km – 10\,5 km – 14\,5 km hardlopen. Wilt u inschrijven voor dit loopevenement?  Raadpleeg hiervoor dan de website van de organisatie\nDe uitslagen van deze hardloopwedstrijd zijn te raadplegen via dezelfde website of via de bekende websites zoals uitslagen.nl\, runtimer en mylaps. Doet u mee met dit evenement\, zorg dan dat u goed voorbereid aan de start staat! Met een goed trainingsschema komt u een heel eind. Train bijvoorbeeld met start to run van Evy Gruyaert. Download de start to run mp3 bestanden en zet ze op uw telefoon. Oortjes in\, hit the play button en en rennen maar! \n\n\n\n\nMeer informatie over DEO loop op Hardloopkalender.nl  \n  \n  \n 
URL:https://hardloopevenementen.com/loopagenda/deo-loop-borculo/
END:VEVENT
END:VCALENDAR