BEGIN:VCALENDAR
VERSION:2.0
PRODID:-//Hardloopevenementen - ECPv6.15.14//NONSGML v1.0//EN
CALSCALE:GREGORIAN
METHOD:PUBLISH
X-ORIGINAL-URL:https://hardloopevenementen.com
X-WR-CALDESC:Evenementen voor Hardloopevenementen
REFRESH-INTERVAL;VALUE=DURATION:PT1H
X-Robots-Tag:noindex
X-PUBLISHED-TTL:PT1H
BEGIN:VTIMEZONE
TZID:UTC
BEGIN:STANDARD
TZOFFSETFROM:+0000
TZOFFSETTO:+0000
TZNAME:UTC
DTSTART:20070101T000000
END:STANDARD
END:VTIMEZONE
BEGIN:VEVENT
DTSTART;VALUE=DATE:20150418
DTEND;VALUE=DATE:20150419
DTSTAMP:20260421T004102
CREATED:20071111T165354Z
LAST-MODIFIED:20190423T111302Z
UID:10663-1429315200-1429315200@hardloopevenementen.com
SUMMARY:DES 1 2 marathonloop Eersel (NB)
DESCRIPTION:Doe mee met het hardloopevenement DES 1 2 marathonloop te Eersel (NB) op za 18 apr 2015. De volgende afstanden staan op het programma: 10 km – halve marathon hardlopen. Wilt u inschrijven voor dit loopevenement?  Raadpleeg hiervoor dan de website van de organisatie\nDe uitslagen van deze hardloopwedstrijd zijn te raadplegen via dezelfde website of via de bekende websites zoals uitslagen.nl\, runtimer en mylaps. Doet u mee met dit evenement\, zorg dan dat u goed voorbereid aan de start staat! Met een goed trainingsschema komt u een heel eind. Train bijvoorbeeld met start to run van Evy Gruyaert. Download de start to run mp3 bestanden en zet ze op uw telefoon. Oortjes in\, hit the play button en en rennen maar! \n\n\n\n\nMeer informatie over DES 1 2 marathonloop op Hardloopkalender.nl  \nHet loopevenement DES 1 2 marathonloop te Eersel vindt plaats op zaterdag 18 april 2015. \n  \n  \n 
URL:https://hardloopevenementen.com/loopagenda/des-1-2-marathonloop-eersel-nb/
END:VEVENT
BEGIN:VEVENT
DTSTART;VALUE=DATE:20140215
DTEND;VALUE=DATE:20140216
DTSTAMP:20260421T004102
CREATED:20080907T044322Z
LAST-MODIFIED:20190423T105759Z
UID:34685-1392422400-1392422400@hardloopevenementen.com
SUMMARY:DES 1 2 marathonloop Eersel (NB)
DESCRIPTION:Doe mee met het hardloopevenement DES 1 2 marathonloop te Eersel (NB) op za 15 feb 2014. De volgende afstanden staan op het programma: 5 km – 10 km – halve marathon hardlopen. Wilt u inschrijven voor dit loopevenement?  Raadpleeg hiervoor dan de website van de organisatie\nDe uitslagen van deze hardloopwedstrijd zijn te raadplegen via dezelfde website of via de bekende websites zoals uitslagen.nl\, runtimer en mylaps. Doet u mee met dit evenement\, zorg dan dat u goed voorbereid aan de start staat! Met een goed trainingsschema komt u een heel eind. Train bijvoorbeeld met start to run van Evy Gruyaert. Download de start to run mp3 bestanden en zet ze op uw telefoon. Oortjes in\, hit the play button en en rennen maar! \n\n\n\n\nMeer informatie over DES 1 2 marathonloop op Hardloopkalender.nl  \nHet loopevenement DES 1 2 marathonloop te Eersel vindt plaats op zaterdag 15 februari 2014. De loop wordt georganisseerd door DES. Klik hier voor het adres van de start (Google Maps).Bijzonderheden: Verhard parcours in bosrijke omgeving. Een belangrijk deel is fietspad. \n  \n  \n 
URL:https://hardloopevenementen.com/loopagenda/des-1-2-marathonloop-eersel-nb-3/
END:VEVENT
BEGIN:VEVENT
DTSTART;VALUE=DATE:20130302
DTEND;VALUE=DATE:20130303
DTSTAMP:20260421T004102
CREATED:20170315T113855Z
LAST-MODIFIED:20190423T104444Z
UID:32190-1362182400-1362182400@hardloopevenementen.com
SUMMARY:DES 1 2 marathonloop Eersel (NB)
DESCRIPTION:Doe mee met het hardloopevenement DES 1 2 marathonloop te Eersel (NB) op za 02 mrt 2013. De volgende afstanden staan op het programma: 5 km – 10 km – halve marathon hardlopen. Wilt u inschrijven voor dit loopevenement?  Raadpleeg hiervoor dan de website van de organisatie\nDe uitslagen van deze hardloopwedstrijd zijn te raadplegen via dezelfde website of via de bekende websites zoals uitslagen.nl\, runtimer en mylaps. Doet u mee met dit evenement\, zorg dan dat u goed voorbereid aan de start staat! Met een goed trainingsschema komt u een heel eind. Train bijvoorbeeld met start to run van Evy Gruyaert. Download de start to run mp3 bestanden en zet ze op uw telefoon. Oortjes in\, hit the play button en en rennen maar! \n\n\n\n\nMeer informatie over DES 1 2 marathonloop op Hardloopkalender.nl  \nHet loopevenement DES 1 2 marathonloop te Eersel vindt plaats op zaterdag 02 maart 2013. De loop wordt georganisseerd door DES. Inschrijven is mogelijk vanaf 15 december 2012. Klik hier voor het adres van de start (Google Maps).Er is verkleedaccomodatie met douchemogelijkheid aanwezig. Er is EHBO aanwezig. Bijzonderheden: Verhard parcours in bosrijke omgeving. Een belangrijk deel is fietspad.Voor meer informatie:Kees Timmermanswedstrijden.avdes@gmail.com0646704051http:  www.avdes.nl \n  \n  \n 
URL:https://hardloopevenementen.com/loopagenda/des-1-2-marathonloop-eersel-nb-2/
END:VEVENT
BEGIN:VEVENT
DTSTART;VALUE=DATE:20120225
DTEND;VALUE=DATE:20120226
DTSTAMP:20260421T004102
CREATED:20111112T013932Z
LAST-MODIFIED:20190423T103417Z
UID:28823-1330128000-1330128000@hardloopevenementen.com
SUMMARY:DES halve marathonloop Eersel (NB)
DESCRIPTION:Doe mee met het hardloopevenement DES halve marathonloop te Eersel (NB) op za 25 feb 2012. De volgende afstanden staan op het programma: 5 km – 10 km – halve marathon hardlopen. Wilt u inschrijven voor dit loopevenement?  Raadpleeg hiervoor dan de website van de organisatie\nDe uitslagen van deze hardloopwedstrijd zijn te raadplegen via dezelfde website of via de bekende websites zoals uitslagen.nl\, runtimer en mylaps. Doet u mee met dit evenement\, zorg dan dat u goed voorbereid aan de start staat! Met een goed trainingsschema komt u een heel eind. Train bijvoorbeeld met start to run van Evy Gruyaert. Download de start to run mp3 bestanden en zet ze op uw telefoon. Oortjes in\, hit the play button en en rennen maar! \n\n\n\n\nMeer informatie over DES halve marathonloop op Hardloopkalender.nl  \nHet loopevenement DES 1 2 marathonloop te Eersel vindt plaats op zaterdag 25 februari 2012. De loop wordt georganiseerd door DES. Inschrijven is mogelijk vanaf 15 november 2011. Klik hier voor het adres van de start (Google Maps).Er is EHBO aanwezig. Bijzonderheden: Verhard parcours in bosrijke omgeving. Een belangrijk deel is fietspad.Afstand SoortloopInschrijfgeldStarttijdInfo21 km5\,0011:0010 km4\,0011:005 km3\,0011:10Voor meer informatie:Toon Wouterswedstrijden.avdes@gmail.com0497573821http:  avdes.dse.nl \n  \n  \n 
URL:https://hardloopevenementen.com/loopagenda/des-halve-marathonloop-eersel-nb/
END:VEVENT
BEGIN:VEVENT
DTSTART;VALUE=DATE:20110219
DTEND;VALUE=DATE:20110220
DTSTAMP:20260421T004102
CREATED:20090531T081217Z
LAST-MODIFIED:20190423T102351Z
UID:26861-1298073600-1298073600@hardloopevenementen.com
SUMMARY:DES 12 marathonloop Eersel (NB)
DESCRIPTION:Doe mee met het hardloopevenement DES 12 marathonloop te Eersel (NB) op za 19 feb 2011. De volgende afstanden staan op het programma: 5 km – 10\,5 km – halve marathon hardlopen. Wilt u inschrijven voor dit loopevenement?  Raadpleeg hiervoor dan de website van de organisatie\nDe uitslagen van deze hardloopwedstrijd zijn te raadplegen via dezelfde website of via de bekende websites zoals uitslagen.nl\, runtimer en mylaps. Doet u mee met dit evenement\, zorg dan dat u goed voorbereid aan de start staat! Met een goed trainingsschema komt u een heel eind. Train bijvoorbeeld met start to run van Evy Gruyaert. Download de start to run mp3 bestanden en zet ze op uw telefoon. Oortjes in\, hit the play button en en rennen maar! \n\n\n\n\nMeer informatie over DES 12 marathonloop op Hardloopkalender.nl  \nHet loopevenement DES 1 2 marathonloop te Eersel vindt plaats op zaterdag 19 februari 2011. De loop wordt georganiseerd door DES. Inschrijven is mogelijk vanaf 15 december 2009. Klik hier voor het adres van de start (Google Maps).Er is verkleedaccomodatie met douchemogelijkheid aanwezig. Er is EHBO aanwezig. Bijzonderheden: Verhard parcours in bosrijke omgeving. Een belangrijk deel is fietspad.Afstand(km)Inschrijfgeld(€)Starttijd21\,1€5\,0011:0010\,5€4\,0011:005€3\,0011:10Voor meer informatie:Toon Wouterswedstrijden.avdes@gmail.com0497573821http:  avdes.dse.nl \n  \n  \n 
URL:https://hardloopevenementen.com/loopagenda/des-12-marathonloop-eersel-nb/
END:VEVENT
BEGIN:VEVENT
DTSTART;VALUE=DATE:20090228
DTEND;VALUE=DATE:20090301
DTSTAMP:20260421T004102
CREATED:20140625T083909Z
LAST-MODIFIED:20190423T100307Z
UID:2729-1235779200-1235779200@hardloopevenementen.com
SUMMARY:29e DES Halve Marathon Jan Kolenloop Eersel (NB)
DESCRIPTION:Doe mee met het hardloopevenement 29e DES Halve Marathon Jan Kolenloop te Eersel (NB) op za 28 feb 2009. De volgende afstanden staan op het programma: 5 km – 10\,5 km – halve marathon hardlopen. Wilt u inschrijven voor dit loopevenement?  Raadpleeg hiervoor dan de website van de organisatie\nDe uitslagen van deze hardloopwedstrijd zijn te raadplegen via dezelfde website of via de bekende websites zoals uitslagen.nl\, runtimer en mylaps. Doet u mee met dit evenement\, zorg dan dat u goed voorbereid aan de start staat! Met een goed trainingsschema komt u een heel eind. Train bijvoorbeeld met start to run van Evy Gruyaert. Download de start to run mp3 bestanden en zet ze op uw telefoon. Oortjes in\, hit the play button en en rennen maar! \n\n\n\n\nMeer informatie over 29e DES Halve Marathon Jan Kolenloop op Hardloopkalender.nl  \n5-10\,5-21\,1 km 11:00 uur \n  \n  \n 
URL:https://hardloopevenementen.com/loopagenda/29e-des-halve-marathon-jan-kolenloop-eersel-nb/
END:VEVENT
BEGIN:VEVENT
DTSTART;VALUE=DATE:20090118
DTEND;VALUE=DATE:20090119
DTSTAMP:20260421T004102
CREATED:20071010T204351Z
LAST-MODIFIED:20190423T100354Z
UID:2902-1232236800-1232236800@hardloopevenementen.com
SUMMARY:8e DES Dieptijt Cross Eersel (NB)
DESCRIPTION:Doe mee met het hardloopevenement 8e DES Dieptijt Cross te Eersel (NB) op zo 18 jan 2009. De volgende afstanden staan op het programma: 3 km – 4\,5 km – 6 km – 7\,5 km – 9 km hardlopen. Wilt u inschrijven voor dit loopevenement?  Raadpleeg hiervoor dan de website van de organisatie\nDe uitslagen van deze hardloopwedstrijd zijn te raadplegen via dezelfde website of via de bekende websites zoals uitslagen.nl\, runtimer en mylaps. Doet u mee met dit evenement\, zorg dan dat u goed voorbereid aan de start staat! Met een goed trainingsschema komt u een heel eind. Train bijvoorbeeld met start to run van Evy Gruyaert. Download de start to run mp3 bestanden en zet ze op uw telefoon. Oortjes in\, hit the play button en en rennen maar! \n\n\n\n\nMeer informatie over 8e DES Dieptijt Cross op Hardloopkalender.nl  \n3-4\,5-6-7\,5-9 km 10:00 uur\, 9 km 11:00 uur\, 6 km 12:00 uur \n  \n  \n 
URL:https://hardloopevenementen.com/loopagenda/8e-des-dieptijt-cross-eersel-nb/
END:VEVENT
BEGIN:VEVENT
DTSTART;VALUE=DATE:20080301
DTEND;VALUE=DATE:20080302
DTSTAMP:20260421T004102
CREATED:20130822T055752Z
LAST-MODIFIED:20190423T094856Z
UID:20108-1204329600-1204329600@hardloopevenementen.com
SUMMARY:28e DES Halve Marathon Jan Kolenloop Eersel
DESCRIPTION:Doe mee met het hardloopevenement 28e DES Halve Marathon Jan Kolenloop te Eersel op za 01 mrt 2008. De volgende afstanden staan op het programma: 10\,5 km – halve marathon hardlopen. Wilt u inschrijven voor dit loopevenement?  Raadpleeg hiervoor dan de website van de organisatie\nDe uitslagen van deze hardloopwedstrijd zijn te raadplegen via dezelfde website of via de bekende websites zoals uitslagen.nl\, runtimer en mylaps. Doet u mee met dit evenement\, zorg dan dat u goed voorbereid aan de start staat! Met een goed trainingsschema komt u een heel eind. Train bijvoorbeeld met start to run van Evy Gruyaert. Download de start to run mp3 bestanden en zet ze op uw telefoon. Oortjes in\, hit the play button en en rennen maar! \n\n\n\n\nMeer informatie over 28e DES Halve Marathon Jan Kolenloop op Hardloopkalender.nl  \n10\,5-21\,1 km 11:00 uur  Sportpark Postelseweg  Eersel  Telefoonnummer: 0497-514077 \n  \n  \n 
URL:https://hardloopevenementen.com/loopagenda/28e-des-halve-marathon-jan-kolenloop-eersel/
END:VEVENT
BEGIN:VEVENT
DTSTART;VALUE=DATE:20080120
DTEND;VALUE=DATE:20080121
DTSTAMP:20260421T004102
CREATED:20061215T183856Z
LAST-MODIFIED:20190423T094937Z
UID:20286-1200787200-1200787200@hardloopevenementen.com
SUMMARY:7e DES Dieprijt Cross Eersel
DESCRIPTION:Doe mee met het hardloopevenement 7e DES Dieprijt Cross te Eersel op zo 20 jan 2008. De volgende afstanden staan op het programma: 3 km – 4\,5 km – 6 km – 7\,5 km – 9 km hardlopen. Wilt u inschrijven voor dit loopevenement?  Raadpleeg hiervoor dan de website van de organisatie\nDe uitslagen van deze hardloopwedstrijd zijn te raadplegen via dezelfde website of via de bekende websites zoals uitslagen.nl\, runtimer en mylaps. Doet u mee met dit evenement\, zorg dan dat u goed voorbereid aan de start staat! Met een goed trainingsschema komt u een heel eind. Train bijvoorbeeld met start to run van Evy Gruyaert. Download de start to run mp3 bestanden en zet ze op uw telefoon. Oortjes in\, hit the play button en en rennen maar! \n\n\n\n\nMeer informatie over 7e DES Dieprijt Cross op Hardloopkalender.nl  \n3-4\,5-6-7\,5-9 km 10:00 uur\, 9 km 11:00 uur\, 6 km 12:00 uur \n  \n  \n 
URL:https://hardloopevenementen.com/loopagenda/7e-des-dieprijt-cross-eersel/
END:VEVENT
END:VCALENDAR