BEGIN:VCALENDAR
VERSION:2.0
PRODID:-//Hardloopevenementen - ECPv6.15.14//NONSGML v1.0//EN
CALSCALE:GREGORIAN
METHOD:PUBLISH
X-WR-CALNAME:Hardloopevenementen
X-ORIGINAL-URL:https://hardloopevenementen.com
X-WR-CALDESC:Evenementen voor Hardloopevenementen
REFRESH-INTERVAL;VALUE=DURATION:PT1H
X-Robots-Tag:noindex
X-PUBLISHED-TTL:PT1H
BEGIN:VTIMEZONE
TZID:UTC
BEGIN:STANDARD
TZOFFSETFROM:+0000
TZOFFSETTO:+0000
TZNAME:UTC
DTSTART:20090101T000000
END:STANDARD
END:VTIMEZONE
BEGIN:VEVENT
DTSTART;VALUE=DATE:20100117
DTEND;VALUE=DATE:20100118
DTSTAMP:20260422T074436
CREATED:20090208T070819Z
LAST-MODIFIED:20190423T101442Z
UID:24117-1263686400-1263686400@hardloopevenementen.com
SUMMARY:Dieprijtcros Eersel (NB)
DESCRIPTION:Doe mee met het hardloopevenement Dieprijtcros te Eersel (NB) op zo 17 jan 2010. De volgende afstanden staan op het programma: 9 km hardlopen. Wilt u inschrijven voor dit loopevenement?  Raadpleeg hiervoor dan de website van de organisatie\nDe uitslagen van deze hardloopwedstrijd zijn te raadplegen via dezelfde website of via de bekende websites zoals uitslagen.nl\, runtimer en mylaps. Doet u mee met dit evenement\, zorg dan dat u goed voorbereid aan de start staat! Met een goed trainingsschema komt u een heel eind. Train bijvoorbeeld met start to run van Evy Gruyaert. Download de start to run mp3 bestanden en zet ze op uw telefoon. Oortjes in\, hit the play button en en rennen maar! \n\n\n\n\nMeer informatie over Dieprijtcros op Hardloopkalender.nl  \nDit loopevenement wordt georganiseerd door DES.De eerste afstand (of onderdeel) start om 10:00.Het adres van de start en de finish is Postelseweg 76Categorie(ën): mannen\, vrouwen\, jeugdVooraf inschrijven is mogelijk vanaf 12 december 2009 tot 13 januari 2010.Inschrijven op de dag van de loop is mogelijk (vanaf 9:00 uur) op dit adres: Postelseweg.Meer informatie:Contactpersoon: Toon WoutersTel.: 0497573821Email: wedstrijden.avdes@gmail.comEr is een kleedaccomodatie aanwezig. Douchen is niet mogelijk.Het parcours is onverhard.Overige bijzonderheden:  Crosloop 10:00 uur trimmers. vanaf 11:00 uur wedstrijd \n  \n  \n 
URL:https://hardloopevenementen.com/loopagenda/dieprijtcros-eersel-nb/
END:VEVENT
END:VCALENDAR