BEGIN:VCALENDAR
VERSION:2.0
PRODID:-//Hardloopevenementen - ECPv6.15.14//NONSGML v1.0//EN
CALSCALE:GREGORIAN
METHOD:PUBLISH
X-ORIGINAL-URL:https://hardloopevenementen.com
X-WR-CALDESC:Evenementen voor Hardloopevenementen
REFRESH-INTERVAL;VALUE=DURATION:PT1H
X-Robots-Tag:noindex
X-PUBLISHED-TTL:PT1H
BEGIN:VTIMEZONE
TZID:UTC
BEGIN:STANDARD
TZOFFSETFROM:+0000
TZOFFSETTO:+0000
TZNAME:UTC
DTSTART:20080101T000000
END:STANDARD
END:VTIMEZONE
BEGIN:VEVENT
DTSTART;VALUE=DATE:20121215
DTEND;VALUE=DATE:20121216
DTSTAMP:20260422T003629
CREATED:20100129T140623Z
LAST-MODIFIED:20190423T102707Z
UID:7182-1355529600-1355529600@hardloopevenementen.com
SUMMARY:crossloop Veenhuizen Dr Veenhuizen\, gemeente Noordenveld (DR)
DESCRIPTION:Doe mee met het hardloopevenement crossloop Veenhuizen Dr te Veenhuizen\, gemeente Noordenveld (DR) op za 15 dec 2012. De volgende afstanden staan op het programma: 3 km – 5 km – 10 km hardlopen. Wilt u inschrijven voor dit loopevenement?  Raadpleeg hiervoor dan de website van de organisatie\nDe uitslagen van deze hardloopwedstrijd zijn te raadplegen via dezelfde website of via de bekende websites zoals uitslagen.nl\, runtimer en mylaps. Doet u mee met dit evenement\, zorg dan dat u goed voorbereid aan de start staat! Met een goed trainingsschema komt u een heel eind. Train bijvoorbeeld met start to run van Evy Gruyaert. Download de start to run mp3 bestanden en zet ze op uw telefoon. Oortjes in\, hit the play button en en rennen maar! \n\n\n\n\nMeer informatie over crossloop Veenhuizen Dr op Hardloopkalender.nl  \nDe crossloop vindt 4 keer per jaar plaats.    De route gaat door de bossen en langs de heidevelden even buiten de dorpskern van Veenhuizen    Elke afstand heeft zo zijn eigen route.    De afstanden om te lopen zijn 3\, 5 en 10 kilometer.    Wanneer er 3 van de 4 crossen gelopen zijn\, krijgt U bij de laatste loop in december een leuke herinnering.    De cross start bij de sporthal aan de Kerklaan te Veenhuizen    In de sporthal is gelegenheid voor het omkleden en douchen    Inschrijven kan vanaf 9.30 uur en de start is om 10.30 uur. Vooraf inschrijven is niet mogelijk. Meer informatie is te vinden op www.veenhuizenactief.nl onder het kopje gym. Op de website worden ook de uitslagen gepubliceerd. \n  \n  \n 
URL:https://hardloopevenementen.com/loopagenda/crossloop-veenhuizen-dr-veenhuizen-gemeente-noordenveld-dr/
END:VEVENT
BEGIN:VEVENT
DTSTART;VALUE=DATE:20121013
DTEND;VALUE=DATE:20121014
DTSTAMP:20260422T003629
CREATED:20130129T102830Z
LAST-MODIFIED:20190423T102853Z
UID:7573-1350086400-1350086400@hardloopevenementen.com
SUMMARY:crossloop Veenhuizen Dr Veenhuizen\, gemeente Noordenveld (DR)
DESCRIPTION:Doe mee met het hardloopevenement crossloop Veenhuizen Dr te Veenhuizen\, gemeente Noordenveld (DR) op za 13 okt 2012. De volgende afstanden staan op het programma: 3 km – 5 km – 10 km hardlopen. Wilt u inschrijven voor dit loopevenement?  Raadpleeg hiervoor dan de website van de organisatie\nDe uitslagen van deze hardloopwedstrijd zijn te raadplegen via dezelfde website of via de bekende websites zoals uitslagen.nl\, runtimer en mylaps. Doet u mee met dit evenement\, zorg dan dat u goed voorbereid aan de start staat! Met een goed trainingsschema komt u een heel eind. Train bijvoorbeeld met start to run van Evy Gruyaert. Download de start to run mp3 bestanden en zet ze op uw telefoon. Oortjes in\, hit the play button en en rennen maar! \n\n\n\n\nMeer informatie over crossloop Veenhuizen Dr op Hardloopkalender.nl  \nDe crossloop vindt 4 keer per jaar plaats.    De route gaat door de bossen en langs de heidevelden even buiten de dorpskern van Veenhuizen    Elke afstand heeft zo zijn eigen route.    De afstanden om te lopen zijn 3\, 5 en 10 kilometer.    Wanneer er 3 van de 4 crossen gelopen zijn\, krijgt U bij de laatste loop in december een leuke herinnering.    De cross start bij de sporthal aan de Kerklaan te Veenhuizen    In de sporthal is gelegenheid voor het omkleden en douchen    Inschrijven kan vanaf 9.30 uur en de start is om 10.30 uur. Vooraf inschrijven is niet mogelijk. Meer informatie is te vinden op www.veenhuizenactief.nl onder het kopje gym. Op de website worden ook de uitslagen gepubliceerd. \n  \n  \n 
URL:https://hardloopevenementen.com/loopagenda/crossloop-veenhuizen-dr-veenhuizen-gemeente-noordenveld-dr-2/
END:VEVENT
BEGIN:VEVENT
DTSTART;VALUE=DATE:20120616
DTEND;VALUE=DATE:20120617
DTSTAMP:20260422T003629
CREATED:20120209T210204Z
LAST-MODIFIED:20190423T103134Z
UID:28165-1339804800-1339804800@hardloopevenementen.com
SUMMARY:crossloop Veenhuizen Dr Veenhuizen\, gemeente Noordenveld (DR)
DESCRIPTION:Doe mee met het hardloopevenement crossloop Veenhuizen Dr te Veenhuizen\, gemeente Noordenveld (DR) op za 16 jun 2012. De volgende afstanden staan op het programma: 3 km – 5 km – 10 km hardlopen. Wilt u inschrijven voor dit loopevenement?  Raadpleeg hiervoor dan de website van de organisatie\nDe uitslagen van deze hardloopwedstrijd zijn te raadplegen via dezelfde website of via de bekende websites zoals uitslagen.nl\, runtimer en mylaps. Doet u mee met dit evenement\, zorg dan dat u goed voorbereid aan de start staat! Met een goed trainingsschema komt u een heel eind. Train bijvoorbeeld met start to run van Evy Gruyaert. Download de start to run mp3 bestanden en zet ze op uw telefoon. Oortjes in\, hit the play button en en rennen maar! \n\n\n\n\nMeer informatie over crossloop Veenhuizen Dr op Hardloopkalender.nl  \nDe crossloop vindt 4 keer per jaar plaats.    De route gaat door de bossen en langs de heidevelden even buiten de dorpskern van Veenhuizen    Elke afstand heeft zo zijn eigen route.    De afstanden om te lopen zijn 3\, 5 en 10 kilometer.    Wanneer er 3 van de 4 crossen gelopen zijn\, krijgt U bij de laatste loop in december een leuke herinnering.    De cross start bij de sporthal aan de Kerklaan te Veenhuizen    In de sporthal is gelegenheid voor het omkleden en douchen    Inschrijven kan vanaf 9.30 uur en de start is om 10.30 uur. Vooraf inschrijven is niet mogelijk. Meer informatie is te vinden op www.veenhuizenactief.nl onder het kopje gym. Op de website worden ook de uitslagen gepubliceerd. \n  \n  \n 
URL:https://hardloopevenementen.com/loopagenda/crossloop-veenhuizen-dr-veenhuizen-gemeente-noordenveld-dr-3/
END:VEVENT
BEGIN:VEVENT
DTSTART;VALUE=DATE:20120317
DTEND;VALUE=DATE:20120318
DTSTAMP:20260422T003629
CREATED:20171125T080753Z
LAST-MODIFIED:20190423T103348Z
UID:28700-1331942400-1331942400@hardloopevenementen.com
SUMMARY:crossloop Veenhuizen Dr Veenhuizen\, gemeente Noordenveld (DR)
DESCRIPTION:Doe mee met het hardloopevenement crossloop Veenhuizen Dr te Veenhuizen\, gemeente Noordenveld (DR) op za 17 mrt 2012. De volgende afstanden staan op het programma: 3 km – 5 km – 10 km hardlopen. Wilt u inschrijven voor dit loopevenement?  Raadpleeg hiervoor dan de website van de organisatie\nDe uitslagen van deze hardloopwedstrijd zijn te raadplegen via dezelfde website of via de bekende websites zoals uitslagen.nl\, runtimer en mylaps. Doet u mee met dit evenement\, zorg dan dat u goed voorbereid aan de start staat! Met een goed trainingsschema komt u een heel eind. Train bijvoorbeeld met start to run van Evy Gruyaert. Download de start to run mp3 bestanden en zet ze op uw telefoon. Oortjes in\, hit the play button en en rennen maar! \n\n\n\n\nMeer informatie over crossloop Veenhuizen Dr op Hardloopkalender.nl  \nDe crossloop vindt 4 keer per jaar plaats.    De route gaat door de bossen en langs de heidevelden even buiten de dorpskern van Veenhuizen    Elke afstand heeft zo zijn eigen route.    De afstanden om te lopen zijn 3\, 5 en 10 kilometer.    Wanneer er 3 van de 4 crossen gelopen zijn\, krijgt U bij de laatste loop in december een leuke herinnering.    De cross start bij de sporthal aan de Kerklaan te Veenhuizen    In de sporthal is gelegenheid voor het omkleden en douchen    Inschrijven kan vanaf 9.30 uur en de start is om 10.30 uur. Vooraf inschrijven is niet mogelijk. Meer informatie is te vinden op www.veenhuizenactief.nl onder het kopje gym. Op de website worden ook de uitslagen gepubliceerd. \n  \n  \n 
URL:https://hardloopevenementen.com/loopagenda/crossloop-veenhuizen-dr-veenhuizen-gemeente-noordenveld-dr-4/
END:VEVENT
BEGIN:VEVENT
DTSTART;VALUE=DATE:20100606
DTEND;VALUE=DATE:20100607
DTSTAMP:20260422T003629
CREATED:20140624T130923Z
LAST-MODIFIED:20190423T101115Z
UID:4109-1275782400-1275782400@hardloopevenementen.com
SUMMARY:Dr Brenninkmeijerloop Lichtenvoorde\, gemeente Oost Gelre (GE)
DESCRIPTION:Doe mee met het hardloopevenement Dr Brenninkmeijerloop te Lichtenvoorde\, gemeente Oost Gelre (GE) op zo 06 jun 2010. De volgende afstanden staan op het programma: 2 km – 5 km – 10 km hardlopen. Wilt u inschrijven voor dit loopevenement?  Raadpleeg hiervoor dan de website van de organisatie\nDe uitslagen van deze hardloopwedstrijd zijn te raadplegen via dezelfde website of via de bekende websites zoals uitslagen.nl\, runtimer en mylaps. Doet u mee met dit evenement\, zorg dan dat u goed voorbereid aan de start staat! Met een goed trainingsschema komt u een heel eind. Train bijvoorbeeld met start to run van Evy Gruyaert. Download de start to run mp3 bestanden en zet ze op uw telefoon. Oortjes in\, hit the play button en en rennen maar! \n\n\n\n\nMeer informatie over Dr Brenninkmeijerloop op Hardloopkalender.nl  \nDit loopevenement wordt georganiseerd door St. Dr. Brenninkmeijerloop.De eerste afstand (of onderdeel) start om 10:00.Het adres van de start en de finish is Raadhuisstraat18Categorie(ën): mannen\, vrouwen\, jeugdVooraf inschrijven is mogelijk vanaf 06 juni 2010 tot niet van toepassing.Inschrijven op de dag van de loop is mogelijk (vanaf 6 juni 2010 kwartier voor start) op dit adres: Raadhuisstraat 18.Meer informatie:Contactpersoon: E.H.J. KetelsTel.: 0544376563Email: e.ketels@wanadoo.nlEr is een kleedaccomodatie aanwezig. Douchen is mogelijk.Het parcours is verhard.Overige bijzonderheden:  Nieuw\, sfeervol evenement! \n  \n  \n 
URL:https://hardloopevenementen.com/loopagenda/dr-brenninkmeijerloop-lichtenvoorde-gemeente-oost-gelre-ge-2/
END:VEVENT
BEGIN:VEVENT
DTSTART;VALUE=DATE:20090607
DTEND;VALUE=DATE:20090608
DTSTAMP:20260422T003629
CREATED:20080823T073242Z
LAST-MODIFIED:20190423T100055Z
UID:2211-1244332800-1244332800@hardloopevenementen.com
SUMMARY:Dr Brenninkmeijerloop Lichtenvoorde\, gemeente Oost Gelre (GE)
DESCRIPTION:Doe mee met het hardloopevenement Dr Brenninkmeijerloop te Lichtenvoorde\, gemeente Oost Gelre (GE) op zo 07 jun 2009. De volgende afstanden staan op het programma: 2 km – 5 km – 10 km hardlopen. Wilt u inschrijven voor dit loopevenement?  Raadpleeg hiervoor dan de website van de organisatie\nDe uitslagen van deze hardloopwedstrijd zijn te raadplegen via dezelfde website of via de bekende websites zoals uitslagen.nl\, runtimer en mylaps. Doet u mee met dit evenement\, zorg dan dat u goed voorbereid aan de start staat! Met een goed trainingsschema komt u een heel eind. Train bijvoorbeeld met start to run van Evy Gruyaert. Download de start to run mp3 bestanden en zet ze op uw telefoon. Oortjes in\, hit the play button en en rennen maar! \n\n\n\n\nMeer informatie over Dr Brenninkmeijerloop op Hardloopkalender.nl  \nkroegenestafette om 12.15 uur \n  \n  \n 
URL:https://hardloopevenementen.com/loopagenda/dr-brenninkmeijerloop-lichtenvoorde-gemeente-oost-gelre-ge/
END:VEVENT
END:VCALENDAR