BEGIN:VCALENDAR
VERSION:2.0
PRODID:-//Hardloopevenementen - ECPv6.15.14//NONSGML v1.0//EN
CALSCALE:GREGORIAN
METHOD:PUBLISH
X-WR-CALNAME:Hardloopevenementen
X-ORIGINAL-URL:https://hardloopevenementen.com
X-WR-CALDESC:Evenementen voor Hardloopevenementen
REFRESH-INTERVAL;VALUE=DURATION:PT1H
X-Robots-Tag:noindex
X-PUBLISHED-TTL:PT1H
BEGIN:VTIMEZONE
TZID:UTC
BEGIN:STANDARD
TZOFFSETFROM:+0000
TZOFFSETTO:+0000
TZNAME:UTC
DTSTART:20080101T000000
END:STANDARD
END:VTIMEZONE
BEGIN:VEVENT
DTSTART;VALUE=DATE:20091227
DTEND;VALUE=DATE:20091228
DTSTAMP:20260419T151635
CREATED:20130205T065559Z
LAST-MODIFIED:20190423T095612Z
UID:1252-1261872000-1261872000@hardloopevenementen.com
SUMMARY:Duurloop Drent-Friese Woud Boijl\, gemeente Weststellingwerf (FR)
DESCRIPTION:Doe mee met het hardloopevenement Duurloop Drent-Friese Woud te Boijl\, gemeente Weststellingwerf (FR) op zo 27 dec 2009. De volgende afstanden staan op het programma: 14 km hardlopen. Wilt u inschrijven voor dit loopevenement?  Raadpleeg hiervoor dan de website van de organisatie\nDe uitslagen van deze hardloopwedstrijd zijn te raadplegen via dezelfde website of via de bekende websites zoals uitslagen.nl\, runtimer en mylaps. Doet u mee met dit evenement\, zorg dan dat u goed voorbereid aan de start staat! Met een goed trainingsschema komt u een heel eind. Train bijvoorbeeld met start to run van Evy Gruyaert. Download de start to run mp3 bestanden en zet ze op uw telefoon. Oortjes in\, hit the play button en en rennen maar! \n\n\n\n\nMeer informatie over Duurloop Drent-Friese Woud op Hardloopkalender.nl  \nAll in verzorgde duurloop door de mooiste plekjes van het drents-friese woud. Start 11:00.  18\,- pp. inclusief welkomstdrankje en verzorging onderweg. \n  \n  \n 
URL:https://hardloopevenementen.com/loopagenda/duurloop-drent-friese-woud-boijl-gemeente-weststellingwerf-fr/
END:VEVENT
BEGIN:VEVENT
DTSTART;VALUE=DATE:20091220
DTEND;VALUE=DATE:20091221
DTSTAMP:20260419T151635
CREATED:20100904T184616Z
LAST-MODIFIED:20190423T095626Z
UID:1288-1261267200-1261267200@hardloopevenementen.com
SUMMARY:Duurloop Drent-Friese Woud Boijl\, gemeente Weststellingwerf (FR)
DESCRIPTION:Doe mee met het hardloopevenement Duurloop Drent-Friese Woud te Boijl\, gemeente Weststellingwerf (FR) op zo 20 dec 2009. De volgende afstanden staan op het programma: 14 km hardlopen. Wilt u inschrijven voor dit loopevenement?  Raadpleeg hiervoor dan de website van de organisatie\nDe uitslagen van deze hardloopwedstrijd zijn te raadplegen via dezelfde website of via de bekende websites zoals uitslagen.nl\, runtimer en mylaps. Doet u mee met dit evenement\, zorg dan dat u goed voorbereid aan de start staat! Met een goed trainingsschema komt u een heel eind. Train bijvoorbeeld met start to run van Evy Gruyaert. Download de start to run mp3 bestanden en zet ze op uw telefoon. Oortjes in\, hit the play button en en rennen maar! \n\n\n\n\nMeer informatie over Duurloop Drent-Friese Woud op Hardloopkalender.nl  \nAll in verzorgde duurloop door de mooiste plekjes van het drents-friese woud. Start 11:00.  18\,- pp. inclusief welkomstdrankje en verzorging onderweg. \n  \n  \n 
URL:https://hardloopevenementen.com/loopagenda/duurloop-drent-friese-woud-boijl-gemeente-weststellingwerf-fr-2/
END:VEVENT
BEGIN:VEVENT
DTSTART;VALUE=DATE:20091129
DTEND;VALUE=DATE:20091130
DTSTAMP:20260419T151635
CREATED:20140414T083459Z
LAST-MODIFIED:20190423T095700Z
UID:1404-1259452800-1259452800@hardloopevenementen.com
SUMMARY:Duurloop Drent-Friese Woud Boijl\, gemeente Weststellingwerf (FR)
DESCRIPTION:Doe mee met het hardloopevenement Duurloop Drent-Friese Woud te Boijl\, gemeente Weststellingwerf (FR) op zo 29 nov 2009. De volgende afstanden staan op het programma: 14 km hardlopen. Wilt u inschrijven voor dit loopevenement?  Raadpleeg hiervoor dan de website van de organisatie\nDe uitslagen van deze hardloopwedstrijd zijn te raadplegen via dezelfde website of via de bekende websites zoals uitslagen.nl\, runtimer en mylaps. Doet u mee met dit evenement\, zorg dan dat u goed voorbereid aan de start staat! Met een goed trainingsschema komt u een heel eind. Train bijvoorbeeld met start to run van Evy Gruyaert. Download de start to run mp3 bestanden en zet ze op uw telefoon. Oortjes in\, hit the play button en en rennen maar! \n\n\n\n\nMeer informatie over Duurloop Drent-Friese Woud op Hardloopkalender.nl  \nAll in verzorgde duurloop door de mooiste plekjes van het drents-friese woud. Start 11:00.  18\,- pp. inclusief welkomstdrankje en verzorging onderweg. \n  \n  \n 
URL:https://hardloopevenementen.com/loopagenda/duurloop-drent-friese-woud-boijl-gemeente-weststellingwerf-fr-3/
END:VEVENT
BEGIN:VEVENT
DTSTART;VALUE=DATE:20091122
DTEND;VALUE=DATE:20091123
DTSTAMP:20260419T151635
CREATED:20120626T130325Z
LAST-MODIFIED:20190423T095707Z
UID:1431-1258848000-1258848000@hardloopevenementen.com
SUMMARY:Duurloop Drent-Friese Woud Boijl\, gemeente Weststellingwerf (FR)
DESCRIPTION:Doe mee met het hardloopevenement Duurloop Drent-Friese Woud te Boijl\, gemeente Weststellingwerf (FR) op zo 22 nov 2009. De volgende afstanden staan op het programma: 14 km hardlopen. Wilt u inschrijven voor dit loopevenement?  Raadpleeg hiervoor dan de website van de organisatie\nDe uitslagen van deze hardloopwedstrijd zijn te raadplegen via dezelfde website of via de bekende websites zoals uitslagen.nl\, runtimer en mylaps. Doet u mee met dit evenement\, zorg dan dat u goed voorbereid aan de start staat! Met een goed trainingsschema komt u een heel eind. Train bijvoorbeeld met start to run van Evy Gruyaert. Download de start to run mp3 bestanden en zet ze op uw telefoon. Oortjes in\, hit the play button en en rennen maar! \n\n\n\n\nMeer informatie over Duurloop Drent-Friese Woud op Hardloopkalender.nl  \nAll in verzorgde duurloop door de mooiste plekjes van het drents-friese woud. Start 11:00.  18\,- pp. inclusief welkomstdrankje en verzorging onderweg. \n  \n  \n 
URL:https://hardloopevenementen.com/loopagenda/duurloop-drent-friese-woud-boijl-gemeente-weststellingwerf-fr-4/
END:VEVENT
BEGIN:VEVENT
DTSTART;VALUE=DATE:20091115
DTEND;VALUE=DATE:20091116
DTSTAMP:20260419T151635
CREATED:20140413T043640Z
LAST-MODIFIED:20190423T095718Z
UID:1462-1258243200-1258243200@hardloopevenementen.com
SUMMARY:Duurloop Drent-Friese Woud Boijl\, gemeente Weststellingwerf (FR)
DESCRIPTION:Doe mee met het hardloopevenement Duurloop Drent-Friese Woud te Boijl\, gemeente Weststellingwerf (FR) op zo 15 nov 2009. De volgende afstanden staan op het programma: 14 km hardlopen. Wilt u inschrijven voor dit loopevenement?  Raadpleeg hiervoor dan de website van de organisatie\nDe uitslagen van deze hardloopwedstrijd zijn te raadplegen via dezelfde website of via de bekende websites zoals uitslagen.nl\, runtimer en mylaps. Doet u mee met dit evenement\, zorg dan dat u goed voorbereid aan de start staat! Met een goed trainingsschema komt u een heel eind. Train bijvoorbeeld met start to run van Evy Gruyaert. Download de start to run mp3 bestanden en zet ze op uw telefoon. Oortjes in\, hit the play button en en rennen maar! \n\n\n\n\nMeer informatie over Duurloop Drent-Friese Woud op Hardloopkalender.nl  \nAll in verzorgde duurloop door de mooiste plekjes van het drents-friese woud. Start 11:00.  18\,- pp. inclusief welkomstdrankje en verzorging onderweg. \n  \n  \n 
URL:https://hardloopevenementen.com/loopagenda/duurloop-drent-friese-woud-boijl-gemeente-weststellingwerf-fr-5/
END:VEVENT
END:VCALENDAR