BEGIN:VCALENDAR
VERSION:2.0
PRODID:-//Hardloopevenementen - ECPv6.15.14//NONSGML v1.0//EN
CALSCALE:GREGORIAN
METHOD:PUBLISH
X-ORIGINAL-URL:https://hardloopevenementen.com
X-WR-CALDESC:Evenementen voor Hardloopevenementen
REFRESH-INTERVAL;VALUE=DURATION:PT1H
X-Robots-Tag:noindex
X-PUBLISHED-TTL:PT1H
BEGIN:VTIMEZONE
TZID:UTC
BEGIN:STANDARD
TZOFFSETFROM:+0000
TZOFFSETTO:+0000
TZNAME:UTC
DTSTART:20110101T000000
END:STANDARD
END:VTIMEZONE
BEGIN:VEVENT
DTSTART;VALUE=DATE:20120929
DTEND;VALUE=DATE:20120930
DTSTAMP:20260420T234738
CREATED:20140725T233013Z
LAST-MODIFIED:20190423T102913Z
UID:7666-1348876800-1348876800@hardloopevenementen.com
SUMMARY:Thaisner DörpsRun Thesinge\, gemeente Ten Boer (GR)
DESCRIPTION:Doe mee met het hardloopevenement Thaisner DörpsRun te Thesinge\, gemeente Ten Boer (GR) op za 29 sep 2012. De volgende afstanden staan op het programma: 4 km – 6\,9 km – 10 km – halve marathon hardlopen. Wilt u inschrijven voor dit loopevenement?  Raadpleeg hiervoor dan de website van de organisatie\nDe uitslagen van deze hardloopwedstrijd zijn te raadplegen via dezelfde website of via de bekende websites zoals uitslagen.nl\, runtimer en mylaps. Doet u mee met dit evenement\, zorg dan dat u goed voorbereid aan de start staat! Met een goed trainingsschema komt u een heel eind. Train bijvoorbeeld met start to run van Evy Gruyaert. Download de start to run mp3 bestanden en zet ze op uw telefoon. Oortjes in\, hit the play button en en rennen maar! \n\n\n\n\nMeer informatie over Thaisner DörpsRun op Hardloopkalender.nl  \nHet loopevenement Thaisner DörpsRun te Thesinge vindt plaats op zaterdag 29 september 2012. De loop wordt georganiseerd door Stichting Dorpsrun Thesinge. Inschrijven is mogelijk vanaf 01 september 2012. Klik hier voor het adres van de start (Google Maps).Er is EHBO aanwezig. Afstand SoortloopInschrijfgeldStarttijdInfo4 km5\,0016:00uur6.87 km5\,0016:00uur10 km5\,0016:00uur21.1 km5\,0016:00uurVoor meer informatie:Menco van der BergMencovdBerg@ThesingeRun.nl0503023352http:  ThesingeRun.nl \n  \n  \n 
URL:https://hardloopevenementen.com/loopagenda/thaisner-drpsrun-thesinge-gemeente-ten-boer-gr/
END:VEVENT
END:VCALENDAR