BEGIN:VCALENDAR
VERSION:2.0
PRODID:-//Hardloopevenementen - ECPv6.15.14//NONSGML v1.0//EN
CALSCALE:GREGORIAN
METHOD:PUBLISH
X-ORIGINAL-URL:https://hardloopevenementen.com
X-WR-CALDESC:Evenementen voor Hardloopevenementen
REFRESH-INTERVAL;VALUE=DURATION:PT1H
X-Robots-Tag:noindex
X-PUBLISHED-TTL:PT1H
BEGIN:VTIMEZONE
TZID:UTC
BEGIN:STANDARD
TZOFFSETFROM:+0000
TZOFFSETTO:+0000
TZNAME:UTC
DTSTART:20060101T000000
END:STANDARD
END:VTIMEZONE
BEGIN:VEVENT
DTSTART;VALUE=DATE:20200405
DTEND;VALUE=DATE:20200406
DTSTAMP:20260421T000619
CREATED:20070331T091111Z
LAST-MODIFIED:20200206T111431Z
UID:143491-1586044800-1586044800@hardloopevenementen.com
SUMMARY:Drutenloop Druten (GE)
DESCRIPTION:Doe mee met het hardloopevenement Drutenloop te Druten (GE) op zo 05 apr 2020. De volgende afstanden staan op het programma: 0\,5 km – 1 km – 2 km – 5 km – 10 km – halve marathon hardlopen. Wilt u inschrijven voor dit loopevenement?  Raadpleeg hiervoor dan de website van de organisatie\nDe uitslagen van deze hardloopwedstrijd zijn te raadplegen via dezelfde website of via de bekende websites zoals uitslagen.nl\, runtimer en mylaps. Doet u mee met dit evenement\, zorg dan dat u goed voorbereid aan de start staat! Met een goed trainingsschema komt u een heel eind. Train bijvoorbeeld met start to run van Evy Gruyaert. Download de start to run mp3 bestanden en zet ze op uw telefoon. Oortjes in\, hit the play button en en rennen maar! \n\n\n\n\nMeer informatie over Drutenloop op Hardloopkalender.nl  \nEen sfeervolle hardloopwedstrijd door het dorp\, over dijken en een stukje bos \n  \n  \n 
URL:https://hardloopevenementen.com/loopagenda/drutenloop-druten-ge-8/
END:VEVENT
BEGIN:VEVENT
DTSTART;VALUE=DATE:20190407
DTEND;VALUE=DATE:20190408
DTSTAMP:20260421T000619
CREATED:20130924T233756Z
LAST-MODIFIED:20191114T112713Z
UID:17798-1554595200-1554595200@hardloopevenementen.com
SUMMARY:Drutenloop Druten (GE)
DESCRIPTION:Doe mee met het hardloopevenement Drutenloop te Druten (GE) op zo 07 apr 2019. De volgende afstanden staan op het programma: 1 km – 3 km – 5 km – 10 km – halve marathon hardlopen. Wilt u inschrijven voor dit loopevenement?  Raadpleeg hiervoor dan de website van de organisatie\nDe uitslagen van deze hardloopwedstrijd zijn te raadplegen via dezelfde website of via de bekende websites zoals uitslagen.nl\, runtimer en mylaps. Doet u mee met dit evenement\, zorg dan dat u goed voorbereid aan de start staat! Met een goed trainingsschema komt u een heel eind. Train bijvoorbeeld met start to run van Evy Gruyaert. Download de start to run mp3 bestanden en zet ze op uw telefoon. Oortjes in\, hit the play button en en rennen maar! \n\n\n\n\nMeer informatie over Drutenloop op Hardloopkalender.nl  \n  \n  \n 
URL:https://hardloopevenementen.com/loopagenda/drutenloop-druten-ge-5/
END:VEVENT
BEGIN:VEVENT
DTSTART;VALUE=DATE:20180408
DTEND;VALUE=DATE:20180409
DTSTAMP:20260421T000619
CREATED:20141022T083343Z
LAST-MODIFIED:20190423T120547Z
UID:16799-1523145600-1523145600@hardloopevenementen.com
SUMMARY:Drutenloop Druten (GE)
DESCRIPTION:Doe mee met het hardloopevenement Drutenloop te Druten (GE) op zo 08 apr 2018. De volgende afstanden staan op het programma: 0\,5 km – 2 km – 3 km – 5 km – 10 km – halve marathon hardlopen. Wilt u inschrijven voor dit loopevenement?  Raadpleeg hiervoor dan de website van de organisatie\nDe uitslagen van deze hardloopwedstrijd zijn te raadplegen via dezelfde website of via de bekende websites zoals uitslagen.nl\, runtimer en mylaps. Doet u mee met dit evenement\, zorg dan dat u goed voorbereid aan de start staat! Met een goed trainingsschema komt u een heel eind. Train bijvoorbeeld met start to run van Evy Gruyaert. Download de start to run mp3 bestanden en zet ze op uw telefoon. Oortjes in\, hit the play button en en rennen maar! \n\n\n\n\nMeer informatie over Drutenloop op Hardloopkalender.nl  \nEen sfeervolle hardloopwedstrijd voor jong en oud door het centrum van Druten\, door het bos en over de dijken. \n  \n  \n 
URL:https://hardloopevenementen.com/loopagenda/drutenloop-druten-ge-4/
END:VEVENT
BEGIN:VEVENT
DTSTART;VALUE=DATE:20170402
DTEND;VALUE=DATE:20170403
DTSTAMP:20260421T000619
CREATED:20081030T092054Z
LAST-MODIFIED:20190423T114723Z
UID:15005-1491091200-1491091200@hardloopevenementen.com
SUMMARY:Drutenloop Druten (GE)
DESCRIPTION:Doe mee met het hardloopevenement Drutenloop te Druten (GE) op zo 02 apr 2017. De volgende afstanden staan op het programma: 1 km – 3 km – 5 km – 10 km – halve marathon hardlopen. Wilt u inschrijven voor dit loopevenement?  Raadpleeg hiervoor dan de website van de organisatie\nDe uitslagen van deze hardloopwedstrijd zijn te raadplegen via dezelfde website of via de bekende websites zoals uitslagen.nl\, runtimer en mylaps. Doet u mee met dit evenement\, zorg dan dat u goed voorbereid aan de start staat! Met een goed trainingsschema komt u een heel eind. Train bijvoorbeeld met start to run van Evy Gruyaert. Download de start to run mp3 bestanden en zet ze op uw telefoon. Oortjes in\, hit the play button en en rennen maar! \n\n\n\n\nMeer informatie over Drutenloop op Hardloopkalender.nl  \nwebsite van drutenloop \n  \n  \n 
URL:https://hardloopevenementen.com/loopagenda/drutenloop-druten-ge-3/
END:VEVENT
BEGIN:VEVENT
DTSTART;VALUE=DATE:20160403
DTEND;VALUE=DATE:20160404
DTSTAMP:20260421T000619
CREATED:20090814T132646Z
LAST-MODIFIED:20190423T112616Z
UID:13021-1459641600-1459641600@hardloopevenementen.com
SUMMARY:Drutenloop Druten (GE)
DESCRIPTION:Doe mee met het hardloopevenement Drutenloop te Druten (GE) op zo 03 apr 2016. De volgende afstanden staan op het programma: 1 km – 3 km – 5 km – 10 km – halve marathon hardlopen. Wilt u inschrijven voor dit loopevenement?  Raadpleeg hiervoor dan de website van de organisatie\nDe uitslagen van deze hardloopwedstrijd zijn te raadplegen via dezelfde website of via de bekende websites zoals uitslagen.nl\, runtimer en mylaps. Doet u mee met dit evenement\, zorg dan dat u goed voorbereid aan de start staat! Met een goed trainingsschema komt u een heel eind. Train bijvoorbeeld met start to run van Evy Gruyaert. Download de start to run mp3 bestanden en zet ze op uw telefoon. Oortjes in\, hit the play button en en rennen maar! \n\n\n\n\nMeer informatie over Drutenloop op Hardloopkalender.nl  \nHet loopevenement Drutenloop te Druten vindt plaats op zondag 03 april 2016. \n  \n  \n 
URL:https://hardloopevenementen.com/loopagenda/drutenloop-druten-ge-2/
END:VEVENT
BEGIN:VEVENT
DTSTART;VALUE=DATE:20150412
DTEND;VALUE=DATE:20150413
DTSTAMP:20260421T000619
CREATED:20081015T160220Z
LAST-MODIFIED:20190423T111308Z
UID:10691-1428796800-1428796800@hardloopevenementen.com
SUMMARY:Drutenloop Druten (GE)
DESCRIPTION:Doe mee met het hardloopevenement Drutenloop te Druten (GE) op zo 12 apr 2015. De volgende afstanden staan op het programma: 1 km – 3 km – 5 km – 10 km – halve marathon hardlopen. Wilt u inschrijven voor dit loopevenement?  Raadpleeg hiervoor dan de website van de organisatie\nDe uitslagen van deze hardloopwedstrijd zijn te raadplegen via dezelfde website of via de bekende websites zoals uitslagen.nl\, runtimer en mylaps. Doet u mee met dit evenement\, zorg dan dat u goed voorbereid aan de start staat! Met een goed trainingsschema komt u een heel eind. Train bijvoorbeeld met start to run van Evy Gruyaert. Download de start to run mp3 bestanden en zet ze op uw telefoon. Oortjes in\, hit the play button en en rennen maar! \n\n\n\n\nMeer informatie over Drutenloop op Hardloopkalender.nl  \nHet loopevenement Drutenloop te Druten vindt plaats op zondag 12 april 2015. \n  \n  \n 
URL:https://hardloopevenementen.com/loopagenda/drutenloop-druten-ge/
END:VEVENT
BEGIN:VEVENT
DTSTART;VALUE=DATE:20140406
DTEND;VALUE=DATE:20140407
DTSTAMP:20260421T000619
CREATED:20110117T113508Z
LAST-MODIFIED:20190423T105634Z
UID:34373-1396742400-1396742400@hardloopevenementen.com
SUMMARY:Drutenloop Druten (GE)
DESCRIPTION:Doe mee met het hardloopevenement Drutenloop te Druten (GE) op zo 06 apr 2014. De volgende afstanden staan op het programma: 1 km – 3 km – 5 km – 10 km – halve marathon hardlopen. Wilt u inschrijven voor dit loopevenement?  Raadpleeg hiervoor dan de website van de organisatie\nDe uitslagen van deze hardloopwedstrijd zijn te raadplegen via dezelfde website of via de bekende websites zoals uitslagen.nl\, runtimer en mylaps. Doet u mee met dit evenement\, zorg dan dat u goed voorbereid aan de start staat! Met een goed trainingsschema komt u een heel eind. Train bijvoorbeeld met start to run van Evy Gruyaert. Download de start to run mp3 bestanden en zet ze op uw telefoon. Oortjes in\, hit the play button en en rennen maar! \n\n\n\n\nMeer informatie over Drutenloop op Hardloopkalender.nl  \n1 en 3 km jeugdlopen.   5 km\, 10 km en 1 2 marathon prachtig parcours door dorp\, over dijken en door het bos.  Nadere info www.drutenloop.nl \n  \n  \n 
URL:https://hardloopevenementen.com/loopagenda/drutenloop-druten-ge-7/
END:VEVENT
BEGIN:VEVENT
DTSTART;VALUE=DATE:20130407
DTEND;VALUE=DATE:20130408
DTSTAMP:20260421T000619
CREATED:20121203T045041Z
LAST-MODIFIED:20190423T104341Z
UID:31936-1365292800-1365292800@hardloopevenementen.com
SUMMARY:Drutenloop Druten (GE)
DESCRIPTION:Doe mee met het hardloopevenement Drutenloop te Druten (GE) op zo 07 apr 2013. De volgende afstanden staan op het programma: 1 km – 3 km – 5 km – 10 km – halve marathon hardlopen. Wilt u inschrijven voor dit loopevenement?  Raadpleeg hiervoor dan de website van de organisatie\nDe uitslagen van deze hardloopwedstrijd zijn te raadplegen via dezelfde website of via de bekende websites zoals uitslagen.nl\, runtimer en mylaps. Doet u mee met dit evenement\, zorg dan dat u goed voorbereid aan de start staat! Met een goed trainingsschema komt u een heel eind. Train bijvoorbeeld met start to run van Evy Gruyaert. Download de start to run mp3 bestanden en zet ze op uw telefoon. Oortjes in\, hit the play button en en rennen maar! \n\n\n\n\nMeer informatie over Drutenloop op Hardloopkalender.nl  \nHet loopevenement Drutenloop te Druten vindt plaats op zondag 07 april 2013. De loop wordt georganisseerd door Stichting Drutenloop. Inschrijven is mogelijk vanaf 01 januari 2013. Klik hier voor het adres van de start (Google Maps).Er is verkleedaccomodatie met douchemogelijkheid aanwezig. Er is EHBO aanwezig. Bijzonderheden: 1 km en 3 km zijn jeugdlopen. Info en starttijden zie www.drutenloop.nl.Voor meer informatie:Nico van Looninfo@drutenloop.nl0487512851http:  www.drutenloop.nl \n  \n  \n 
URL:https://hardloopevenementen.com/loopagenda/drutenloop-druten-ge-6/
END:VEVENT
BEGIN:VEVENT
DTSTART;VALUE=DATE:20120401
DTEND;VALUE=DATE:20120402
DTSTAMP:20260421T000619
CREATED:20081026T114723Z
LAST-MODIFIED:20190423T103318Z
UID:28583-1333238400-1333238400@hardloopevenementen.com
SUMMARY:6e DrutenLoop Druten (GE)
DESCRIPTION:Doe mee met het hardloopevenement 6e DrutenLoop te Druten (GE) op zo 01 apr 2012. De volgende afstanden staan op het programma: 1 km – 3 km – 5 km – 10 km hardlopen. Wilt u inschrijven voor dit loopevenement?  Raadpleeg hiervoor dan de website van de organisatie\nDe uitslagen van deze hardloopwedstrijd zijn te raadplegen via dezelfde website of via de bekende websites zoals uitslagen.nl\, runtimer en mylaps. Doet u mee met dit evenement\, zorg dan dat u goed voorbereid aan de start staat! Met een goed trainingsschema komt u een heel eind. Train bijvoorbeeld met start to run van Evy Gruyaert. Download de start to run mp3 bestanden en zet ze op uw telefoon. Oortjes in\, hit the play button en en rennen maar! \n\n\n\n\nMeer informatie over 6e DrutenLoop op Hardloopkalender.nl  \nHet loopevenement 6e DrutenLoop te Druten vindt plaats op zondag 01 april 2012. De loop wordt georganiseerd door Stichting Maas en Waalse Dijkenloop. Inschrijven is mogelijk vanaf 16 december 2011. Klik hier voor het adres van de start (Google Maps).Er is EHBO aanwezig.   Programma:  1 km en 3 km starten tussen 10.40 en 12.00 uur  5 km start om 12.20 uur  10 km start om 13.20 uur    Inschrijfgeld:  1 km  1 euro  3 km  1 euro  5 km  7 euro (excl. korting voor licentiehouders)  10 km 9 euro (excl. korting voor licentiehouders)  Voor meer informatie:Minette Trompdrutenloop@dijkenloop.nl0612572506http:  www.drutenloop.nl \n  \n  \n 
URL:https://hardloopevenementen.com/loopagenda/6e-drutenloop-druten-ge/
END:VEVENT
BEGIN:VEVENT
DTSTART;VALUE=DATE:20110410
DTEND;VALUE=DATE:20110411
DTSTAMP:20260421T000619
CREATED:20130822T094233Z
LAST-MODIFIED:20190423T102230Z
UID:26567-1302393600-1302393600@hardloopevenementen.com
SUMMARY:5e DrutenLoop Druten (GE)
DESCRIPTION:Doe mee met het hardloopevenement 5e DrutenLoop te Druten (GE) op zo 10 apr 2011. De volgende afstanden staan op het programma: 1 km – 5 km – 10 km hardlopen. Wilt u inschrijven voor dit loopevenement?  Raadpleeg hiervoor dan de website van de organisatie\nDe uitslagen van deze hardloopwedstrijd zijn te raadplegen via dezelfde website of via de bekende websites zoals uitslagen.nl\, runtimer en mylaps. Doet u mee met dit evenement\, zorg dan dat u goed voorbereid aan de start staat! Met een goed trainingsschema komt u een heel eind. Train bijvoorbeeld met start to run van Evy Gruyaert. Download de start to run mp3 bestanden en zet ze op uw telefoon. Oortjes in\, hit the play button en en rennen maar! \n\n\n\n\nMeer informatie over 5e DrutenLoop op Hardloopkalender.nl  \nHet loopevenement 5e DrutenLoop te Druten vindt plaats op zondag 10 april 2011. De loop wordt georganiseerd door Stichting Maas en Waalse Dijkenloop. Inschrijven is mogelijk vanaf 01 januari 2011. Klik hier voor het adres van de start (Google Maps).Er is verkleedaccomodatie met douchemogelijkheid aanwezig. Er is EHBO aanwezig. De starts hiervan zijn tussen 10.40 en 12.00 uur (5 verschillende starttijden).    De 5 km start om 12.15 uur.  De 10 km start om 13.15 uur.    Inschrijfgelden:  – 1K Runaway 1 euro  – 5 km 7 euro  – 10 km 9 euro. \n  \n  \n 
URL:https://hardloopevenementen.com/loopagenda/5e-drutenloop-druten-ge/
END:VEVENT
BEGIN:VEVENT
DTSTART;VALUE=DATE:20100411
DTEND;VALUE=DATE:20100412
DTSTAMP:20260421T000619
CREATED:20080614T213103Z
LAST-MODIFIED:20190423T101244Z
UID:23668-1270944000-1270944000@hardloopevenementen.com
SUMMARY:4e DrutenLoop Druten (GE)
DESCRIPTION:Doe mee met het hardloopevenement 4e DrutenLoop te Druten (GE) op zo 11 apr 2010. De volgende afstanden staan op het programma: 0\,5 km – 1 km – 2 km – 5 km – 10 km hardlopen. Wilt u inschrijven voor dit loopevenement?  Raadpleeg hiervoor dan de website van de organisatie\nDe uitslagen van deze hardloopwedstrijd zijn te raadplegen via dezelfde website of via de bekende websites zoals uitslagen.nl\, runtimer en mylaps. Doet u mee met dit evenement\, zorg dan dat u goed voorbereid aan de start staat! Met een goed trainingsschema komt u een heel eind. Train bijvoorbeeld met start to run van Evy Gruyaert. Download de start to run mp3 bestanden en zet ze op uw telefoon. Oortjes in\, hit the play button en en rennen maar! \n\n\n\n\nMeer informatie over 4e DrutenLoop op Hardloopkalender.nl  \nDit loopevenement wordt georganiseerd door Stichting Maas en Waalse Dijkenloop.De eerste afstand (of onderdeel) start om 10:30.Het adres van de start is Hogestraat 1 Het adres van de finish is Hogestraat 7Categorie(ën): mannen\, vrouwen\, jeugdVooraf inschrijven is mogelijk vanaf 01 januari 2010 tot 09 april 2010.Inschrijven op de dag van de loop is mogelijk (vanaf 12.30 uur) op dit adres: restaurant Molenberg.Meer informatie:Contactpersoon: Minette TrompTel.: 0612572506Email: drutenloop@dijkenloop.nlEr is een kleedaccomodatie aanwezig. Douchen is mogelijk.Het parcours is verhard.Vorig jaar deden er 1106 lopers mee aan dit evenement.Overige bijzonderheden:  De opbrengst komt helemaal ten goede aan de ROPArun. \n  \n  \n 
URL:https://hardloopevenementen.com/loopagenda/4e-drutenloop-druten-ge/
END:VEVENT
BEGIN:VEVENT
DTSTART;VALUE=DATE:20090405
DTEND;VALUE=DATE:20090406
DTSTAMP:20260421T000619
CREATED:20160107T144003Z
LAST-MODIFIED:20190423T100218Z
UID:2531-1238889600-1238889600@hardloopevenementen.com
SUMMARY:3e DrutenLoop Druten (GE)
DESCRIPTION:Doe mee met het hardloopevenement 3e DrutenLoop te Druten (GE) op zo 05 apr 2009. De volgende afstanden staan op het programma: 5 km – 10 km hardlopen. Wilt u inschrijven voor dit loopevenement?  Raadpleeg hiervoor dan de website van de organisatie\nDe uitslagen van deze hardloopwedstrijd zijn te raadplegen via dezelfde website of via de bekende websites zoals uitslagen.nl\, runtimer en mylaps. Doet u mee met dit evenement\, zorg dan dat u goed voorbereid aan de start staat! Met een goed trainingsschema komt u een heel eind. Train bijvoorbeeld met start to run van Evy Gruyaert. Download de start to run mp3 bestanden en zet ze op uw telefoon. Oortjes in\, hit the play button en en rennen maar! \n\n\n\n\nMeer informatie over 3e DrutenLoop op Hardloopkalender.nl  \n5 km 11:00 uur\, 10 km 12:15 uur \n  \n  \n 
URL:https://hardloopevenementen.com/loopagenda/3e-drutenloop-druten-ge/
END:VEVENT
BEGIN:VEVENT
DTSTART;VALUE=DATE:20080413
DTEND;VALUE=DATE:20080414
DTSTAMP:20260421T000619
CREATED:20180329T063858Z
LAST-MODIFIED:20190423T094804Z
UID:19878-1208044800-1208044800@hardloopevenementen.com
SUMMARY:2e DrutenLoop Druten
DESCRIPTION:Doe mee met het hardloopevenement 2e DrutenLoop te Druten op zo 13 apr 2008. De volgende afstanden staan op het programma: 5 km – 10 km hardlopen. Wilt u inschrijven voor dit loopevenement?  Raadpleeg hiervoor dan de website van de organisatie\nDe uitslagen van deze hardloopwedstrijd zijn te raadplegen via dezelfde website of via de bekende websites zoals uitslagen.nl\, runtimer en mylaps. Doet u mee met dit evenement\, zorg dan dat u goed voorbereid aan de start staat! Met een goed trainingsschema komt u een heel eind. Train bijvoorbeeld met start to run van Evy Gruyaert. Download de start to run mp3 bestanden en zet ze op uw telefoon. Oortjes in\, hit the play button en en rennen maar! \n\n\n\n\nMeer informatie over 2e DrutenLoop op Hardloopkalender.nl  \nDe voordelige voorinschrijving voor de 2e DrutenLoop op zondag 13 april 2008 is gestart op 18 november jl. De 2e DrutenLoop\, bestaande uit afstanden van 5 en 10 km en 3 jeugdlopen\, is een aanloop naar de 9e Maas en Waalse Dijkenloop op zondag 7 september 2008. De 5 en 10 km zijn officiële Atletiekunie-afstanden en ook bedoeld voor recreanten  Start  5 km 11:00 uur\, 10 km 12:15 uur \n  \n  \n 
URL:https://hardloopevenementen.com/loopagenda/2e-drutenloop-druten/
END:VEVENT
BEGIN:VEVENT
DTSTART;VALUE=DATE:20070415
DTEND;VALUE=DATE:20070416
DTSTAMP:20260421T000619
CREATED:20150411T075048Z
LAST-MODIFIED:20190423T094014Z
UID:598-1176595200-1176595200@hardloopevenementen.com
SUMMARY:1e DrutenLoop Druten
DESCRIPTION:Doe mee met het hardloopevenement 1e DrutenLoop te Druten op zo 15 apr 2007. De volgende afstanden staan op het programma: 5 km – 10 km hardlopen. Wilt u inschrijven voor dit loopevenement?  Raadpleeg hiervoor dan de website van de organisatie\nDe uitslagen van deze hardloopwedstrijd zijn te raadplegen via dezelfde website of via de bekende websites zoals uitslagen.nl\, runtimer en mylaps. Doet u mee met dit evenement\, zorg dan dat u goed voorbereid aan de start staat! Met een goed trainingsschema komt u een heel eind. Train bijvoorbeeld met start to run van Evy Gruyaert. Download de start to run mp3 bestanden en zet ze op uw telefoon. Oortjes in\, hit the play button en en rennen maar! \n\n\n\n\nMeer informatie over 1e DrutenLoop op Hardloopkalender.nl  \n  \n  \n 
URL:https://hardloopevenementen.com/loopagenda/1e-drutenloop-druten/
END:VEVENT
END:VCALENDAR