BEGIN:VCALENDAR
VERSION:2.0
PRODID:-//Hardloopevenementen - ECPv6.15.14//NONSGML v1.0//EN
CALSCALE:GREGORIAN
METHOD:PUBLISH
X-ORIGINAL-URL:https://hardloopevenementen.com
X-WR-CALDESC:Evenementen voor Hardloopevenementen
REFRESH-INTERVAL;VALUE=DURATION:PT1H
X-Robots-Tag:noindex
X-PUBLISHED-TTL:PT1H
BEGIN:VTIMEZONE
TZID:UTC
BEGIN:STANDARD
TZOFFSETFROM:+0000
TZOFFSETTO:+0000
TZNAME:UTC
DTSTART:20140101T000000
END:STANDARD
END:VTIMEZONE
BEGIN:VEVENT
DTSTART;VALUE=DATE:20171203
DTEND;VALUE=DATE:20171204
DTSTAMP:20260425T014116
CREATED:20131221T060302Z
LAST-MODIFIED:20190423T114222Z
UID:13665-1512259200-1512259200@hardloopevenementen.com
SUMMARY:34ste DSD Zandboscross Deurne Deurne (NB)
DESCRIPTION:Doe mee met het hardloopevenement 34ste DSD Zandboscross Deurne te Deurne (NB) op zo 03 dec 2017. De volgende afstanden staan op het programma: 1\,1 km – 1\,6 km – 3\,0 km – 7\,4 km – 9\,8 km hardlopen. Wilt u inschrijven voor dit loopevenement?  Raadpleeg hiervoor dan de website van de organisatie\nDe uitslagen van deze hardloopwedstrijd zijn te raadplegen via dezelfde website of via de bekende websites zoals uitslagen.nl\, runtimer en mylaps. Doet u mee met dit evenement\, zorg dan dat u goed voorbereid aan de start staat! Met een goed trainingsschema komt u een heel eind. Train bijvoorbeeld met start to run van Evy Gruyaert. Download de start to run mp3 bestanden en zet ze op uw telefoon. Oortjes in\, hit the play button en en rennen maar! \n\n\n\n\nMeer informatie over 34ste DSD Zandboscross Deurne op Hardloopkalender.nl  \nOp zondag 3 december vindt de 34e DSD Zandboscross plaats in Deurne. Het parcours is een schitterende ronde in het Zandbos. De Zandboscross is toegankelijk voor iedereen. In de ochtend wordt begonnen met de recreantenloop. Iedereen kan hieraan deelnemen. Vervolgens zal de korte en lange cross voor wedstrijdatleten plaatsvinden. In de middag staan de junioren en pupillen wedstrijden op het programma. Start en finish van alle afstanden is vooraan in het Zandbos. Het parcours bestaat uit drie verschillende en zeer gevarieerde rondes door het Zandbos.   Het parcours is geheel op spikes te belopen.  Meer informatie is te vinden op www.av-lgd.nl \n  \n  \n 
URL:https://hardloopevenementen.com/loopagenda/34ste-dsd-zandboscross-deurne-deurne-nb/
END:VEVENT
BEGIN:VEVENT
DTSTART;VALUE=DATE:20151129
DTEND;VALUE=DATE:20151130
DTSTAMP:20260425T014116
CREATED:20110428T081514Z
LAST-MODIFIED:20190423T110710Z
UID:9324-1448755200-1448755200@hardloopevenementen.com
SUMMARY:DSD Buniness Internet Zandbosloop Deurne (NB)
DESCRIPTION:Doe mee met het hardloopevenement DSD Buniness Internet Zandbosloop te Deurne (NB) op zo 29 nov 2015. De volgende afstanden staan op het programma: 1\,5 km – 3 km hardlopen. Wilt u inschrijven voor dit loopevenement?  Raadpleeg hiervoor dan de website van de organisatie\nDe uitslagen van deze hardloopwedstrijd zijn te raadplegen via dezelfde website of via de bekende websites zoals uitslagen.nl\, runtimer en mylaps. Doet u mee met dit evenement\, zorg dan dat u goed voorbereid aan de start staat! Met een goed trainingsschema komt u een heel eind. Train bijvoorbeeld met start to run van Evy Gruyaert. Download de start to run mp3 bestanden en zet ze op uw telefoon. Oortjes in\, hit the play button en en rennen maar! \n\n\n\n\nMeer informatie over DSD Buniness Internet Zandbosloop op Hardloopkalender.nl  \nZandbos in Deurne \n  \n  \n 
URL:https://hardloopevenementen.com/loopagenda/dsd-buniness-internet-zandbosloop-deurne-nb/
END:VEVENT
END:VCALENDAR