BEGIN:VCALENDAR
VERSION:2.0
PRODID:-//Hardloopevenementen - ECPv6.15.14//NONSGML v1.0//EN
CALSCALE:GREGORIAN
METHOD:PUBLISH
X-WR-CALNAME:Hardloopevenementen
X-ORIGINAL-URL:https://hardloopevenementen.com
X-WR-CALDESC:Evenementen voor Hardloopevenementen
REFRESH-INTERVAL;VALUE=DURATION:PT1H
X-Robots-Tag:noindex
X-PUBLISHED-TTL:PT1H
BEGIN:VTIMEZONE
TZID:UTC
BEGIN:STANDARD
TZOFFSETFROM:+0000
TZOFFSETTO:+0000
TZNAME:UTC
DTSTART:20090101T000000
END:STANDARD
END:VTIMEZONE
BEGIN:VEVENT
DTSTART;VALUE=DATE:20161127
DTEND;VALUE=DATE:20161128
DTSTAMP:20260420T135113
CREATED:20120713T201134Z
LAST-MODIFIED:20190423T112034Z
UID:11502-1480204800-1480204800@hardloopevenementen.com
SUMMARY:Duinstrandloop 's-Gravenhage\, gemeente Den Haag (ZH)
DESCRIPTION:Doe mee met het hardloopevenement Duinstrandloop te ‘s-Gravenhage\, gemeente Den Haag (ZH) op zo 27 nov 2016. De volgende afstanden staan op het programma: 8\,5 km hardlopen. Wilt u inschrijven voor dit loopevenement?  Raadpleeg hiervoor dan de website van de organisatie\nDe uitslagen van deze hardloopwedstrijd zijn te raadplegen via dezelfde website of via de bekende websites zoals uitslagen.nl\, runtimer en mylaps. Doet u mee met dit evenement\, zorg dan dat u goed voorbereid aan de start staat! Met een goed trainingsschema komt u een heel eind. Train bijvoorbeeld met start to run van Evy Gruyaert. Download de start to run mp3 bestanden en zet ze op uw telefoon. Oortjes in\, hit the play button en en rennen maar! \n\n\n\n\nMeer informatie over Duinstrandloop op Hardloopkalender.nl  \nHet loopevenement Duinstrandloop te ‘S Gravenhage vindt plaats op zondag 27 november 2016. \n  \n  \n 
URL:https://hardloopevenementen.com/loopagenda/duinstrandloop-s-gravenhage-gemeente-den-haag-zh-6/
END:VEVENT
BEGIN:VEVENT
DTSTART;VALUE=DATE:20151129
DTEND;VALUE=DATE:20151130
DTSTAMP:20260420T135113
CREATED:20151007T015441Z
LAST-MODIFIED:20190423T110708Z
UID:9318-1448755200-1448755200@hardloopevenementen.com
SUMMARY:Duinstrandloop Den Haag (ZH)
DESCRIPTION:Doe mee met het hardloopevenement Duinstrandloop te Den Haag (ZH) op zo 29 nov 2015. De volgende afstanden staan op het programma: 8\,5 km hardlopen. Wilt u inschrijven voor dit loopevenement?  Raadpleeg hiervoor dan de website van de organisatie\nDe uitslagen van deze hardloopwedstrijd zijn te raadplegen via dezelfde website of via de bekende websites zoals uitslagen.nl\, runtimer en mylaps. Doet u mee met dit evenement\, zorg dan dat u goed voorbereid aan de start staat! Met een goed trainingsschema komt u een heel eind. Train bijvoorbeeld met start to run van Evy Gruyaert. Download de start to run mp3 bestanden en zet ze op uw telefoon. Oortjes in\, hit the play button en en rennen maar! \n\n\n\n\nMeer informatie over Duinstrandloop op Hardloopkalender.nl  \nHet loopevenement Duinstrandloop te ‘S Gravenhage vindt plaats op zondag 29 november 2015. \n  \n  \n 
URL:https://hardloopevenementen.com/loopagenda/duinstrandloop-den-haag-zh/
END:VEVENT
BEGIN:VEVENT
DTSTART;VALUE=DATE:20141130
DTEND;VALUE=DATE:20141201
DTSTAMP:20260420T135113
CREATED:20090216T191336Z
LAST-MODIFIED:20190423T104904Z
UID:8612-1417305600-1417305600@hardloopevenementen.com
SUMMARY:Duinstrandloop 's-Gravenhage\, gemeente Den Haag (ZH)
DESCRIPTION:Doe mee met het hardloopevenement Duinstrandloop te ‘s-Gravenhage\, gemeente Den Haag (ZH) op zo 30 nov 2014. De volgende afstanden staan op het programma: 8\,5 km hardlopen. Wilt u inschrijven voor dit loopevenement?  Raadpleeg hiervoor dan de website van de organisatie\nDe uitslagen van deze hardloopwedstrijd zijn te raadplegen via dezelfde website of via de bekende websites zoals uitslagen.nl\, runtimer en mylaps. Doet u mee met dit evenement\, zorg dan dat u goed voorbereid aan de start staat! Met een goed trainingsschema komt u een heel eind. Train bijvoorbeeld met start to run van Evy Gruyaert. Download de start to run mp3 bestanden en zet ze op uw telefoon. Oortjes in\, hit the play button en en rennen maar! \n\n\n\n\nMeer informatie over Duinstrandloop op Hardloopkalender.nl  \nHet loopevenement Duinstrandloop te ‘S Gravenhage vindt plaats op zondag 30 november 2014. De loop wordt georganisseerd door Haag Atletiek. Klik hier voor het adres van de start (Google Maps). \n  \n  \n 
URL:https://hardloopevenementen.com/loopagenda/duinstrandloop-s-gravenhage-gemeente-den-haag-zh-5/
END:VEVENT
BEGIN:VEVENT
DTSTART;VALUE=DATE:20131201
DTEND;VALUE=DATE:20131202
DTSTAMP:20260420T135113
CREATED:20111023T033459Z
LAST-MODIFIED:20190423T103754Z
UID:8011-1385856000-1385856000@hardloopevenementen.com
SUMMARY:Duinstrandloop 's-Gravenhage\, gemeente Den Haag (ZH)
DESCRIPTION:Doe mee met het hardloopevenement Duinstrandloop te ‘s-Gravenhage\, gemeente Den Haag (ZH) op zo 01 dec 2013. De volgende afstanden staan op het programma: 8\,5 km hardlopen. Wilt u inschrijven voor dit loopevenement?  Raadpleeg hiervoor dan de website van de organisatie\nDe uitslagen van deze hardloopwedstrijd zijn te raadplegen via dezelfde website of via de bekende websites zoals uitslagen.nl\, runtimer en mylaps. Doet u mee met dit evenement\, zorg dan dat u goed voorbereid aan de start staat! Met een goed trainingsschema komt u een heel eind. Train bijvoorbeeld met start to run van Evy Gruyaert. Download de start to run mp3 bestanden en zet ze op uw telefoon. Oortjes in\, hit the play button en en rennen maar! \n\n\n\n\nMeer informatie over Duinstrandloop op Hardloopkalender.nl  \nHet loopevenement Duinstrandloop te ‘S Gravenhage vindt plaats op zondag 01 december 2013. De loop wordt georganisseerd door Haag Atletiek. Inschrijven is mogelijk vanaf 30 oktober 2012. Klik hier voor het adres van de start (Google Maps).Er is verkleedaccomodatie met douchemogelijkheid aanwezig. Voor meer informatie:Marleen Westhoffm.a.westhoff@hetnet.nl0703681919http:  www.haagatletiek.nl \n  \n  \n 
URL:https://hardloopevenementen.com/loopagenda/duinstrandloop-s-gravenhage-gemeente-den-haag-zh-4/
END:VEVENT
BEGIN:VEVENT
DTSTART;VALUE=DATE:20121202
DTEND;VALUE=DATE:20121203
DTSTAMP:20260420T135113
CREATED:20100209T050449Z
LAST-MODIFIED:20190423T102725Z
UID:7255-1354406400-1354406400@hardloopevenementen.com
SUMMARY:Duinstrandloop 's-Gravenhage\, gemeente Den Haag (ZH)
DESCRIPTION:Doe mee met het hardloopevenement Duinstrandloop te ‘s-Gravenhage\, gemeente Den Haag (ZH) op zo 02 dec 2012. De volgende afstanden staan op het programma: 8\,5 km hardlopen. Wilt u inschrijven voor dit loopevenement?  Raadpleeg hiervoor dan de website van de organisatie\nDe uitslagen van deze hardloopwedstrijd zijn te raadplegen via dezelfde website of via de bekende websites zoals uitslagen.nl\, runtimer en mylaps. Doet u mee met dit evenement\, zorg dan dat u goed voorbereid aan de start staat! Met een goed trainingsschema komt u een heel eind. Train bijvoorbeeld met start to run van Evy Gruyaert. Download de start to run mp3 bestanden en zet ze op uw telefoon. Oortjes in\, hit the play button en en rennen maar! \n\n\n\n\nMeer informatie over Duinstrandloop op Hardloopkalender.nl  \nHet loopevenement Duinstrandloop te ’s Gravenhage vindt plaats op zondag 02 december 2012. De loop wordt georganiseerd door Haag Atletiek. Inschrijven is mogelijk vanaf 30 oktober 2012. Klik hier voor het adres van de start (Google Maps).Afstand SoortloopInschrijfgeldStarttijdInfo8.5 km0\,0012.00Voor meer informatie:Marleen Westhoffm.a.westhoff@hetnet.nl0703681919http:  www.haagatletiek.nl \n  \n  \n 
URL:https://hardloopevenementen.com/loopagenda/duinstrandloop-s-gravenhage-gemeente-den-haag-zh-3/
END:VEVENT
BEGIN:VEVENT
DTSTART;VALUE=DATE:20111204
DTEND;VALUE=DATE:20111205
DTSTAMP:20260420T135113
CREATED:20070310T131930Z
LAST-MODIFIED:20190423T101653Z
UID:5867-1322956800-1322956800@hardloopevenementen.com
SUMMARY:Duinstrandloop 's-Gravenhage\, gemeente Den Haag (ZH)
DESCRIPTION:Doe mee met het hardloopevenement Duinstrandloop te ‘s-Gravenhage\, gemeente Den Haag (ZH) op zo 04 dec 2011. De volgende afstanden staan op het programma: 8\,5 km hardlopen. Wilt u inschrijven voor dit loopevenement?  Raadpleeg hiervoor dan de website van de organisatie\nDe uitslagen van deze hardloopwedstrijd zijn te raadplegen via dezelfde website of via de bekende websites zoals uitslagen.nl\, runtimer en mylaps. Doet u mee met dit evenement\, zorg dan dat u goed voorbereid aan de start staat! Met een goed trainingsschema komt u een heel eind. Train bijvoorbeeld met start to run van Evy Gruyaert. Download de start to run mp3 bestanden en zet ze op uw telefoon. Oortjes in\, hit the play button en en rennen maar! \n\n\n\n\nMeer informatie over Duinstrandloop op Hardloopkalender.nl  \nHet loopevenement Duinstrandloop te ’s Gravenhage vindt plaats op zondag 04 december 2011. De loop wordt georganiseerd door Haag Atletiek. Inschrijven is mogelijk vanaf 01 november 2011. Klik hier voor het adres van de start (Google Maps).Er is verkleedaccomodatie met douchemogelijkheid aanwezig. Afstand(km)Inschrijfgeld()Starttijd8\,5km3\,0012Voor meer informatie:Liliane Mandemafysio@ziggo.nl0703681919http:  www.haagatletiek.nl \n  \n  \n 
URL:https://hardloopevenementen.com/loopagenda/duinstrandloop-s-gravenhage-gemeente-den-haag-zh-2/
END:VEVENT
BEGIN:VEVENT
DTSTART;VALUE=DATE:20101128
DTEND;VALUE=DATE:20101129
DTSTAMP:20260420T135113
CREATED:20060917T164504Z
LAST-MODIFIED:20190423T100615Z
UID:3186-1290902400-1290902400@hardloopevenementen.com
SUMMARY:Duinstrandloop 's-Gravenhage\, gemeente Den Haag (ZH)
DESCRIPTION:Doe mee met het hardloopevenement Duinstrandloop te ‘s-Gravenhage\, gemeente Den Haag (ZH) op zo 28 nov 2010. De volgende afstanden staan op het programma: 8\,5 km hardlopen. Wilt u inschrijven voor dit loopevenement?  Raadpleeg hiervoor dan de website van de organisatie\nDe uitslagen van deze hardloopwedstrijd zijn te raadplegen via dezelfde website of via de bekende websites zoals uitslagen.nl\, runtimer en mylaps. Doet u mee met dit evenement\, zorg dan dat u goed voorbereid aan de start staat! Met een goed trainingsschema komt u een heel eind. Train bijvoorbeeld met start to run van Evy Gruyaert. Download de start to run mp3 bestanden en zet ze op uw telefoon. Oortjes in\, hit the play button en en rennen maar! \n\n\n\n\nMeer informatie over Duinstrandloop op Hardloopkalender.nl  \nDit loopevenement wordt georganiseerd door Haag Atletiek.De eerste afstand (of onderdeel) start om 12:00.Het adres van de start en de finish is Laan van Poot353Categorie(ën): mannen\, vrouwen\, jeugdVooraf inschrijven is mogelijk vanaf 01 november 2010 tot 22 november 2010.Inschrijven op de dag van de loop is mogelijk (vanaf 10.45-11.55) op dit adres: Laan van Poot kantine.Meer informatie:Contactpersoon: Liliane MandemaTel.: 0703681919Email: fysio@ziggo.nlEr is een kleedaccomodatie aanwezig. Douchen is mogelijk.Het parcours is deels onverhard.Overige bijzonderheden:  Het parcours loopt door het mooie natuurgebied ‘Het Buurserzand’. \n  \n  \n 
URL:https://hardloopevenementen.com/loopagenda/duinstrandloop-s-gravenhage-gemeente-den-haag-zh/
END:VEVENT
END:VCALENDAR