BEGIN:VCALENDAR
VERSION:2.0
PRODID:-//Hardloopevenementen - ECPv6.15.14//NONSGML v1.0//EN
CALSCALE:GREGORIAN
METHOD:PUBLISH
X-WR-CALNAME:Hardloopevenementen
X-ORIGINAL-URL:https://hardloopevenementen.com
X-WR-CALDESC:Evenementen voor Hardloopevenementen
REFRESH-INTERVAL;VALUE=DURATION:PT1H
X-Robots-Tag:noindex
X-PUBLISHED-TTL:PT1H
BEGIN:VTIMEZONE
TZID:UTC
BEGIN:STANDARD
TZOFFSETFROM:+0000
TZOFFSETTO:+0000
TZNAME:UTC
DTSTART:20140101T000000
END:STANDARD
END:VTIMEZONE
BEGIN:VEVENT
DTSTART;VALUE=DATE:20150426
DTEND;VALUE=DATE:20150427
DTSTAMP:20260421T161410
CREATED:20160811T211759Z
LAST-MODIFIED:20190423T111247Z
UID:10599-1430006400-1430006400@hardloopevenementen.com
SUMMARY:Spoorbrug Eerste Dwarsdiep Marathon Stadskanaal (GR)
DESCRIPTION:Doe mee met het hardloopevenement Spoorbrug Eerste Dwarsdiep Marathon te Stadskanaal (GR) op zo 26 apr 2015. De volgende afstanden staan op het programma: marathon hardlopen. Wilt u inschrijven voor dit loopevenement?  Raadpleeg hiervoor dan de website van de organisatie\nDe uitslagen van deze hardloopwedstrijd zijn te raadplegen via dezelfde website of via de bekende websites zoals uitslagen.nl\, runtimer en mylaps. Doet u mee met dit evenement\, zorg dan dat u goed voorbereid aan de start staat! Met een goed trainingsschema komt u een heel eind. Train bijvoorbeeld met start to run van Evy Gruyaert. Download de start to run mp3 bestanden en zet ze op uw telefoon. Oortjes in\, hit the play button en en rennen maar! \n\n\n\n\nMeer informatie over Spoorbrug Eerste Dwarsdiep Marathon op Hardloopkalender.nl  \nHet loopevenement Spoorbrug Eerste Dwarsdiep Marathon te Stadskanaal vindt plaats op zondag 26 april 2015. \n  \n  \n 
URL:https://hardloopevenementen.com/loopagenda/spoorbrug-eerste-dwarsdiep-marathon-stadskanaal-gr/
END:VEVENT
END:VCALENDAR