BEGIN:VCALENDAR
VERSION:2.0
PRODID:-//Hardloopevenementen - ECPv6.15.14//NONSGML v1.0//EN
CALSCALE:GREGORIAN
METHOD:PUBLISH
X-ORIGINAL-URL:https://hardloopevenementen.com
X-WR-CALDESC:Evenementen voor Hardloopevenementen
REFRESH-INTERVAL;VALUE=DURATION:PT1H
X-Robots-Tag:noindex
X-PUBLISHED-TTL:PT1H
BEGIN:VTIMEZONE
TZID:UTC
BEGIN:STANDARD
TZOFFSETFROM:+0000
TZOFFSETTO:+0000
TZNAME:UTC
DTSTART:20160101T000000
END:STANDARD
END:VTIMEZONE
BEGIN:VEVENT
DTSTART;VALUE=DATE:20190309
DTEND;VALUE=DATE:20190310
DTSTAMP:20260420T173635
CREATED:20120203T105903Z
LAST-MODIFIED:20191114T112741Z
UID:17653-1552089600-1552089600@hardloopevenementen.com
SUMMARY:Eigen Jeugd cross Dynamica Dishoek\, gemeente Veere (ZE)
DESCRIPTION:Doe mee met het hardloopevenement Eigen Jeugd cross Dynamica te Dishoek\, gemeente Veere (ZE) op za 09 mrt 2019. De volgende afstanden staan op het programma: 0\,5 km hardlopen. Wilt u inschrijven voor dit loopevenement?  Raadpleeg hiervoor dan de website van de organisatie\nDe uitslagen van deze hardloopwedstrijd zijn te raadplegen via dezelfde website of via de bekende websites zoals uitslagen.nl\, runtimer en mylaps. Doet u mee met dit evenement\, zorg dan dat u goed voorbereid aan de start staat! Met een goed trainingsschema komt u een heel eind. Train bijvoorbeeld met start to run van Evy Gruyaert. Download de start to run mp3 bestanden en zet ze op uw telefoon. Oortjes in\, hit the play button en en rennen maar! \n\n\n\n\nMeer informatie over Eigen Jeugd cross Dynamica op Hardloopkalender.nl  \n  \n  \n 
URL:https://hardloopevenementen.com/loopagenda/eigen-jeugd-cross-dynamica-dishoek-gemeente-veere-ze-2/
END:VEVENT
BEGIN:VEVENT
DTSTART;VALUE=DATE:20180310
DTEND;VALUE=DATE:20180311
DTSTAMP:20260420T173635
CREATED:20110417T005018Z
LAST-MODIFIED:20190423T120630Z
UID:16989-1520640000-1520640000@hardloopevenementen.com
SUMMARY:Eigen Jeugd cross Dynamica Dishoek\, gemeente Veere (ZE)
DESCRIPTION:Doe mee met het hardloopevenement Eigen Jeugd cross Dynamica te Dishoek\, gemeente Veere (ZE) op za 10 mrt 2018. De volgende afstanden staan op het programma: 2\,4 km hardlopen. Wilt u inschrijven voor dit loopevenement?  Raadpleeg hiervoor dan de website van de organisatie\nDe uitslagen van deze hardloopwedstrijd zijn te raadplegen via dezelfde website of via de bekende websites zoals uitslagen.nl\, runtimer en mylaps. Doet u mee met dit evenement\, zorg dan dat u goed voorbereid aan de start staat! Met een goed trainingsschema komt u een heel eind. Train bijvoorbeeld met start to run van Evy Gruyaert. Download de start to run mp3 bestanden en zet ze op uw telefoon. Oortjes in\, hit the play button en en rennen maar! \n\n\n\n\nMeer informatie over Eigen Jeugd cross Dynamica op Hardloopkalender.nl  \n  \n  \n 
URL:https://hardloopevenementen.com/loopagenda/eigen-jeugd-cross-dynamica-dishoek-gemeente-veere-ze/
END:VEVENT
BEGIN:VEVENT
DTSTART;VALUE=DATE:20170311
DTEND;VALUE=DATE:20170312
DTSTAMP:20260420T173635
CREATED:20120928T183615Z
LAST-MODIFIED:20190423T114755Z
UID:15151-1489190400-1489190400@hardloopevenementen.com
SUMMARY:Jeugd cross Dynamica Dishoek\, gemeente Veere (ZE)
DESCRIPTION:Doe mee met het hardloopevenement Jeugd cross Dynamica te Dishoek\, gemeente Veere (ZE) op za 11 mrt 2017. De volgende afstanden staan op het programma: 2\,4 km hardlopen. Wilt u inschrijven voor dit loopevenement?  Raadpleeg hiervoor dan de website van de organisatie\nDe uitslagen van deze hardloopwedstrijd zijn te raadplegen via dezelfde website of via de bekende websites zoals uitslagen.nl\, runtimer en mylaps. Doet u mee met dit evenement\, zorg dan dat u goed voorbereid aan de start staat! Met een goed trainingsschema komt u een heel eind. Train bijvoorbeeld met start to run van Evy Gruyaert. Download de start to run mp3 bestanden en zet ze op uw telefoon. Oortjes in\, hit the play button en en rennen maar! \n\n\n\n\nMeer informatie over Jeugd cross Dynamica op Hardloopkalender.nl  \n  \n  \n 
URL:https://hardloopevenementen.com/loopagenda/jeugd-cross-dynamica-dishoek-gemeente-veere-ze/
END:VEVENT
END:VCALENDAR