BEGIN:VCALENDAR
VERSION:2.0
PRODID:-//Hardloopevenementen - ECPv6.15.14//NONSGML v1.0//EN
CALSCALE:GREGORIAN
METHOD:PUBLISH
X-ORIGINAL-URL:https://hardloopevenementen.com
X-WR-CALDESC:Evenementen voor Hardloopevenementen
REFRESH-INTERVAL;VALUE=DURATION:PT1H
X-Robots-Tag:noindex
X-PUBLISHED-TTL:PT1H
BEGIN:VTIMEZONE
TZID:UTC
BEGIN:STANDARD
TZOFFSETFROM:+0000
TZOFFSETTO:+0000
TZNAME:UTC
DTSTART:20140101T000000
END:STANDARD
END:VTIMEZONE
BEGIN:VEVENT
DTSTART;VALUE=DATE:20171118
DTEND;VALUE=DATE:20171119
DTSTAMP:20260423T011815
CREATED:20130328T190432Z
LAST-MODIFIED:20190423T114237Z
UID:13731-1510963200-1510963200@hardloopevenementen.com
SUMMARY:Easyrun Monster\, gemeente Westland (ZH)
DESCRIPTION:Doe mee met het hardloopevenement Easyrun te Monster\, gemeente Westland (ZH) op za 18 nov 2017. De volgende afstanden staan op het programma: 5\,7 km – 10 km – halve marathon hardlopen. Wilt u inschrijven voor dit loopevenement?  Raadpleeg hiervoor dan de website van de organisatie\nDe uitslagen van deze hardloopwedstrijd zijn te raadplegen via dezelfde website of via de bekende websites zoals uitslagen.nl\, runtimer en mylaps. Doet u mee met dit evenement\, zorg dan dat u goed voorbereid aan de start staat! Met een goed trainingsschema komt u een heel eind. Train bijvoorbeeld met start to run van Evy Gruyaert. Download de start to run mp3 bestanden en zet ze op uw telefoon. Oortjes in\, hit the play button en en rennen maar! \n\n\n\n\nMeer informatie over Easyrun op Hardloopkalender.nl  \nKomend jaar de 43e editie van de Halve Marathon van Monster. De hoogtepunten op een rij:  Dankzij de sponsor myEasyoffice heet de halve marathon nu EasyRun  Dankzij de sponsor Zier Running heet de 10\,3 kilometer nu Zier Running 10 km  Dankzij de sponsor Opti-flor heet de 5 kilometer nu de Opti-flor Run  We starten weer voor de Wielepet.  De afstanden starten wederom kort na elkaar: de EasyRun (halve marathon) om 14:00 uur\, de Zier Running 10 km (10\,3 km)om 14:10 uur en de Opti-flor Run (5\,7 km) om 14:20 uur \n  \n  \n 
URL:https://hardloopevenementen.com/loopagenda/easyrun-monster-gemeente-westland-zh/
END:VEVENT
BEGIN:VEVENT
DTSTART;VALUE=DATE:20151031
DTEND;VALUE=DATE:20151101
DTSTAMP:20260423T011815
CREATED:20161224T234727Z
LAST-MODIFIED:20190423T110756Z
UID:9501-1446249600-1446249600@hardloopevenementen.com
SUMMARY:halve marathon van Monster EasyRun Monster\, gemeente Westland (ZH)
DESCRIPTION:Doe mee met het hardloopevenement halve marathon van Monster EasyRun te Monster\, gemeente Westland (ZH) op za 31 okt 2015. De volgende afstanden staan op het programma: 5\,7 km – 10 km – halve marathon hardlopen. Wilt u inschrijven voor dit loopevenement?  Raadpleeg hiervoor dan de website van de organisatie\nDe uitslagen van deze hardloopwedstrijd zijn te raadplegen via dezelfde website of via de bekende websites zoals uitslagen.nl\, runtimer en mylaps. Doet u mee met dit evenement\, zorg dan dat u goed voorbereid aan de start staat! Met een goed trainingsschema komt u een heel eind. Train bijvoorbeeld met start to run van Evy Gruyaert. Download de start to run mp3 bestanden en zet ze op uw telefoon. Oortjes in\, hit the play button en en rennen maar! \n\n\n\n\nMeer informatie over halve marathon van Monster EasyRun op Hardloopkalender.nl  \nstart 21\,1 km om 14.00 uur  start 10 km om 14.10 uur  start 5\,7 km om 14.20 uur  Alle starts naast sporthal de Wielepet aan de Heijdseweg 9\, 2681 VN te Monster    parkoersen over fietsduinpaden en strand\, waterposten en tijdklokken iedere 5 km. \n  \n  \n 
URL:https://hardloopevenementen.com/loopagenda/halve-marathon-van-monster-easyrun-monster-gemeente-westland-zh/
END:VEVENT
END:VCALENDAR