BEGIN:VCALENDAR
VERSION:2.0
PRODID:-//Hardloopevenementen - ECPv6.15.14//NONSGML v1.0//EN
CALSCALE:GREGORIAN
METHOD:PUBLISH
X-ORIGINAL-URL:https://hardloopevenementen.com
X-WR-CALDESC:Evenementen voor Hardloopevenementen
REFRESH-INTERVAL;VALUE=DURATION:PT1H
X-Robots-Tag:noindex
X-PUBLISHED-TTL:PT1H
BEGIN:VTIMEZONE
TZID:UTC
BEGIN:STANDARD
TZOFFSETFROM:+0000
TZOFFSETTO:+0000
TZNAME:UTC
DTSTART:20150101T000000
END:STANDARD
END:VTIMEZONE
BEGIN:VEVENT
DTSTART;VALUE=DATE:20181021
DTEND;VALUE=DATE:20181022
DTSTAMP:20260420T123227
CREATED:20091215T074908Z
LAST-MODIFIED:20190423T120200Z
UID:15786-1540080000-1540080000@hardloopevenementen.com
SUMMARY:Ecommercerun Utrecht (UT)
DESCRIPTION:Doe mee met het hardloopevenement Ecommercerun te Utrecht (UT) op zo 21 okt 2018. De volgende afstanden staan op het programma: 6 km – 10 km hardlopen. Wilt u inschrijven voor dit loopevenement?  Raadpleeg hiervoor dan de website van de organisatie\nDe uitslagen van deze hardloopwedstrijd zijn te raadplegen via dezelfde website of via de bekende websites zoals uitslagen.nl\, runtimer en mylaps. Doet u mee met dit evenement\, zorg dan dat u goed voorbereid aan de start staat! Met een goed trainingsschema komt u een heel eind. Train bijvoorbeeld met start to run van Evy Gruyaert. Download de start to run mp3 bestanden en zet ze op uw telefoon. Oortjes in\, hit the play button en en rennen maar! \n\n\n\n\nMeer informatie over Ecommercerun op Hardloopkalender.nl  \nDe Ecommercerun maakt deel uit van de Maliebaanloop (zondag 21-10-2018 in Utrecht) en wordt voor en door mensen uit de ecommerce georganiseerd. \n  \n  \n 
URL:https://hardloopevenementen.com/loopagenda/ecommercerun-utrecht-ut-2/
END:VEVENT
BEGIN:VEVENT
DTSTART;VALUE=DATE:20161016
DTEND;VALUE=DATE:20161017
DTSTAMP:20260420T123227
CREATED:20170515T061553Z
LAST-MODIFIED:20190423T112123Z
UID:11725-1476576000-1476576000@hardloopevenementen.com
SUMMARY:Ecommercerun Utrecht (UT)
DESCRIPTION:Doe mee met het hardloopevenement Ecommercerun te Utrecht (UT) op zo 16 okt 2016. De volgende afstanden staan op het programma: 6 km – 10 km hardlopen. Wilt u inschrijven voor dit loopevenement?  Raadpleeg hiervoor dan de website van de organisatie\nDe uitslagen van deze hardloopwedstrijd zijn te raadplegen via dezelfde website of via de bekende websites zoals uitslagen.nl\, runtimer en mylaps. Doet u mee met dit evenement\, zorg dan dat u goed voorbereid aan de start staat! Met een goed trainingsschema komt u een heel eind. Train bijvoorbeeld met start to run van Evy Gruyaert. Download de start to run mp3 bestanden en zet ze op uw telefoon. Oortjes in\, hit the play button en en rennen maar! \n\n\n\n\nMeer informatie over Ecommercerun op Hardloopkalender.nl  \nVanuit Ecommerce News organiseren we jaarlijks een eigen Ecommercerun http:  www.ecommercerun.nl. Deze run maakt deel uit van de Maliebaanloop en wordt georganiseerd door en voor mensen uit de ecommerce-branche. Dit jaar wordt het extra leuk\, want dan vindt alweer de eerste lustrumeditie plaats. Er kunnen ongeveer honderd mensen meedoen aan de Ecommercerun. Inschrijven kan via deze link: http:  ecommercerun.nl inschrijven \n  \n  \n 
URL:https://hardloopevenementen.com/loopagenda/ecommercerun-utrecht-ut/
END:VEVENT
END:VCALENDAR