BEGIN:VCALENDAR
VERSION:2.0
PRODID:-//Hardloopevenementen - ECPv6.15.14//NONSGML v1.0//EN
CALSCALE:GREGORIAN
METHOD:PUBLISH
X-ORIGINAL-URL:https://hardloopevenementen.com
X-WR-CALDESC:Evenementen voor Hardloopevenementen
REFRESH-INTERVAL;VALUE=DURATION:PT1H
X-Robots-Tag:noindex
X-PUBLISHED-TTL:PT1H
BEGIN:VTIMEZONE
TZID:UTC
BEGIN:STANDARD
TZOFFSETFROM:+0000
TZOFFSETTO:+0000
TZNAME:UTC
DTSTART:20120101T000000
END:STANDARD
END:VTIMEZONE
BEGIN:VEVENT
DTSTART;VALUE=DATE:20191116
DTEND;VALUE=DATE:20191117
DTSTAMP:20260425T150453
CREATED:20120407T065557Z
LAST-MODIFIED:20191114T112347Z
UID:43202-1573862400-1573862400@hardloopevenementen.com
SUMMARY:Airport Nightrun Groningen Eelde Groningen (GR)
DESCRIPTION:Doe mee met het hardloopevenement Airport Nightrun Groningen Eelde te Groningen (GR) op za 16 nov 2019. De volgende afstanden staan op het programma: 5 km – 7\,5 km – 10 km hardlopen. Wilt u inschrijven voor dit loopevenement?  Raadpleeg hiervoor dan de website van de organisatie\nDe uitslagen van deze hardloopwedstrijd zijn te raadplegen via dezelfde website of via de bekende websites zoals uitslagen.nl\, runtimer en mylaps. Doet u mee met dit evenement\, zorg dan dat u goed voorbereid aan de start staat! Met een goed trainingsschema komt u een heel eind. Train bijvoorbeeld met start to run van Evy Gruyaert. Download de start to run mp3 bestanden en zet ze op uw telefoon. Oortjes in\, hit the play button en en rennen maar! \n\n\n\n\nMeer informatie over Airport Nightrun Groningen Eelde op Hardloopkalender.nl  \nDe Airport Night Run is een hardloopevenement waarin deelnemers een parcours in het donker afleggen rondom en over vliegveld Groningen Eelde. Het nachtelijk parcours van 10 km\, 7\,5 km of 5 km voert deelnemers door de bossen van Vosbergen en over de landingsbaan van de Noordelijke luchthaven. Zo is er voor iedereen een geschikte afstand. Tijdens de loop vind je prachtig uitgelicht entertainment in het bos en op de landingsbaan. Neem je lichtjes mee en maak er een mooi feest van! \n  \n  \n 
URL:https://hardloopevenementen.com/loopagenda/airport-nightrun-groningen-eelde-groningen-gr/
END:VEVENT
BEGIN:VEVENT
DTSTART;VALUE=DATE:20190615
DTEND;VALUE=DATE:20190616
DTSTAMP:20260425T150453
CREATED:20071020T175035Z
LAST-MODIFIED:20191114T112600Z
UID:43573-1560556800-1560556800@hardloopevenementen.com
SUMMARY:Rabocup Assen en Noord Drenthe Steeds Beter Run Eelde Eelde\, gemeente Tynaarlo (DR)
DESCRIPTION:Doe mee met het hardloopevenement Rabocup Assen en Noord Drenthe Steeds Beter Run Eelde te Eelde\, gemeente Tynaarlo (DR) op za 15 jun 2019. De volgende afstanden staan op het programma: 0\,5 km – 1 km – 6\,4 km – 12\,8 km – halve marathon hardlopen. Wilt u inschrijven voor dit loopevenement?  Raadpleeg hiervoor dan de website van de organisatie\nDe uitslagen van deze hardloopwedstrijd zijn te raadplegen via dezelfde website of via de bekende websites zoals uitslagen.nl\, runtimer en mylaps. Doet u mee met dit evenement\, zorg dan dat u goed voorbereid aan de start staat! Met een goed trainingsschema komt u een heel eind. Train bijvoorbeeld met start to run van Evy Gruyaert. Download de start to run mp3 bestanden en zet ze op uw telefoon. Oortjes in\, hit the play button en en rennen maar! \n\n\n\n\nMeer informatie over Rabocup Assen en Noord Drenthe Steeds Beter Run Eelde op Hardloopkalender.nl  \n  \n  \n 
URL:https://hardloopevenementen.com/loopagenda/rabocup-assen-en-noord-drenthe-steeds-beter-run-eelde-eelde-gemeente-tynaarlo-dr-2/
END:VEVENT
BEGIN:VEVENT
DTSTART;VALUE=DATE:20180630
DTEND;VALUE=DATE:20180701
DTSTAMP:20260425T150453
CREATED:20110505T105723Z
LAST-MODIFIED:20190423T120359Z
UID:16309-1530316800-1530316800@hardloopevenementen.com
SUMMARY:Rabocup Assen en Noord Drenthe Steeds Beter Run Eelde Eelde\, gemeente Tynaarlo (DR)
DESCRIPTION:Doe mee met het hardloopevenement Rabocup Assen en Noord Drenthe Steeds Beter Run Eelde te Eelde\, gemeente Tynaarlo (DR) op za 30 jun 2018. De volgende afstanden staan op het programma: 0\,5 km – 1 km – 5 km – 10 km hardlopen. Wilt u inschrijven voor dit loopevenement?  Raadpleeg hiervoor dan de website van de organisatie\nDe uitslagen van deze hardloopwedstrijd zijn te raadplegen via dezelfde website of via de bekende websites zoals uitslagen.nl\, runtimer en mylaps. Doet u mee met dit evenement\, zorg dan dat u goed voorbereid aan de start staat! Met een goed trainingsschema komt u een heel eind. Train bijvoorbeeld met start to run van Evy Gruyaert. Download de start to run mp3 bestanden en zet ze op uw telefoon. Oortjes in\, hit the play button en en rennen maar! \n\n\n\n\nMeer informatie over Rabocup Assen en Noord Drenthe Steeds Beter Run Eelde op Hardloopkalender.nl  \n  \n  \n 
URL:https://hardloopevenementen.com/loopagenda/rabocup-assen-en-noord-drenthe-steeds-beter-run-eelde-eelde-gemeente-tynaarlo-dr/
END:VEVENT
BEGIN:VEVENT
DTSTART;VALUE=DATE:20130830
DTEND;VALUE=DATE:20130831
DTSTAMP:20260425T150453
CREATED:20130722T162206Z
LAST-MODIFIED:20190423T104035Z
UID:31232-1377820800-1377820800@hardloopevenementen.com
SUMMARY:Rabocup Noord Drenthe Eelde Eelde\, gemeente Tynaarlo (DR)
DESCRIPTION:Doe mee met het hardloopevenement Rabocup Noord Drenthe Eelde te Eelde\, gemeente Tynaarlo (DR) op vr 30 aug 2013. De volgende afstanden staan op het programma: 5 km – 10 km hardlopen. Wilt u inschrijven voor dit loopevenement?  Raadpleeg hiervoor dan de website van de organisatie\nDe uitslagen van deze hardloopwedstrijd zijn te raadplegen via dezelfde website of via de bekende websites zoals uitslagen.nl\, runtimer en mylaps. Doet u mee met dit evenement\, zorg dan dat u goed voorbereid aan de start staat! Met een goed trainingsschema komt u een heel eind. Train bijvoorbeeld met start to run van Evy Gruyaert. Download de start to run mp3 bestanden en zet ze op uw telefoon. Oortjes in\, hit the play button en en rennen maar! \n\n\n\n\nMeer informatie over Rabocup Noord Drenthe Eelde op Hardloopkalender.nl  \nHet loopevenement Rabocup Noord Drenthe Eelde te Zuidlaren vindt plaats op 30 augustus 2013. De loop wordt georganisseerd door Stichting De Kop van Drenthe. Inschrijven is mogelijk vanaf 19 augustus 2013. Klik hier voor het adres van de start (Google Maps).Er is verkleedaccomodatie met douchemogelijkheid aanwezig. Er is EHBO aanwezig. Bijzonderheden: De 10km wedstrijd is een onderdeel van de Rabobank Noord-Drenthe circuit.Voor meer informatie:dhr Jans Takensjans.takens@hetnet.nl0592291733http:  www.atletiekunie.nl \n  \n  \n 
URL:https://hardloopevenementen.com/loopagenda/rabocup-noord-drenthe-eelde-eelde-gemeente-tynaarlo-dr/
END:VEVENT
END:VCALENDAR