BEGIN:VCALENDAR
VERSION:2.0
PRODID:-//Hardloopevenementen - ECPv6.15.14//NONSGML v1.0//EN
CALSCALE:GREGORIAN
METHOD:PUBLISH
X-ORIGINAL-URL:https://hardloopevenementen.com
X-WR-CALDESC:Evenementen voor Hardloopevenementen
REFRESH-INTERVAL;VALUE=DURATION:PT1H
X-Robots-Tag:noindex
X-PUBLISHED-TTL:PT1H
BEGIN:VTIMEZONE
TZID:UTC
BEGIN:STANDARD
TZOFFSETFROM:+0000
TZOFFSETTO:+0000
TZNAME:UTC
DTSTART:20060101T000000
END:STANDARD
END:VTIMEZONE
BEGIN:VEVENT
DTSTART;VALUE=DATE:20190511
DTEND;VALUE=DATE:20190512
DTSTAMP:20260421T043931
CREATED:20150912T144254Z
LAST-MODIFIED:20191114T112639Z
UID:43734-1557532800-1557532800@hardloopevenementen.com
SUMMARY:duathlon - hardlopen en fietsen in een duo Laag-Soeren\, gemeente Rheden (GE)
DESCRIPTION:Doe mee met het hardloopevenement duathlon – hardlopen en fietsen in een duo te Laag-Soeren\, gemeente Rheden (GE) op za 11 mei 2019. De volgende afstanden staan op het programma: 15 km hardlopen. Wilt u inschrijven voor dit loopevenement?  Raadpleeg hiervoor dan de website van de organisatie\nDe uitslagen van deze hardloopwedstrijd zijn te raadplegen via dezelfde website of via de bekende websites zoals uitslagen.nl\, runtimer en mylaps. Doet u mee met dit evenement\, zorg dan dat u goed voorbereid aan de start staat! Met een goed trainingsschema komt u een heel eind. Train bijvoorbeeld met start to run van Evy Gruyaert. Download de start to run mp3 bestanden en zet ze op uw telefoon. Oortjes in\, hit the play button en en rennen maar! \n\n\n\n\nMeer informatie over duathlon – hardlopen en fietsen in een duo op Hardloopkalender.nl  \nDUathlon hardlopen en fietsen in een duo  mag zo vaak wisselen als wenselijk maar hoeft niet  15 km over de flanken van de veluwezoom dus met flink hoogte verschil  bedoeling is te laten sponseren voor de stichting A.L.S.  in 2018 gedaan voor Stichting Semmy. start om 09.00 vanaf camping Jutberg    info op : loopgroepjutberg@kpnmail.nl \n  \n  \n 
URL:https://hardloopevenementen.com/loopagenda/duathlon-hardlopen-en-fietsen-in-een-duo-laag-soeren-gemeente-rheden-ge/
END:VEVENT
BEGIN:VEVENT
DTSTART;VALUE=DATE:20151122
DTEND;VALUE=DATE:20151123
DTSTAMP:20260421T043931
CREATED:20071212T164133Z
LAST-MODIFIED:20190423T110716Z
UID:9351-1448150400-1448150400@hardloopevenementen.com
SUMMARY:Prestatieloop voor een Kind Rotterdam (ZH)
DESCRIPTION:Doe mee met het hardloopevenement Prestatieloop voor een Kind te Rotterdam (ZH) op zo 22 nov 2015. De volgende afstanden staan op het programma: 2\,5 km – 5 km – 10 km hardlopen. Wilt u inschrijven voor dit loopevenement?  Raadpleeg hiervoor dan de website van de organisatie\nDe uitslagen van deze hardloopwedstrijd zijn te raadplegen via dezelfde website of via de bekende websites zoals uitslagen.nl\, runtimer en mylaps. Doet u mee met dit evenement\, zorg dan dat u goed voorbereid aan de start staat! Met een goed trainingsschema komt u een heel eind. Train bijvoorbeeld met start to run van Evy Gruyaert. Download de start to run mp3 bestanden en zet ze op uw telefoon. Oortjes in\, hit the play button en en rennen maar! \n\n\n\n\nMeer informatie over Prestatieloop voor een Kind op Hardloopkalender.nl  \n  \n  \n 
URL:https://hardloopevenementen.com/loopagenda/prestatieloop-voor-een-kind-rotterdam-zh/
END:VEVENT
BEGIN:VEVENT
DTSTART;VALUE=DATE:20140620
DTEND;VALUE=DATE:20140621
DTSTAMP:20260421T043931
CREATED:20171124T080439Z
LAST-MODIFIED:20190423T105407Z
UID:33808-1403222400-1403222400@hardloopevenementen.com
SUMMARY:even een straatje om Assen (DR)
DESCRIPTION:Doe mee met het hardloopevenement even een straatje om te Assen (DR) op vr 20 jun 2014. De volgende afstanden staan op het programma: 0\,4 km – 0\,8 km – 5 km – 10 km hardlopen. Wilt u inschrijven voor dit loopevenement?  Raadpleeg hiervoor dan de website van de organisatie\nDe uitslagen van deze hardloopwedstrijd zijn te raadplegen via dezelfde website of via de bekende websites zoals uitslagen.nl\, runtimer en mylaps. Doet u mee met dit evenement\, zorg dan dat u goed voorbereid aan de start staat! Met een goed trainingsschema komt u een heel eind. Train bijvoorbeeld met start to run van Evy Gruyaert. Download de start to run mp3 bestanden en zet ze op uw telefoon. Oortjes in\, hit the play button en en rennen maar! \n\n\n\n\nMeer informatie over even een straatje om op Hardloopkalender.nl  \nHet loopevenement even een straatje om te Assen vindt plaats op vrijdag 20 juni 2014. De loop wordt georganisseerd door Ultra runners noord nederland. Klik hier voor het adres van de start (Google Maps).Bijzonderheden: Fantastische avondloop door centrum Assen voor kinderen en volwassenen.. \n  \n  \n 
URL:https://hardloopevenementen.com/loopagenda/even-een-straatje-om-assen-dr/
END:VEVENT
BEGIN:VEVENT
DTSTART;VALUE=DATE:20140103
DTEND;VALUE=DATE:20140104
DTSTAMP:20260421T043931
CREATED:20160923T171122Z
LAST-MODIFIED:20190423T105912Z
UID:34953-1388707200-1388707200@hardloopevenementen.com
SUMMARY:even een straatje om Assen (DR)
DESCRIPTION:Doe mee met het hardloopevenement even een straatje om te Assen (DR) op vr 03 jan 2014. De volgende afstanden staan op het programma: 0\,4 km – 0\,8 km – 5 km – 10 km hardlopen. Wilt u inschrijven voor dit loopevenement?  Raadpleeg hiervoor dan de website van de organisatie\nDe uitslagen van deze hardloopwedstrijd zijn te raadplegen via dezelfde website of via de bekende websites zoals uitslagen.nl\, runtimer en mylaps. Doet u mee met dit evenement\, zorg dan dat u goed voorbereid aan de start staat! Met een goed trainingsschema komt u een heel eind. Train bijvoorbeeld met start to run van Evy Gruyaert. Download de start to run mp3 bestanden en zet ze op uw telefoon. Oortjes in\, hit the play button en en rennen maar! \n\n\n\n\nMeer informatie over even een straatje om op Hardloopkalender.nl  \nHet loopevenement even een straatje om te Assen vindt plaats op vrijdag 03 januari 2014. De loop wordt georganisseerd door Ultra runners noord nederland. Klik hier voor het adres van de start (Google Maps).Bijzonderheden: Fantastische avondloop door centrum Assen voor kinderen en volwassenen. . \n  \n  \n 
URL:https://hardloopevenementen.com/loopagenda/even-een-straatje-om-assen-dr-2/
END:VEVENT
BEGIN:VEVENT
DTSTART;VALUE=DATE:20080609
DTEND;VALUE=DATE:20080610
DTSTAMP:20260421T043931
CREATED:20070918T055042Z
LAST-MODIFIED:20190423T094656Z
UID:19581-1212969600-1212969600@hardloopevenementen.com
SUMMARY:5 km testloop op een Wielerbaan Spijkenisse (ZH)
DESCRIPTION:Doe mee met het hardloopevenement 5 km testloop op een Wielerbaan te Spijkenisse (ZH) op ma 09 jun 2008. De volgende afstanden staan op het programma: 5\,5 km hardlopen. Wilt u inschrijven voor dit loopevenement?  Raadpleeg hiervoor dan de website van de organisatie\nDe uitslagen van deze hardloopwedstrijd zijn te raadplegen via dezelfde website of via de bekende websites zoals uitslagen.nl\, runtimer en mylaps. Doet u mee met dit evenement\, zorg dan dat u goed voorbereid aan de start staat! Met een goed trainingsschema komt u een heel eind. Train bijvoorbeeld met start to run van Evy Gruyaert. Download de start to run mp3 bestanden en zet ze op uw telefoon. Oortjes in\, hit the play button en en rennen maar! \n\n\n\n\nMeer informatie over 5 km testloop op een Wielerbaan op Hardloopkalender.nl  \nEen onderdeel van een regelmatigheid klassement 2008.  Start om 20.15 uur. Inschrijving vanaf 19.30 uur.  Kosten 2 euro Locatie Wielerbaan van PRC Delta Sportpark Oostbroek aan de Plaatweg. Info 010-4383016 \n  \n  \n 
URL:https://hardloopevenementen.com/loopagenda/5-km-testloop-op-een-wielerbaan-spijkenisse-zh/
END:VEVENT
BEGIN:VEVENT
DTSTART;VALUE=DATE:20080505
DTEND;VALUE=DATE:20080506
DTSTAMP:20260421T043931
CREATED:20120126T080039Z
LAST-MODIFIED:20190423T094734Z
UID:19754-1209945600-1209945600@hardloopevenementen.com
SUMMARY:5 km testloop op een Wielerbaan Spijkenisse (ZH)
DESCRIPTION:Doe mee met het hardloopevenement 5 km testloop op een Wielerbaan te Spijkenisse (ZH) op ma 05 mei 2008. De volgende afstanden staan op het programma: 5\,5 km hardlopen. Wilt u inschrijven voor dit loopevenement?  Raadpleeg hiervoor dan de website van de organisatie\nDe uitslagen van deze hardloopwedstrijd zijn te raadplegen via dezelfde website of via de bekende websites zoals uitslagen.nl\, runtimer en mylaps. Doet u mee met dit evenement\, zorg dan dat u goed voorbereid aan de start staat! Met een goed trainingsschema komt u een heel eind. Train bijvoorbeeld met start to run van Evy Gruyaert. Download de start to run mp3 bestanden en zet ze op uw telefoon. Oortjes in\, hit the play button en en rennen maar! \n\n\n\n\nMeer informatie over 5 km testloop op een Wielerbaan op Hardloopkalender.nl  \nEen onderdeel van een regelmatigheid klassement 2008.  Start om 20.15 uur. Inschrijving vanaf 19.30 uur.  Kosten 2 euro Locatie Wielerbaan van PRC Delta Sportpark Oostbroek aan de Plaatweg. Info 010-4383016 \n  \n  \n 
URL:https://hardloopevenementen.com/loopagenda/5-km-testloop-op-een-wielerbaan-spijkenisse-zh-2/
END:VEVENT
BEGIN:VEVENT
DTSTART;VALUE=DATE:20070708
DTEND;VALUE=DATE:20070709
DTSTAMP:20260421T043931
CREATED:20140815T094615Z
LAST-MODIFIED:20190423T093930Z
UID:413-1183852800-1183852800@hardloopevenementen.com
SUMMARY:Een dijk van een loop Kornwerderzand
DESCRIPTION:Doe mee met het hardloopevenement Een dijk van een loop te Kornwerderzand op zo 08 jul 2007. De volgende afstanden staan op het programma: 32\,8 km hardlopen. Wilt u inschrijven voor dit loopevenement?  Raadpleeg hiervoor dan de website van de organisatie\nDe uitslagen van deze hardloopwedstrijd zijn te raadplegen via dezelfde website of via de bekende websites zoals uitslagen.nl\, runtimer en mylaps. Doet u mee met dit evenement\, zorg dan dat u goed voorbereid aan de start staat! Met een goed trainingsschema komt u een heel eind. Train bijvoorbeeld met start to run van Evy Gruyaert. Download de start to run mp3 bestanden en zet ze op uw telefoon. Oortjes in\, hit the play button en en rennen maar! \n\n\n\n\nMeer informatie over Een dijk van een loop op Hardloopkalender.nl  \n  \n  \n 
URL:https://hardloopevenementen.com/loopagenda/een-dijk-van-een-loop-kornwerderzand/
END:VEVENT
END:VCALENDAR