BEGIN:VCALENDAR
VERSION:2.0
PRODID:-//Hardloopevenementen - ECPv6.15.14//NONSGML v1.0//EN
CALSCALE:GREGORIAN
METHOD:PUBLISH
X-ORIGINAL-URL:https://hardloopevenementen.com
X-WR-CALDESC:Evenementen voor Hardloopevenementen
REFRESH-INTERVAL;VALUE=DURATION:PT1H
X-Robots-Tag:noindex
X-PUBLISHED-TTL:PT1H
BEGIN:VTIMEZONE
TZID:UTC
BEGIN:STANDARD
TZOFFSETFROM:+0000
TZOFFSETTO:+0000
TZNAME:UTC
DTSTART:20140101T000000
END:STANDARD
END:VTIMEZONE
BEGIN:VEVENT
DTSTART;VALUE=DATE:20181020
DTEND;VALUE=DATE:20181021
DTSTAMP:20260424T175410
CREATED:20080102T060057Z
LAST-MODIFIED:20190423T120201Z
UID:15792-1539993600-1539993600@hardloopevenementen.com
SUMMARY:Rabo Ekensteinloop Appingedam (GR)
DESCRIPTION:Doe mee met het hardloopevenement Rabo Ekensteinloop te Appingedam (GR) op za 20 okt 2018. De volgende afstanden staan op het programma: 5 km – 10 km hardlopen. Wilt u inschrijven voor dit loopevenement?  Raadpleeg hiervoor dan de website van de organisatie\nDe uitslagen van deze hardloopwedstrijd zijn te raadplegen via dezelfde website of via de bekende websites zoals uitslagen.nl\, runtimer en mylaps. Doet u mee met dit evenement\, zorg dan dat u goed voorbereid aan de start staat! Met een goed trainingsschema komt u een heel eind. Train bijvoorbeeld met start to run van Evy Gruyaert. Download de start to run mp3 bestanden en zet ze op uw telefoon. Oortjes in\, hit the play button en en rennen maar! \n\n\n\n\nMeer informatie over Rabo Ekensteinloop op Hardloopkalender.nl  \nInschrijving van af 12.00 tot 13.30 uur  in t`Schathoes landgoed Ekenstein Appingedam.  start 14.00 uur. De loop slingert zich door bos en wegen op en rond landgoed  Ekenstein. \n  \n  \n 
URL:https://hardloopevenementen.com/loopagenda/rabo-ekensteinloop-appingedam-gr/
END:VEVENT
BEGIN:VEVENT
DTSTART;VALUE=DATE:20161022
DTEND;VALUE=DATE:20161023
DTSTAMP:20260424T175410
CREATED:20080428T173702Z
LAST-MODIFIED:20190423T112120Z
UID:11712-1477094400-1477094400@hardloopevenementen.com
SUMMARY:Ekensteinloop Appingedam (GR)
DESCRIPTION:Doe mee met het hardloopevenement Ekensteinloop te Appingedam (GR) op za 22 okt 2016. De volgende afstanden staan op het programma: 10 km hardlopen. Wilt u inschrijven voor dit loopevenement?  Raadpleeg hiervoor dan de website van de organisatie\nDe uitslagen van deze hardloopwedstrijd zijn te raadplegen via dezelfde website of via de bekende websites zoals uitslagen.nl\, runtimer en mylaps. Doet u mee met dit evenement\, zorg dan dat u goed voorbereid aan de start staat! Met een goed trainingsschema komt u een heel eind. Train bijvoorbeeld met start to run van Evy Gruyaert. Download de start to run mp3 bestanden en zet ze op uw telefoon. Oortjes in\, hit the play button en en rennen maar! \n\n\n\n\nMeer informatie over Ekensteinloop op Hardloopkalender.nl  \nHet loopevenement Ekensteinloop te Appingedam vindt plaats op zaterdag 22 oktober 2016. \n  \n  \n 
URL:https://hardloopevenementen.com/loopagenda/ekensteinloop-appingedam-gr-2/
END:VEVENT
BEGIN:VEVENT
DTSTART;VALUE=DATE:20151017
DTEND;VALUE=DATE:20151018
DTSTAMP:20260424T175410
CREATED:20090509T032759Z
LAST-MODIFIED:20190423T110816Z
UID:9573-1445040000-1445040000@hardloopevenementen.com
SUMMARY:Ekensteinloop Appingedam (GR)
DESCRIPTION:Doe mee met het hardloopevenement Ekensteinloop te Appingedam (GR) op za 17 okt 2015. De volgende afstanden staan op het programma: 10 km hardlopen. Wilt u inschrijven voor dit loopevenement?  Raadpleeg hiervoor dan de website van de organisatie\nDe uitslagen van deze hardloopwedstrijd zijn te raadplegen via dezelfde website of via de bekende websites zoals uitslagen.nl\, runtimer en mylaps. Doet u mee met dit evenement\, zorg dan dat u goed voorbereid aan de start staat! Met een goed trainingsschema komt u een heel eind. Train bijvoorbeeld met start to run van Evy Gruyaert. Download de start to run mp3 bestanden en zet ze op uw telefoon. Oortjes in\, hit the play button en en rennen maar! \n\n\n\n\nMeer informatie over Ekensteinloop op Hardloopkalender.nl  \nHet loopevenement Ekensteinloop te Appingedam vindt plaats op zaterdag 17 oktober 2015. \n  \n  \n 
URL:https://hardloopevenementen.com/loopagenda/ekensteinloop-appingedam-gr/
END:VEVENT
END:VCALENDAR