BEGIN:VCALENDAR
VERSION:2.0
PRODID:-//Hardloopevenementen - ECPv6.15.14//NONSGML v1.0//EN
CALSCALE:GREGORIAN
METHOD:PUBLISH
X-WR-CALNAME:Hardloopevenementen
X-ORIGINAL-URL:https://hardloopevenementen.com
X-WR-CALDESC:Evenementen voor Hardloopevenementen
REFRESH-INTERVAL;VALUE=DURATION:PT1H
X-Robots-Tag:noindex
X-PUBLISHED-TTL:PT1H
BEGIN:VTIMEZONE
TZID:UTC
BEGIN:STANDARD
TZOFFSETFROM:+0000
TZOFFSETTO:+0000
TZNAME:UTC
DTSTART:20110101T000000
END:STANDARD
END:VTIMEZONE
BEGIN:VEVENT
DTSTART;VALUE=DATE:20121110
DTEND;VALUE=DATE:20121111
DTSTAMP:20260422T235958
CREATED:20090403T174348Z
LAST-MODIFIED:20190423T102759Z
UID:7390-1352505600-1352505600@hardloopevenementen.com
SUMMARY:Ekoma cross Papendrecht (ZH)
DESCRIPTION:Doe mee met het hardloopevenement Ekoma cross te Papendrecht (ZH) op za 10 nov 2012. De volgende afstanden staan op het programma: 0\,6 km – 3 km – 6 km hardlopen. Wilt u inschrijven voor dit loopevenement?  Raadpleeg hiervoor dan de website van de organisatie\nDe uitslagen van deze hardloopwedstrijd zijn te raadplegen via dezelfde website of via de bekende websites zoals uitslagen.nl\, runtimer en mylaps. Doet u mee met dit evenement\, zorg dan dat u goed voorbereid aan de start staat! Met een goed trainingsschema komt u een heel eind. Train bijvoorbeeld met start to run van Evy Gruyaert. Download de start to run mp3 bestanden en zet ze op uw telefoon. Oortjes in\, hit the play button en en rennen maar! \n\n\n\n\nMeer informatie over Ekoma cross op Hardloopkalender.nl  \nHet loopevenement Ekoma cross te Papendrecht vindt plaats op zaterdag 10 november 2012. De loop wordt georganiseerd door AV Passaat. Inschrijven is mogelijk vanaf 01 september 2012. Klik hier voor het adres van de start (Google Maps).Er is EHBO aanwezig. Afstand SoortloopInschrijfgeldStarttijdInfo0.6 km2\,0011:003 km5\,0013:306 km5\,0014:00Voor meer informatie:Els Verberkmoesinschrijven@avpassaat.nl0786150417http:  www.avpassaat.nl \n  \n  \n 
URL:https://hardloopevenementen.com/loopagenda/ekoma-cross-papendrecht-zh/
END:VEVENT
END:VCALENDAR