BEGIN:VCALENDAR
VERSION:2.0
PRODID:-//Hardloopevenementen - ECPv6.15.14//NONSGML v1.0//EN
CALSCALE:GREGORIAN
METHOD:PUBLISH
X-WR-CALNAME:Hardloopevenementen
X-ORIGINAL-URL:https://hardloopevenementen.com
X-WR-CALDESC:Evenementen voor Hardloopevenementen
REFRESH-INTERVAL;VALUE=DURATION:PT1H
X-Robots-Tag:noindex
X-PUBLISHED-TTL:PT1H
BEGIN:VTIMEZONE
TZID:UTC
BEGIN:STANDARD
TZOFFSETFROM:+0000
TZOFFSETTO:+0000
TZNAME:UTC
DTSTART:20120101T000000
END:STANDARD
END:VTIMEZONE
BEGIN:VEVENT
DTSTART;VALUE=DATE:20160508
DTEND;VALUE=DATE:20160509
DTSTAMP:20260421T051837
CREATED:20180221T182144Z
LAST-MODIFIED:20190423T112529Z
UID:12815-1462665600-1462665600@hardloopevenementen.com
SUMMARY:Rondje Enkhuizen Enkhuizen (NH)
DESCRIPTION:Doe mee met het hardloopevenement Rondje Enkhuizen te Enkhuizen (NH) op zo 08 mei 2016. De volgende afstanden staan op het programma: 10 km hardlopen. Wilt u inschrijven voor dit loopevenement?  Raadpleeg hiervoor dan de website van de organisatie\nDe uitslagen van deze hardloopwedstrijd zijn te raadplegen via dezelfde website of via de bekende websites zoals uitslagen.nl\, runtimer en mylaps. Doet u mee met dit evenement\, zorg dan dat u goed voorbereid aan de start staat! Met een goed trainingsschema komt u een heel eind. Train bijvoorbeeld met start to run van Evy Gruyaert. Download de start to run mp3 bestanden en zet ze op uw telefoon. Oortjes in\, hit the play button en en rennen maar! \n\n\n\n\nMeer informatie over Rondje Enkhuizen op Hardloopkalender.nl  \nHet loopevenement Rondje Enkhuizen te Enkhuizen vindt plaats op zondag 08 mei 2016. \n  \n  \n 
URL:https://hardloopevenementen.com/loopagenda/rondje-enkhuizen-enkhuizen-nh/
END:VEVENT
BEGIN:VEVENT
DTSTART;VALUE=DATE:20140810
DTEND;VALUE=DATE:20140811
DTSTAMP:20260421T051837
CREATED:20141220T212921Z
LAST-MODIFIED:20190423T105244Z
UID:33517-1407628800-1407628800@hardloopevenementen.com
SUMMARY:Vooroeverloop Enkhuizen Medemblik Medemblik (NH)
DESCRIPTION:Doe mee met het hardloopevenement Vooroeverloop Enkhuizen Medemblik te Medemblik (NH) op zo 10 aug 2014. De volgende afstanden staan op het programma: halve marathon hardlopen. Wilt u inschrijven voor dit loopevenement?  Raadpleeg hiervoor dan de website van de organisatie\nDe uitslagen van deze hardloopwedstrijd zijn te raadplegen via dezelfde website of via de bekende websites zoals uitslagen.nl\, runtimer en mylaps. Doet u mee met dit evenement\, zorg dan dat u goed voorbereid aan de start staat! Met een goed trainingsschema komt u een heel eind. Train bijvoorbeeld met start to run van Evy Gruyaert. Download de start to run mp3 bestanden en zet ze op uw telefoon. Oortjes in\, hit the play button en en rennen maar! \n\n\n\n\nMeer informatie over Vooroeverloop Enkhuizen Medemblik op Hardloopkalender.nl  \nHet loopevenement Vooroeverloop Enkhuizen âMedemblik te Medemblik vindt plaats op zondag 10 augustus 2014. De loop wordt georganisseerd door Loopgroep Medemblik. Klik hier voor het adres van de start (Google Maps).Bijzonderheden: unieke loop waarbij de lopers per boot nr de start in Enkhuizen worden gebracht.. \n  \n  \n 
URL:https://hardloopevenementen.com/loopagenda/vooroeverloop-enkhuizen-medemblik-medemblik-nh-2/
END:VEVENT
BEGIN:VEVENT
DTSTART;VALUE=DATE:20130811
DTEND;VALUE=DATE:20130812
DTSTAMP:20260421T051837
CREATED:20160729T074602Z
LAST-MODIFIED:20190423T104059Z
UID:31327-1376179200-1376179200@hardloopevenementen.com
SUMMARY:Vooroeverloop Enkhuizen Medemblik Medemblik (NH)
DESCRIPTION:Doe mee met het hardloopevenement Vooroeverloop Enkhuizen Medemblik te Medemblik (NH) op zo 11 aug 2013. De volgende afstanden staan op het programma: halve marathon hardlopen. Wilt u inschrijven voor dit loopevenement?  Raadpleeg hiervoor dan de website van de organisatie\nDe uitslagen van deze hardloopwedstrijd zijn te raadplegen via dezelfde website of via de bekende websites zoals uitslagen.nl\, runtimer en mylaps. Doet u mee met dit evenement\, zorg dan dat u goed voorbereid aan de start staat! Met een goed trainingsschema komt u een heel eind. Train bijvoorbeeld met start to run van Evy Gruyaert. Download de start to run mp3 bestanden en zet ze op uw telefoon. Oortjes in\, hit the play button en en rennen maar! \n\n\n\n\nMeer informatie over Vooroeverloop Enkhuizen Medemblik op Hardloopkalender.nl  \ntijdregistratie middels Mylaps event timing met het BibTag systeem in startnummer.  Geen eigen chip nodig.  De lopers worden met het schip MS Friesland van Medemblik naar Enkhuizen vervoerd waar de start van de loop plaats vindt. \n  \n  \n 
URL:https://hardloopevenementen.com/loopagenda/vooroeverloop-enkhuizen-medemblik-medemblik-nh/
END:VEVENT
BEGIN:VEVENT
DTSTART;VALUE=DATE:20130421
DTEND;VALUE=DATE:20130422
DTSTAMP:20260421T051837
CREATED:20161030T005348Z
LAST-MODIFIED:20190423T104321Z
UID:31870-1366502400-1366502400@hardloopevenementen.com
SUMMARY:Rondje Enkhuizen Enkhuizen (NH)
DESCRIPTION:Doe mee met het hardloopevenement Rondje Enkhuizen te Enkhuizen (NH) op zo 21 apr 2013. De volgende afstanden staan op het programma: 2\,5 km – 5 km – 7\,5 km – 10 km hardlopen. Wilt u inschrijven voor dit loopevenement?  Raadpleeg hiervoor dan de website van de organisatie\nDe uitslagen van deze hardloopwedstrijd zijn te raadplegen via dezelfde website of via de bekende websites zoals uitslagen.nl\, runtimer en mylaps. Doet u mee met dit evenement\, zorg dan dat u goed voorbereid aan de start staat! Met een goed trainingsschema komt u een heel eind. Train bijvoorbeeld met start to run van Evy Gruyaert. Download de start to run mp3 bestanden en zet ze op uw telefoon. Oortjes in\, hit the play button en en rennen maar! \n\n\n\n\nMeer informatie over Rondje Enkhuizen op Hardloopkalender.nl  \nStichting \n  \n  \n 
URL:https://hardloopevenementen.com/loopagenda/rondje-enkhuizen-enkhuizen-nh-2/
END:VEVENT
END:VCALENDAR