BEGIN:VCALENDAR
VERSION:2.0
PRODID:-//Hardloopevenementen - ECPv6.15.14//NONSGML v1.0//EN
CALSCALE:GREGORIAN
METHOD:PUBLISH
X-ORIGINAL-URL:https://hardloopevenementen.com
X-WR-CALDESC:Evenementen voor Hardloopevenementen
REFRESH-INTERVAL;VALUE=DURATION:PT1H
X-Robots-Tag:noindex
X-PUBLISHED-TTL:PT1H
BEGIN:VTIMEZONE
TZID:UTC
BEGIN:STANDARD
TZOFFSETFROM:+0000
TZOFFSETTO:+0000
TZNAME:UTC
DTSTART:20070101T000000
END:STANDARD
END:VTIMEZONE
BEGIN:VEVENT
DTSTART;VALUE=DATE:20080629
DTEND;VALUE=DATE:20080630
DTSTAMP:20260421T125058
CREATED:20140402T231817Z
LAST-MODIFIED:20190423T094631Z
UID:19471-1214697600-1214697600@hardloopevenementen.com
SUMMARY:Galgenloop Berkel-Enschot
DESCRIPTION:Doe mee met het hardloopevenement Galgenloop te Berkel-Enschot op zo 29 jun 2008. De volgende afstanden staan op het programma: 5 km – 10 km – 10 Engelse mijl hardlopen. Wilt u inschrijven voor dit loopevenement?  Raadpleeg hiervoor dan de website van de organisatie\nDe uitslagen van deze hardloopwedstrijd zijn te raadplegen via dezelfde website of via de bekende websites zoals uitslagen.nl\, runtimer en mylaps. Doet u mee met dit evenement\, zorg dan dat u goed voorbereid aan de start staat! Met een goed trainingsschema komt u een heel eind. Train bijvoorbeeld met start to run van Evy Gruyaert. Download de start to run mp3 bestanden en zet ze op uw telefoon. Oortjes in\, hit the play button en en rennen maar! \n\n\n\n\nMeer informatie over Galgenloop op Hardloopkalender.nl  \nSinds 1994 wordt er in Berkel-Enschot jaarlijks de Galgenloop georganiseerd. Een sportief evenement voor jong en oud. Het centrum van de activiteiten bevindt zich rondom Boerderij Denissen te Berkel-Enschot. Hier zal gestart en gefinisht worden. Er worden vijf lopen gehouden\, namelijk de 10 miles loop\, de 10 km prestatieloop\, de 5 km prestatieloop en speciaal voor de jongere deelnemers van 8 t m 12 jaar de kinderloop.    De Galgenloop staat sinds 2003 op de agenda van de koninklijke Nederlandse Atletiek Unie (KNAU). Daarmee is de Galgenloop een officieel onderdeel van de Brabantse Competitie Strijd geworden. Ook is in dit jaar de Stichting Galgenloop opgericht wat een verdere professionalisering van de loop tot gevolg heeft gehad \n  \n  \n 
URL:https://hardloopevenementen.com/loopagenda/galgenloop-berkel-enschot/
END:VEVENT
END:VCALENDAR