BEGIN:VCALENDAR
VERSION:2.0
PRODID:-//Hardloopevenementen - ECPv6.15.14//NONSGML v1.0//EN
CALSCALE:GREGORIAN
METHOD:PUBLISH
X-ORIGINAL-URL:https://hardloopevenementen.com
X-WR-CALDESC:Evenementen voor Hardloopevenementen
REFRESH-INTERVAL;VALUE=DURATION:PT1H
X-Robots-Tag:noindex
X-PUBLISHED-TTL:PT1H
BEGIN:VTIMEZONE
TZID:UTC
BEGIN:STANDARD
TZOFFSETFROM:+0000
TZOFFSETTO:+0000
TZNAME:UTC
DTSTART:20160101T000000
END:STANDARD
END:VTIMEZONE
BEGIN:VEVENT
DTSTART;VALUE=DATE:20170121
DTEND;VALUE=DATE:20170122
DTSTAMP:20260423T122206
CREATED:20090208T101655Z
LAST-MODIFIED:20190423T114845Z
UID:15376-1484956800-1484956800@hardloopevenementen.com
SUMMARY:WinterLoop Enter Enter\, gemeente Wierden (OV)
DESCRIPTION:Doe mee met het hardloopevenement WinterLoop Enter te Enter\, gemeente Wierden (OV) op za 21 jan 2017. De volgende afstanden staan op het programma: 1 km – 5 km – 10 km hardlopen. Wilt u inschrijven voor dit loopevenement?  Raadpleeg hiervoor dan de website van de organisatie\nDe uitslagen van deze hardloopwedstrijd zijn te raadplegen via dezelfde website of via de bekende websites zoals uitslagen.nl\, runtimer en mylaps. Doet u mee met dit evenement\, zorg dan dat u goed voorbereid aan de start staat! Met een goed trainingsschema komt u een heel eind. Train bijvoorbeeld met start to run van Evy Gruyaert. Download de start to run mp3 bestanden en zet ze op uw telefoon. Oortjes in\, hit the play button en en rennen maar! \n\n\n\n\nMeer informatie over WinterLoop Enter op Hardloopkalender.nl  \nHet hardloopevenement ‘Winterloop Enter’ vindt plaats op 21 januari 2017.     Het wordt een loopwedstrijd van een ronde van 5 km\, op verhard terrein rondom het industrieterrein “de Vonder” in Enter.  De kidsrun wordt een ronde van 1 kilometer    Door middel van tags aan een schoen wordt uw tijd officieel geregistreerd en zijn alle uitslagen nadien te vinden op www.uitslagen.nl    Start en finish zal bij de sportschool zijn.    Voor alle overige info kijk op: www.teamfitness.nl \n  \n  \n 
URL:https://hardloopevenementen.com/loopagenda/winterloop-enter-enter-gemeente-wierden-ov/
END:VEVENT
END:VCALENDAR