BEGIN:VCALENDAR
VERSION:2.0
PRODID:-//Hardloopevenementen - ECPv6.15.14//NONSGML v1.0//EN
CALSCALE:GREGORIAN
METHOD:PUBLISH
X-ORIGINAL-URL:https://hardloopevenementen.com
X-WR-CALDESC:Evenementen voor Hardloopevenementen
REFRESH-INTERVAL;VALUE=DURATION:PT1H
X-Robots-Tag:noindex
X-PUBLISHED-TTL:PT1H
BEGIN:VTIMEZONE
TZID:UTC
BEGIN:STANDARD
TZOFFSETFROM:+0000
TZOFFSETTO:+0000
TZNAME:UTC
DTSTART:20130101T000000
END:STANDARD
END:VTIMEZONE
BEGIN:VEVENT
DTSTART;VALUE=DATE:20170528
DTEND;VALUE=DATE:20170529
DTSTAMP:20260423T084113
CREATED:20100911T092449Z
LAST-MODIFIED:20190423T114611Z
UID:14680-1495929600-1495929600@hardloopevenementen.com
SUMMARY:EsteRun in Escharen Escharen\, gemeente Grave (NB)
DESCRIPTION:Doe mee met het hardloopevenement EsteRun in Escharen te Escharen\, gemeente Grave (NB) op zo 28 mei 2017. De volgende afstanden staan op het programma: 1 km – 5 km – 10 km hardlopen. Wilt u inschrijven voor dit loopevenement?  Raadpleeg hiervoor dan de website van de organisatie\nDe uitslagen van deze hardloopwedstrijd zijn te raadplegen via dezelfde website of via de bekende websites zoals uitslagen.nl\, runtimer en mylaps. Doet u mee met dit evenement\, zorg dan dat u goed voorbereid aan de start staat! Met een goed trainingsschema komt u een heel eind. Train bijvoorbeeld met start to run van Evy Gruyaert. Download de start to run mp3 bestanden en zet ze op uw telefoon. Oortjes in\, hit the play button en en rennen maar! \n\n\n\n\nMeer informatie over EsteRun in Escharen op Hardloopkalender.nl  \nDe opbrengst van de EsteRun komt geheel ten goede aan Stichting Corry Bruijst. \n  \n  \n 
URL:https://hardloopevenementen.com/loopagenda/esterun-in-escharen-escharen-gemeente-grave-nb/
END:VEVENT
BEGIN:VEVENT
DTSTART;VALUE=DATE:20140608
DTEND;VALUE=DATE:20140609
DTSTAMP:20260423T084113
CREATED:20151002T195208Z
LAST-MODIFIED:20190423T105431Z
UID:33912-1402185600-1402185600@hardloopevenementen.com
SUMMARY:RaamRun Escharen Escharen\, gemeente Grave (NB)
DESCRIPTION:Doe mee met het hardloopevenement RaamRun Escharen te Escharen\, gemeente Grave (NB) op zo 08 jun 2014. De volgende afstanden staan op het programma: 1 km – 5 km – 10 km hardlopen. Wilt u inschrijven voor dit loopevenement?  Raadpleeg hiervoor dan de website van de organisatie\nDe uitslagen van deze hardloopwedstrijd zijn te raadplegen via dezelfde website of via de bekende websites zoals uitslagen.nl\, runtimer en mylaps. Doet u mee met dit evenement\, zorg dan dat u goed voorbereid aan de start staat! Met een goed trainingsschema komt u een heel eind. Train bijvoorbeeld met start to run van Evy Gruyaert. Download de start to run mp3 bestanden en zet ze op uw telefoon. Oortjes in\, hit the play button en en rennen maar! \n\n\n\n\nMeer informatie over RaamRun Escharen op Hardloopkalender.nl  \nHet loopevenement RaamRun Escharen te Escharen   Grave vindt plaats op zondag 08 juni 2014. De loop wordt georganisseerd door Stichting Corry Bruijst . Klik hier voor het adres van de start (Google Maps).Bijzonderheden: Reacties over het parcours over Tongelaar en het Raamdal waren zeer positief.. \n  \n  \n 
URL:https://hardloopevenementen.com/loopagenda/raamrun-escharen-escharen-gemeente-grave-nb/
END:VEVENT
END:VCALENDAR