BEGIN:VCALENDAR
VERSION:2.0
PRODID:-//Hardloopevenementen - ECPv6.15.14//NONSGML v1.0//EN
CALSCALE:GREGORIAN
METHOD:PUBLISH
X-WR-CALNAME:Hardloopevenementen
X-ORIGINAL-URL:https://hardloopevenementen.com
X-WR-CALDESC:Evenementen voor Hardloopevenementen
REFRESH-INTERVAL;VALUE=DURATION:PT1H
X-Robots-Tag:noindex
X-PUBLISHED-TTL:PT1H
BEGIN:VTIMEZONE
TZID:UTC
BEGIN:STANDARD
TZOFFSETFROM:+0000
TZOFFSETTO:+0000
TZNAME:UTC
DTSTART:20070101T000000
END:STANDARD
END:VTIMEZONE
BEGIN:VEVENT
DTSTART;VALUE=DATE:20091025
DTEND;VALUE=DATE:20091026
DTSTAMP:20260424T005656
CREATED:20080905T121411Z
LAST-MODIFIED:20190423T095754Z
UID:1577-1256428800-1256428800@hardloopevenementen.com
SUMMARY:30e Eurode Stadsloop Kerkrade (LI)
DESCRIPTION:Doe mee met het hardloopevenement 30e Eurode Stadsloop te Kerkrade (LI) op zo 25 okt 2009. De volgende afstanden staan op het programma: 1 km – 5 km – 10 km hardlopen. Wilt u inschrijven voor dit loopevenement?  Raadpleeg hiervoor dan de website van de organisatie\nDe uitslagen van deze hardloopwedstrijd zijn te raadplegen via dezelfde website of via de bekende websites zoals uitslagen.nl\, runtimer en mylaps. Doet u mee met dit evenement\, zorg dan dat u goed voorbereid aan de start staat! Met een goed trainingsschema komt u een heel eind. Train bijvoorbeeld met start to run van Evy Gruyaert. Download de start to run mp3 bestanden en zet ze op uw telefoon. Oortjes in\, hit the play button en en rennen maar! \n\n\n\n\nMeer informatie over 30e Eurode Stadsloop op Hardloopkalender.nl  \n1 km 11:00 uur\, 5 km 11:30 uur\, 10 km 12:30 uur \n  \n  \n 
URL:https://hardloopevenementen.com/loopagenda/30e-eurode-stadsloop-kerkrade-li/
END:VEVENT
BEGIN:VEVENT
DTSTART;VALUE=DATE:20090125
DTEND;VALUE=DATE:20090126
DTSTAMP:20260424T005656
CREATED:20170220T035956Z
LAST-MODIFIED:20190423T100347Z
UID:2875-1232841600-1232841600@hardloopevenementen.com
SUMMARY:45e Eurode Abdijcross Kerkrade (LI)
DESCRIPTION:Doe mee met het hardloopevenement 45e Eurode Abdijcross te Kerkrade (LI) op zo 25 jan 2009. De volgende afstanden staan op het programma: 0\,5 km – 0\,8 km – 1\,2 km – 1\,5 km – 1\,9 km – 3\,7 km – 5 km – 9\,5 km hardlopen. Wilt u inschrijven voor dit loopevenement?  Raadpleeg hiervoor dan de website van de organisatie\nDe uitslagen van deze hardloopwedstrijd zijn te raadplegen via dezelfde website of via de bekende websites zoals uitslagen.nl\, runtimer en mylaps. Doet u mee met dit evenement\, zorg dan dat u goed voorbereid aan de start staat! Met een goed trainingsschema komt u een heel eind. Train bijvoorbeeld met start to run van Evy Gruyaert. Download de start to run mp3 bestanden en zet ze op uw telefoon. Oortjes in\, hit the play button en en rennen maar! \n\n\n\n\nMeer informatie over 45e Eurode Abdijcross op Hardloopkalender.nl  \n0\,5 km 10:00 uur\, 0\,8 km 10:15 uur\, 1\,5 km 10:45 uur\, 9\,5 km 11:00 uur\, 0\,8 km 12:00 uur\, 1\,2 km 12:15 uur\, 1\,9 km 13:00 uur\, 3\,7 km 13:15 uur\, 5 km 13:45 uur \n  \n  \n 
URL:https://hardloopevenementen.com/loopagenda/45e-eurode-abdijcross-kerkrade-li/
END:VEVENT
BEGIN:VEVENT
DTSTART;VALUE=DATE:20081026
DTEND;VALUE=DATE:20081027
DTSTAMP:20260424T005656
CREATED:20120830T161833Z
LAST-MODIFIED:20190423T094436Z
UID:1179-1224979200-1224979200@hardloopevenementen.com
SUMMARY:Decathlon Eurode Stadsloop Kerkrade Kerkrade (LI)
DESCRIPTION:Doe mee met het hardloopevenement Decathlon Eurode Stadsloop Kerkrade te Kerkrade (LI) op zo 26 okt 2008. De volgende afstanden staan op het programma: 1 km – 5 km – 10 km hardlopen. Wilt u inschrijven voor dit loopevenement?  Raadpleeg hiervoor dan de website van de organisatie\nDe uitslagen van deze hardloopwedstrijd zijn te raadplegen via dezelfde website of via de bekende websites zoals uitslagen.nl\, runtimer en mylaps. Doet u mee met dit evenement\, zorg dan dat u goed voorbereid aan de start staat! Met een goed trainingsschema komt u een heel eind. Train bijvoorbeeld met start to run van Evy Gruyaert. Download de start to run mp3 bestanden en zet ze op uw telefoon. Oortjes in\, hit the play button en en rennen maar! \n\n\n\n\nMeer informatie over Decathlon Eurode Stadsloop Kerkrade op Hardloopkalender.nl  \nStart finish: Markt Kerkrade Centrum    Programma:  11.00 uur 1 km scholierenloop t m 15 jaar.     1 km jeugdloop Atletiekunie (pupillen ABC en CD-junioren)   11.30 uur 5 km prestatie- en businessloop Mannen Vrouwen Masters AB-junioren   12.30 uur 10 km wedstrijdloop Mannen Vrouwen Masters              Het parcours is geasfalteerd en op enkele plaatsen licht geaccidenteerd. De lopen zijn uitgezet in het centrum van Kerkrade en omgeving. De afstanden zijn nauwgezet gemeten en er is een elektronische tijdregistratie aanwezig. Alle deelnemers ontvangen een herinnering.     De stadsloop Businessrun vormt een apart onderdeel waarbij sprake is van een onderlinge competitie tussen bedrijven en instellingen.   De 45ste Abdijcross op zondag 25 januari 2009 te Kerkrade-Rolduc telt mee in deze competitie. Er wordt een apart klassement opgemaakt.     Bij de jeugdlopen en scholierenlopen zijn er voor de eerste drie in de diverse categorieën medailles en herinneringen.     Voor-inschrijving tot en met 19 oktober:  AV Achilles-Top\, Postbus 265\, 6460 AG Kerkrade.    Download hier het inschrijfformulier: Inschrijfformulier Decathlon Eurode Stadsloop 2008 en e-mail het volledig ingevulde formulier naar: aboumans@home.nl  Of open het formulier direct in uw e-mail programma met deze link: Inschrijfformulier Stadsloop 2008    Na-inschrijving:  Tot uiterlijk 30 minuten voor begin wedstrijd in het gemeentehuis\, Markt\, Kerkrade.     Parcours:   Licht geaccidenteerd\, geasfalteerd door het centrum van Kerkrade en omgeving.      Inschrijfgeld:      voor-inschrijving na-inschrijving   1 km   2\,00  2\,00   5 km   5\,00  6\,00   10 km  6\,00  7\,00         Businessrun:   Per ploeg kunnen maximaal tien deelnemers per bedrijf of instelling inschrijven. Deelname is   uitsluitend mogelijk na inschrijving voor 19 oktober.  Nadere informatie via Wim Sangen\, e-mail : mawi6465@telfort.nl      Secretariaat wedstrijddag:   Gemeentehuis aan de Markt in Kerkrade.    Kleed- en douchegelegenheid:   Zwembad D’r Pool aan de Kapellaan in Kerkrade. Voor douchen: badkleding verplicht.    Verzorging:   Drankpost op de Markt.    Uitslagen:   Op de website: www.achilles-top.nl.     Prijzen:   1 km : eerste drie in de diverse categorieën medailles en herinneringen.  5 km : geldprijzen voor de eerste vijf mannen en eerste vijf vrouwen. Voor de eerste drie A- en B-junioren een medaille en prijs in natura.  10 km: geldprijzen voor de eerste vijf mannen en eerste drie vrouwen\, als ook voor de eerste drie masters in de categorieën: M40 V40; M45 V45; M50 en M55.  Prijsuitreiking:  Zo spoedig mogelijk na elke race op het podium op de Markt (Café D’r Maat).     De organiatie aanvaardt geen aansprakelijkheid. \n  \n  \n 
URL:https://hardloopevenementen.com/loopagenda/decathlon-eurode-stadsloop-kerkrade-kerkrade-li/
END:VEVENT
END:VCALENDAR