BEGIN:VCALENDAR
VERSION:2.0
PRODID:-//Hardloopevenementen - ECPv6.15.14//NONSGML v1.0//EN
CALSCALE:GREGORIAN
METHOD:PUBLISH
X-WR-CALNAME:Hardloopevenementen
X-ORIGINAL-URL:https://hardloopevenementen.com
X-WR-CALDESC:Evenementen voor Hardloopevenementen
REFRESH-INTERVAL;VALUE=DURATION:PT1H
X-Robots-Tag:noindex
X-PUBLISHED-TTL:PT1H
BEGIN:VTIMEZONE
TZID:UTC
BEGIN:STANDARD
TZOFFSETFROM:+0000
TZOFFSETTO:+0000
TZNAME:UTC
DTSTART:20130101T000000
END:STANDARD
END:VTIMEZONE
BEGIN:VEVENT
DTSTART;VALUE=DATE:20190202
DTEND;VALUE=DATE:20190203
DTSTAMP:20260425T154453
CREATED:20150301T203347Z
LAST-MODIFIED:20191114T112806Z
UID:17527-1549065600-1549065600@hardloopevenementen.com
SUMMARY:Viking Extreme GPS Trail Dieren\, gemeente Rheden (GE)
DESCRIPTION:Doe mee met het hardloopevenement Viking Extreme GPS Trail te Dieren\, gemeente Rheden (GE) op za 02 feb 2019. De volgende afstanden staan op het programma: 20 km – marathon hardlopen. Wilt u inschrijven voor dit loopevenement?  Raadpleeg hiervoor dan de website van de organisatie\nDe uitslagen van deze hardloopwedstrijd zijn te raadplegen via dezelfde website of via de bekende websites zoals uitslagen.nl\, runtimer en mylaps. Doet u mee met dit evenement\, zorg dan dat u goed voorbereid aan de start staat! Met een goed trainingsschema komt u een heel eind. Train bijvoorbeeld met start to run van Evy Gruyaert. Download de start to run mp3 bestanden en zet ze op uw telefoon. Oortjes in\, hit the play button en en rennen maar! \n\n\n\n\nMeer informatie over Viking Extreme GPS Trail op Hardloopkalender.nl  \n  \n  \n 
URL:https://hardloopevenementen.com/loopagenda/viking-extreme-gps-trail-dieren-gemeente-rheden-ge/
END:VEVENT
BEGIN:VEVENT
DTSTART;VALUE=DATE:20180707
DTEND;VALUE=DATE:20180708
DTSTAMP:20260425T154453
CREATED:20091211T054448Z
LAST-MODIFIED:20190423T120351Z
UID:16280-1530921600-1530921600@hardloopevenementen.com
SUMMARY:Viking Extreme Trailrun Dieren\, gemeente Rheden (GE)
DESCRIPTION:Doe mee met het hardloopevenement Viking Extreme Trailrun te Dieren\, gemeente Rheden (GE) op za 07 jul 2018. De volgende afstanden staan op het programma: 50 km hardlopen. Wilt u inschrijven voor dit loopevenement?  Raadpleeg hiervoor dan de website van de organisatie\nDe uitslagen van deze hardloopwedstrijd zijn te raadplegen via dezelfde website of via de bekende websites zoals uitslagen.nl\, runtimer en mylaps. Doet u mee met dit evenement\, zorg dan dat u goed voorbereid aan de start staat! Met een goed trainingsschema komt u een heel eind. Train bijvoorbeeld met start to run van Evy Gruyaert. Download de start to run mp3 bestanden en zet ze op uw telefoon. Oortjes in\, hit the play button en en rennen maar! \n\n\n\n\nMeer informatie over Viking Extreme Trailrun op Hardloopkalender.nl  \nWeet jij binnen 6 uur de 6 Waypoints te loggen?  Totale afstand bij 6 waypoints is ongeveer 50 kilometer.  Maar minder mag natuurlijk ook. \n  \n  \n 
URL:https://hardloopevenementen.com/loopagenda/viking-extreme-trailrun-dieren-gemeente-rheden-ge/
END:VEVENT
BEGIN:VEVENT
DTSTART;VALUE=DATE:20140421
DTEND;VALUE=DATE:20140422
DTSTAMP:20260425T154453
CREATED:20141010T133700Z
LAST-MODIFIED:20190423T105608Z
UID:34268-1398038400-1398038400@hardloopevenementen.com
SUMMARY:Extreme Running Utrecht (UT)
DESCRIPTION:Doe mee met het hardloopevenement Extreme Running te Utrecht (UT) op ma 21 apr 2014. De volgende afstanden staan op het programma: 6 km – 12 km hardlopen. Wilt u inschrijven voor dit loopevenement?  Raadpleeg hiervoor dan de website van de organisatie\nDe uitslagen van deze hardloopwedstrijd zijn te raadplegen via dezelfde website of via de bekende websites zoals uitslagen.nl\, runtimer en mylaps. Doet u mee met dit evenement\, zorg dan dat u goed voorbereid aan de start staat! Met een goed trainingsschema komt u een heel eind. Train bijvoorbeeld met start to run van Evy Gruyaert. Download de start to run mp3 bestanden en zet ze op uw telefoon. Oortjes in\, hit the play button en en rennen maar! \n\n\n\n\nMeer informatie over Extreme Running op Hardloopkalender.nl  \nExtreme Running is een funrun met diversen hindernissen \n  \n  \n 
URL:https://hardloopevenementen.com/loopagenda/extreme-running-utrecht-ut/
END:VEVENT
END:VCALENDAR