BEGIN:VCALENDAR
VERSION:2.0
PRODID:-//Hardloopevenementen - ECPv6.15.14//NONSGML v1.0//EN
CALSCALE:GREGORIAN
METHOD:PUBLISH
X-WR-CALNAME:Hardloopevenementen
X-ORIGINAL-URL:https://hardloopevenementen.com
X-WR-CALDESC:Evenementen voor Hardloopevenementen
REFRESH-INTERVAL;VALUE=DURATION:PT1H
X-Robots-Tag:noindex
X-PUBLISHED-TTL:PT1H
BEGIN:VTIMEZONE
TZID:UTC
BEGIN:STANDARD
TZOFFSETFROM:+0000
TZOFFSETTO:+0000
TZNAME:UTC
DTSTART:20120101T000000
END:STANDARD
END:VTIMEZONE
BEGIN:VEVENT
DTSTART;VALUE=DATE:20150308
DTEND;VALUE=DATE:20150309
DTSTAMP:20260423T010100
CREATED:20090704T035441Z
LAST-MODIFIED:20190423T111406Z
UID:10949-1425772800-1425772800@hardloopevenementen.com
SUMMARY:20e Fatimaloop Nieuw-Wehl\, gemeente Doetinchem (GE)
DESCRIPTION:Doe mee met het hardloopevenement 20e Fatimaloop te Nieuw-Wehl\, gemeente Doetinchem (GE) op zo 08 mrt 2015. De volgende afstanden staan op het programma: 1\,5 km – 3 km – 7\,5 km – 15 km hardlopen. Wilt u inschrijven voor dit loopevenement?  Raadpleeg hiervoor dan de website van de organisatie\nDe uitslagen van deze hardloopwedstrijd zijn te raadplegen via dezelfde website of via de bekende websites zoals uitslagen.nl\, runtimer en mylaps. Doet u mee met dit evenement\, zorg dan dat u goed voorbereid aan de start staat! Met een goed trainingsschema komt u een heel eind. Train bijvoorbeeld met start to run van Evy Gruyaert. Download de start to run mp3 bestanden en zet ze op uw telefoon. Oortjes in\, hit the play button en en rennen maar! \n\n\n\n\nMeer informatie over 20e Fatimaloop op Hardloopkalender.nl  \nHet loopevenement 20e Fatimaloop te Nieuw-Wehl vindt plaats op zondag 08 maart 2015. \n  \n  \n 
URL:https://hardloopevenementen.com/loopagenda/20e-fatimaloop-nieuw-wehl-gemeente-doetinchem-ge/
END:VEVENT
BEGIN:VEVENT
DTSTART;VALUE=DATE:20140309
DTEND;VALUE=DATE:20140310
DTSTAMP:20260423T010100
CREATED:20170715T075224Z
LAST-MODIFIED:20190423T105722Z
UID:34558-1394323200-1394323200@hardloopevenementen.com
SUMMARY:19e Fatimaloop Nieuw-Wehl\, gemeente Doetinchem (GE)
DESCRIPTION:Doe mee met het hardloopevenement 19e Fatimaloop te Nieuw-Wehl\, gemeente Doetinchem (GE) op zo 09 mrt 2014. De volgende afstanden staan op het programma: 1\,5 km – 3 km – 7\,5 km – 15 km hardlopen. Wilt u inschrijven voor dit loopevenement?  Raadpleeg hiervoor dan de website van de organisatie\nDe uitslagen van deze hardloopwedstrijd zijn te raadplegen via dezelfde website of via de bekende websites zoals uitslagen.nl\, runtimer en mylaps. Doet u mee met dit evenement\, zorg dan dat u goed voorbereid aan de start staat! Met een goed trainingsschema komt u een heel eind. Train bijvoorbeeld met start to run van Evy Gruyaert. Download de start to run mp3 bestanden en zet ze op uw telefoon. Oortjes in\, hit the play button en en rennen maar! \n\n\n\n\nMeer informatie over 19e Fatimaloop op Hardloopkalender.nl  \nHet loopevenement 19e Fatimaloop te Nieuw-Wehl vindt plaats op zondag 09 maart 2014. De loop wordt georganisseerd door Argo Atletiek. Klik hier voor het adres van de start (Google Maps).Bijzonderheden: 15 km. ook voor wheelers (start 10.55 uur) . \n  \n  \n 
URL:https://hardloopevenementen.com/loopagenda/19e-fatimaloop-nieuw-wehl-gemeente-doetinchem-ge/
END:VEVENT
BEGIN:VEVENT
DTSTART;VALUE=DATE:20130310
DTEND;VALUE=DATE:20130311
DTSTAMP:20260423T010100
CREATED:20090811T201221Z
LAST-MODIFIED:20190423T104428Z
UID:32123-1362873600-1362873600@hardloopevenementen.com
SUMMARY:18e Fatimaloop Nieuw-Wehl\, gemeente Doetinchem (GE)
DESCRIPTION:Doe mee met het hardloopevenement 18e Fatimaloop te Nieuw-Wehl\, gemeente Doetinchem (GE) op zo 10 mrt 2013. De volgende afstanden staan op het programma: 1\,5 km – 3 km – 7\,5 km – 15 km hardlopen. Wilt u inschrijven voor dit loopevenement?  Raadpleeg hiervoor dan de website van de organisatie\nDe uitslagen van deze hardloopwedstrijd zijn te raadplegen via dezelfde website of via de bekende websites zoals uitslagen.nl\, runtimer en mylaps. Doet u mee met dit evenement\, zorg dan dat u goed voorbereid aan de start staat! Met een goed trainingsschema komt u een heel eind. Train bijvoorbeeld met start to run van Evy Gruyaert. Download de start to run mp3 bestanden en zet ze op uw telefoon. Oortjes in\, hit the play button en en rennen maar! \n\n\n\n\nMeer informatie over 18e Fatimaloop op Hardloopkalender.nl  \nHet loopevenement 18e Fatimaloop te Nieuw-Wehl vindt plaats op zondag 10 maart 2013. De loop wordt georganisseerd door Argo Atletiek. Inschrijven is mogelijk vanaf 10 maart 2013. Klik hier voor het adres van de start (Google Maps).Er is verkleedaccomodatie met douchemogelijkheid aanwezig. Er is EHBO aanwezig. Bijzonderheden: 15 km. ook voor wheelers (start 10.55 uur) .Voor meer informatie:Familie Nieuwenhuispactuwehl@chello.nl0314684995http:  www.pactuwehl.nl \n  \n  \n 
URL:https://hardloopevenementen.com/loopagenda/18e-fatimaloop-nieuw-wehl-gemeente-doetinchem-ge/
END:VEVENT
END:VCALENDAR