BEGIN:VCALENDAR
VERSION:2.0
PRODID:-//Hardloopevenementen - ECPv6.15.14//NONSGML v1.0//EN
CALSCALE:GREGORIAN
METHOD:PUBLISH
X-ORIGINAL-URL:https://hardloopevenementen.com
X-WR-CALDESC:Evenementen voor Hardloopevenementen
REFRESH-INTERVAL;VALUE=DURATION:PT1H
X-Robots-Tag:noindex
X-PUBLISHED-TTL:PT1H
BEGIN:VTIMEZONE
TZID:UTC
BEGIN:STANDARD
TZOFFSETFROM:+0000
TZOFFSETTO:+0000
TZNAME:UTC
DTSTART:20070101T000000
END:STANDARD
END:VTIMEZONE
BEGIN:VEVENT
DTSTART;VALUE=DATE:20080309
DTEND;VALUE=DATE:20080310
DTSTAMP:20260419T232027
CREATED:20140927T174040Z
LAST-MODIFIED:20190423T094843Z
UID:20052-1205020800-1205020800@hardloopevenementen.com
SUMMARY:Finalewedstrijd Kennemercrosscup Heiloo
DESCRIPTION:Doe mee met het hardloopevenement Finalewedstrijd Kennemercrosscup te Heiloo op zo 09 mrt 2008. De volgende afstanden staan op het programma: 1 km – 2 km – 3 km – 6 km – 9 km hardlopen. Wilt u inschrijven voor dit loopevenement?  Raadpleeg hiervoor dan de website van de organisatie\nDe uitslagen van deze hardloopwedstrijd zijn te raadplegen via dezelfde website of via de bekende websites zoals uitslagen.nl\, runtimer en mylaps. Doet u mee met dit evenement\, zorg dan dat u goed voorbereid aan de start staat! Met een goed trainingsschema komt u een heel eind. Train bijvoorbeeld met start to run van Evy Gruyaert. Download de start to run mp3 bestanden en zet ze op uw telefoon. Oortjes in\, hit the play button en en rennen maar! \n\n\n\n\nMeer informatie over Finalewedstrijd Kennemercrosscup op Hardloopkalender.nl  \n1 km 10:00 uur\, 2 km 10:15 uur\, 3 km 10:30 uur\, 6-9 km 11:00 uur  Locatie: Het Maalwater  Telefoonnummer: 072-5126254 \n  \n  \n 
URL:https://hardloopevenementen.com/loopagenda/finalewedstrijd-kennemercrosscup-heiloo/
END:VEVENT
END:VCALENDAR