BEGIN:VCALENDAR
VERSION:2.0
PRODID:-//Hardloopevenementen - ECPv6.15.14//NONSGML v1.0//EN
CALSCALE:GREGORIAN
METHOD:PUBLISH
X-WR-CALNAME:Hardloopevenementen
X-ORIGINAL-URL:https://hardloopevenementen.com
X-WR-CALDESC:Evenementen voor Hardloopevenementen
REFRESH-INTERVAL;VALUE=DURATION:PT1H
X-Robots-Tag:noindex
X-PUBLISHED-TTL:PT1H
BEGIN:VTIMEZONE
TZID:UTC
BEGIN:STANDARD
TZOFFSETFROM:+0000
TZOFFSETTO:+0000
TZNAME:UTC
DTSTART:20070101T000000
END:STANDARD
END:VTIMEZONE
BEGIN:VEVENT
DTSTART;VALUE=DATE:20091031
DTEND;VALUE=DATE:20091101
DTSTAMP:20260425T005607
CREATED:20080517T045807Z
LAST-MODIFIED:20190423T095749Z
UID:1563-1256947200-1256947200@hardloopevenementen.com
SUMMARY:TIB Finishing Diepe Hel Holterbergloop Holten\, gemeente Rijssen-Holten (OV)
DESCRIPTION:Doe mee met het hardloopevenement TIB Finishing Diepe Hel Holterbergloop te Holten\, gemeente Rijssen-Holten (OV) op za 31 okt 2009. De volgende afstanden staan op het programma: 1 km – 3\,2 km – 8 km – 10 Engelse mijl hardlopen. Wilt u inschrijven voor dit loopevenement?  Raadpleeg hiervoor dan de website van de organisatie\nDe uitslagen van deze hardloopwedstrijd zijn te raadplegen via dezelfde website of via de bekende websites zoals uitslagen.nl\, runtimer en mylaps. Doet u mee met dit evenement\, zorg dan dat u goed voorbereid aan de start staat! Met een goed trainingsschema komt u een heel eind. Train bijvoorbeeld met start to run van Evy Gruyaert. Download de start to run mp3 bestanden en zet ze op uw telefoon. Oortjes in\, hit the play button en en rennen maar! \n\n\n\n\nMeer informatie over TIB Finishing Diepe Hel Holterbergloop op Hardloopkalender.nl  \n1 km 12:30 uur\, 8 km 13:00 uur\, 16\,1 km 14:30 uur\, 3\,2 km 14:40 uur \n  \n  \n 
URL:https://hardloopevenementen.com/loopagenda/tib-finishing-diepe-hel-holterbergloop-holten-gemeente-rijssen-holten-ov/
END:VEVENT
BEGIN:VEVENT
DTSTART;VALUE=DATE:20090815
DTEND;VALUE=DATE:20090816
DTSTAMP:20260425T005607
CREATED:20140528T015413Z
LAST-MODIFIED:20190423T095932Z
UID:1952-1250294400-1250294400@hardloopevenementen.com
SUMMARY:TIB Finishing Ravijnloop Nijverdal\, gemeente Hellendoorn (OV)
DESCRIPTION:Doe mee met het hardloopevenement TIB Finishing Ravijnloop te Nijverdal\, gemeente Hellendoorn (OV) op za 15 aug 2009. De volgende afstanden staan op het programma: 5\,4 km – 10\,8 km – 10 Engelse mijl hardlopen. Wilt u inschrijven voor dit loopevenement?  Raadpleeg hiervoor dan de website van de organisatie\nDe uitslagen van deze hardloopwedstrijd zijn te raadplegen via dezelfde website of via de bekende websites zoals uitslagen.nl\, runtimer en mylaps. Doet u mee met dit evenement\, zorg dan dat u goed voorbereid aan de start staat! Met een goed trainingsschema komt u een heel eind. Train bijvoorbeeld met start to run van Evy Gruyaert. Download de start to run mp3 bestanden en zet ze op uw telefoon. Oortjes in\, hit the play button en en rennen maar! \n\n\n\n\nMeer informatie over TIB Finishing Ravijnloop op Hardloopkalender.nl  \n5\,4-10\,8-16\,1 km 14:00 uur \n  \n  \n 
URL:https://hardloopevenementen.com/loopagenda/tib-finishing-ravijnloop-nijverdal-gemeente-hellendoorn-ov/
END:VEVENT
BEGIN:VEVENT
DTSTART;VALUE=DATE:20081025
DTEND;VALUE=DATE:20081026
DTSTAMP:20260425T005607
CREATED:20181223T191816Z
LAST-MODIFIED:20190423T094439Z
UID:1189-1224892800-1224892800@hardloopevenementen.com
SUMMARY:TIB Finishing Diepehel Holterbergl Nijverdal
DESCRIPTION:Doe mee met het hardloopevenement TIB Finishing Diepehel Holterbergl te Nijverdal op za 25 okt 2008. De volgende afstanden staan op het programma: 1 km – 3\,2 km – 8 km – 10 Engelse mijl hardlopen. Wilt u inschrijven voor dit loopevenement?  Raadpleeg hiervoor dan de website van de organisatie\nDe uitslagen van deze hardloopwedstrijd zijn te raadplegen via dezelfde website of via de bekende websites zoals uitslagen.nl\, runtimer en mylaps. Doet u mee met dit evenement\, zorg dan dat u goed voorbereid aan de start staat! Met een goed trainingsschema komt u een heel eind. Train bijvoorbeeld met start to run van Evy Gruyaert. Download de start to run mp3 bestanden en zet ze op uw telefoon. Oortjes in\, hit the play button en en rennen maar! \n\n\n\n\nMeer informatie over TIB Finishing Diepehel Holterbergl op Hardloopkalender.nl  \n8 km 12:30 uur\, 1 km 13:30 uur\, 1 km 13:40 uur\, 16\,1 km 14:30 uur\, 3\,2 km 14:40 uur \n  \n  \n 
URL:https://hardloopevenementen.com/loopagenda/tib-finishing-diepehel-holterbergl-nijverdal/
END:VEVENT
END:VCALENDAR