BEGIN:VCALENDAR
VERSION:2.0
PRODID:-//Hardloopevenementen - ECPv6.15.14//NONSGML v1.0//EN
CALSCALE:GREGORIAN
METHOD:PUBLISH
X-WR-CALNAME:Hardloopevenementen
X-ORIGINAL-URL:https://hardloopevenementen.com
X-WR-CALDESC:Evenementen voor Hardloopevenementen
REFRESH-INTERVAL;VALUE=DURATION:PT1H
X-Robots-Tag:noindex
X-PUBLISHED-TTL:PT1H
BEGIN:VTIMEZONE
TZID:UTC
BEGIN:STANDARD
TZOFFSETFROM:+0000
TZOFFSETTO:+0000
TZNAME:UTC
DTSTART:20060101T000000
END:STANDARD
END:VTIMEZONE
BEGIN:VEVENT
DTSTART;VALUE=DATE:20130126
DTEND;VALUE=DATE:20130127
DTSTAMP:20260424T194133
CREATED:20140305T142704Z
LAST-MODIFIED:20190423T104532Z
UID:32370-1359158400-1359158400@hardloopevenementen.com
SUMMARY:H4A Finlandcross Westdorpe\, gemeente Terneuzen (ZE)
DESCRIPTION:Doe mee met het hardloopevenement H4A Finlandcross te Westdorpe\, gemeente Terneuzen (ZE) op za 26 jan 2013. De volgende afstanden staan op het programma: 8 km hardlopen. Wilt u inschrijven voor dit loopevenement?  Raadpleeg hiervoor dan de website van de organisatie\nDe uitslagen van deze hardloopwedstrijd zijn te raadplegen via dezelfde website of via de bekende websites zoals uitslagen.nl\, runtimer en mylaps. Doet u mee met dit evenement\, zorg dan dat u goed voorbereid aan de start staat! Met een goed trainingsschema komt u een heel eind. Train bijvoorbeeld met start to run van Evy Gruyaert. Download de start to run mp3 bestanden en zet ze op uw telefoon. Oortjes in\, hit the play button en en rennen maar! \n\n\n\n\nMeer informatie over H4A Finlandcross op Hardloopkalender.nl  \nHet loopevenement H4A Finlandcross te Westdorpe vindt plaats op zaterdag 26 januari 2013. De loop wordt georganisseerd door AV Scheldesport. Inschrijven is mogelijk vanaf 01 november 2012. Klik hier voor het adres van de start (Google Maps).Er is verkleedaccomodatie met douchemogelijkheid aanwezig. Er is EHBO aanwezig. Bijzonderheden: Zeer mooi Parkoers op en langs het motor cross circuit.Voor meer informatie:Stefan van Dammestefanvan_damme@zeelandnet.nl0115720344http:  www.avscheldesport.nl \n  \n  \n 
URL:https://hardloopevenementen.com/loopagenda/h4a-finlandcross-westdorpe-gemeente-terneuzen-ze-3/
END:VEVENT
BEGIN:VEVENT
DTSTART;VALUE=DATE:20111210
DTEND;VALUE=DATE:20111211
DTSTAMP:20260424T194133
CREATED:20180304T161945Z
LAST-MODIFIED:20190423T101642Z
UID:5830-1323475200-1323475200@hardloopevenementen.com
SUMMARY:H4A Finlandcross Westdorpe\, gemeente Terneuzen (ZE)
DESCRIPTION:Doe mee met het hardloopevenement H4A Finlandcross te Westdorpe\, gemeente Terneuzen (ZE) op za 10 dec 2011. De volgende afstanden staan op het programma: 10 km hardlopen. Wilt u inschrijven voor dit loopevenement?  Raadpleeg hiervoor dan de website van de organisatie\nDe uitslagen van deze hardloopwedstrijd zijn te raadplegen via dezelfde website of via de bekende websites zoals uitslagen.nl\, runtimer en mylaps. Doet u mee met dit evenement\, zorg dan dat u goed voorbereid aan de start staat! Met een goed trainingsschema komt u een heel eind. Train bijvoorbeeld met start to run van Evy Gruyaert. Download de start to run mp3 bestanden en zet ze op uw telefoon. Oortjes in\, hit the play button en en rennen maar! \n\n\n\n\nMeer informatie over H4A Finlandcross op Hardloopkalender.nl  \nHet loopevenement H4A Finlandcross te Westdorpe vindt plaats op zaterdag 10 december 2011. De loop wordt georganiseerd door AV Scheldesport. Inschrijven is mogelijk vanaf 30 oktober 2010. Klik hier voor het adres van de start (Google Maps).Er is verkleedaccomodatie met douchemogelijkheid aanwezig. Er is EHBO aanwezig. Bijzonderheden: Zeer mooi Parkoers op en langs het motor cross circuit.Afstand(km)Inschrijfgeld(€)StarttijdVerschillendeafstanden€0\,00ZieuitnodigingVoor meer informatie:Stefan van Dammestefanvan_damme@zeelandnet.nl0115720344http:  www.avscheldesport.nl \n  \n  \n 
URL:https://hardloopevenementen.com/loopagenda/h4a-finlandcross-westdorpe-gemeente-terneuzen-ze/
END:VEVENT
BEGIN:VEVENT
DTSTART;VALUE=DATE:20110122
DTEND;VALUE=DATE:20110123
DTSTAMP:20260424T194133
CREATED:20171212T053506Z
LAST-MODIFIED:20190423T102430Z
UID:27010-1295654400-1295654400@hardloopevenementen.com
SUMMARY:H4A Finlandcross Westdorpe\, gemeente Terneuzen (ZE)
DESCRIPTION:Doe mee met het hardloopevenement H4A Finlandcross te Westdorpe\, gemeente Terneuzen (ZE) op za 22 jan 2011. De volgende afstanden staan op het programma: 10 km hardlopen. Wilt u inschrijven voor dit loopevenement?  Raadpleeg hiervoor dan de website van de organisatie\nDe uitslagen van deze hardloopwedstrijd zijn te raadplegen via dezelfde website of via de bekende websites zoals uitslagen.nl\, runtimer en mylaps. Doet u mee met dit evenement\, zorg dan dat u goed voorbereid aan de start staat! Met een goed trainingsschema komt u een heel eind. Train bijvoorbeeld met start to run van Evy Gruyaert. Download de start to run mp3 bestanden en zet ze op uw telefoon. Oortjes in\, hit the play button en en rennen maar! \n\n\n\n\nMeer informatie over H4A Finlandcross op Hardloopkalender.nl  \nHet loopevenement H4A Finlandcross te Westdorpe vindt plaats op zaterdag 22 januari 2011. De loop wordt georganiseerd door AV Scheldesport. Inschrijven is mogelijk vanaf 30 oktober 2010. Klik hier voor het adres van de start (Google Maps).Er is verkleedaccomodatie met douchemogelijkheid aanwezig. Er is EHBO aanwezig. Bijzonderheden: Zeer mooi Parkoers op en langs het motor cross circuit.Afstand(km)Inschrijfgeld(€)StarttijdVerschillendeafstanden€0\,00ZieuitnodigingVoor meer informatie:Stefan van Dammestefanvan_damme@zeelandnet.nl0115720344http:  www.avscheldesport.nl \n  \n  \n 
URL:https://hardloopevenementen.com/loopagenda/h4a-finlandcross-westdorpe-gemeente-terneuzen-ze-2/
END:VEVENT
BEGIN:VEVENT
DTSTART;VALUE=DATE:20080216
DTEND;VALUE=DATE:20080217
DTSTAMP:20260424T194133
CREATED:20140530T175017Z
LAST-MODIFIED:20190423T094910Z
UID:20170-1203120000-1203120000@hardloopevenementen.com
SUMMARY:2e Finlandcross Westdorpe
DESCRIPTION:Doe mee met het hardloopevenement 2e Finlandcross te Westdorpe op za 16 feb 2008. De volgende afstanden staan op het programma: 9 km hardlopen. Wilt u inschrijven voor dit loopevenement?  Raadpleeg hiervoor dan de website van de organisatie\nDe uitslagen van deze hardloopwedstrijd zijn te raadplegen via dezelfde website of via de bekende websites zoals uitslagen.nl\, runtimer en mylaps. Doet u mee met dit evenement\, zorg dan dat u goed voorbereid aan de start staat! Met een goed trainingsschema komt u een heel eind. Train bijvoorbeeld met start to run van Evy Gruyaert. Download de start to run mp3 bestanden en zet ze op uw telefoon. Oortjes in\, hit the play button en en rennen maar! \n\n\n\n\nMeer informatie over 2e Finlandcross op Hardloopkalender.nl  \n9 km 11:00 uur \n  \n  \n 
URL:https://hardloopevenementen.com/loopagenda/2e-finlandcross-westdorpe/
END:VEVENT
BEGIN:VEVENT
DTSTART;VALUE=DATE:20070127
DTEND;VALUE=DATE:20070128
DTSTAMP:20260424T194133
CREATED:20130723T024255Z
LAST-MODIFIED:20190423T094053Z
UID:772-1169856000-1169856000@hardloopevenementen.com
SUMMARY:1e Finlandcross Westdorpe
DESCRIPTION:Doe mee met het hardloopevenement 1e Finlandcross te Westdorpe op za 27 jan 2007. De volgende afstanden staan op het programma: 9 km hardlopen. Wilt u inschrijven voor dit loopevenement?  Raadpleeg hiervoor dan de website van de organisatie\nDe uitslagen van deze hardloopwedstrijd zijn te raadplegen via dezelfde website of via de bekende websites zoals uitslagen.nl\, runtimer en mylaps. Doet u mee met dit evenement\, zorg dan dat u goed voorbereid aan de start staat! Met een goed trainingsschema komt u een heel eind. Train bijvoorbeeld met start to run van Evy Gruyaert. Download de start to run mp3 bestanden en zet ze op uw telefoon. Oortjes in\, hit the play button en en rennen maar! \n\n\n\n\nMeer informatie over 1e Finlandcross op Hardloopkalender.nl  \n  \n  \n 
URL:https://hardloopevenementen.com/loopagenda/1e-finlandcross-westdorpe/
END:VEVENT
END:VCALENDAR