BEGIN:VCALENDAR
VERSION:2.0
PRODID:-//Hardloopevenementen - ECPv6.15.14//NONSGML v1.0//EN
CALSCALE:GREGORIAN
METHOD:PUBLISH
X-ORIGINAL-URL:https://hardloopevenementen.com
X-WR-CALDESC:Evenementen voor Hardloopevenementen
REFRESH-INTERVAL;VALUE=DURATION:PT1H
X-Robots-Tag:noindex
X-PUBLISHED-TTL:PT1H
BEGIN:VTIMEZONE
TZID:UTC
BEGIN:STANDARD
TZOFFSETFROM:+0000
TZOFFSETTO:+0000
TZNAME:UTC
DTSTART:20080101T000000
END:STANDARD
END:VTIMEZONE
BEGIN:VEVENT
DTSTART;VALUE=DATE:20140629
DTEND;VALUE=DATE:20140630
DTSTAMP:20260423T180749
CREATED:20130613T123206Z
LAST-MODIFIED:20190423T105338Z
UID:33702-1404000000-1404000000@hardloopevenementen.com
SUMMARY:Ladies First Run Ten4Men Winterswijk (GE)
DESCRIPTION:Doe mee met het hardloopevenement Ladies First Run Ten4Men te Winterswijk (GE) op zo 29 jun 2014. De volgende afstanden staan op het programma: 5 km – 10 km hardlopen. Wilt u inschrijven voor dit loopevenement?  Raadpleeg hiervoor dan de website van de organisatie\nDe uitslagen van deze hardloopwedstrijd zijn te raadplegen via dezelfde website of via de bekende websites zoals uitslagen.nl\, runtimer en mylaps. Doet u mee met dit evenement\, zorg dan dat u goed voorbereid aan de start staat! Met een goed trainingsschema komt u een heel eind. Train bijvoorbeeld met start to run van Evy Gruyaert. Download de start to run mp3 bestanden en zet ze op uw telefoon. Oortjes in\, hit the play button en en rennen maar! \n\n\n\n\nMeer informatie over Ladies First Run Ten4Men op Hardloopkalender.nl  \nDe Ladies First Run en de Ten4Men is een bijzonder hardloopevenement over 5 en 10 kilometer in het Nationaal Landschap van Winterswijk in de Achterhoek.    Ladies First Run   Ten4Men wil in de eerste plaats een leuke\, gezellige en goed georganiseerde loop zijn waar deelnemers én publiek graag terugkomen. Er is een vrouweneditie én een manneneditie.    Op 29 juni 2014 vindt de 2e editie plaats van dit aantrekkelijke en sfeervolle hardloopevenement over 5 en 10 kilometer\, met start en finish op een unieke locatie: Strandbad Winterswijk. De deelnemers lopen door het schitterende Nationaal Landschap van Winterswijk\, over bruggetjes\, paden en zelfs een bleekweide.  Onderweg is er op diverse plekken muzikale ondersteuning en je wordt verrast door mooie natuurlijke variatie.  Sfeer\, plezier en beleving kenmerken dit unieke hardloopevenement. \n  \n  \n 
URL:https://hardloopevenementen.com/loopagenda/ladies-first-run-ten4men-winterswijk-ge/
END:VEVENT
BEGIN:VEVENT
DTSTART;VALUE=DATE:20130512
DTEND;VALUE=DATE:20130513
DTSTAMP:20260423T180749
CREATED:20140330T110818Z
LAST-MODIFIED:20190423T104251Z
UID:31753-1368316800-1368316800@hardloopevenementen.com
SUMMARY:Ladies First Run Winterswijk Winterswijk (GE)
DESCRIPTION:Doe mee met het hardloopevenement Ladies First Run Winterswijk te Winterswijk (GE) op zo 12 mei 2013. De volgende afstanden staan op het programma: 2\,5 km – 4\,5 km – 9 km hardlopen. Wilt u inschrijven voor dit loopevenement?  Raadpleeg hiervoor dan de website van de organisatie\nDe uitslagen van deze hardloopwedstrijd zijn te raadplegen via dezelfde website of via de bekende websites zoals uitslagen.nl\, runtimer en mylaps. Doet u mee met dit evenement\, zorg dan dat u goed voorbereid aan de start staat! Met een goed trainingsschema komt u een heel eind. Train bijvoorbeeld met start to run van Evy Gruyaert. Download de start to run mp3 bestanden en zet ze op uw telefoon. Oortjes in\, hit the play button en en rennen maar! \n\n\n\n\nMeer informatie over Ladies First Run Winterswijk op Hardloopkalender.nl  \nLadies First Run Winterswijk    Hardlopen rondom het Hilgelo.  1 of 2 rondjes     Afstand van 1 rondje is ongeveer 4\,5 km    Er is ook een Girls Run van ongeveer 2\,5 km    Startbewijs kost  7\,50   Voor de Girls run 2\,50    inschrijven kan via mirte@detuunte.nl \n  \n  \n 
URL:https://hardloopevenementen.com/loopagenda/ladies-first-run-winterswijk-winterswijk-ge/
END:VEVENT
BEGIN:VEVENT
DTSTART;VALUE=DATE:20130512
DTEND;VALUE=DATE:20130513
DTSTAMP:20260423T180749
CREATED:20090331T091242Z
LAST-MODIFIED:20190423T104252Z
UID:31755-1368316800-1368316800@hardloopevenementen.com
SUMMARY:Ladies First Run Winterswijk (GE)
DESCRIPTION:Doe mee met het hardloopevenement Ladies First Run te Winterswijk (GE) op zo 12 mei 2013. De volgende afstanden staan op het programma: 4 km – 8 km hardlopen. Wilt u inschrijven voor dit loopevenement?  Raadpleeg hiervoor dan de website van de organisatie\nDe uitslagen van deze hardloopwedstrijd zijn te raadplegen via dezelfde website of via de bekende websites zoals uitslagen.nl\, runtimer en mylaps. Doet u mee met dit evenement\, zorg dan dat u goed voorbereid aan de start staat! Met een goed trainingsschema komt u een heel eind. Train bijvoorbeeld met start to run van Evy Gruyaert. Download de start to run mp3 bestanden en zet ze op uw telefoon. Oortjes in\, hit the play button en en rennen maar! \n\n\n\n\nMeer informatie over Ladies First Run op Hardloopkalender.nl  \nDe állereerste Ladies Run van de Achterhoek. Een recreatief hardloopevenement waarbij plezier en genieten voorop staan.  Hardlopen op een prachtige en unieke locatie in de natuur: recreatieplas ’t Hilgelo in Winterswijk. Er is tevens een Girls Run van ca. 1km en 2 km; leeftijd tot 12 jaar.    Maak er een gezellige dag van met de hele familie. Zelf heerlijk hardlopen\, je laten aanmoedigen door de familie en na afloop gezellig pannenkoeken eten of iets drinken bij de Sevink Mölle. \n  \n  \n 
URL:https://hardloopevenementen.com/loopagenda/ladies-first-run-winterswijk-ge/
END:VEVENT
BEGIN:VEVENT
DTSTART;VALUE=DATE:20111211
DTEND;VALUE=DATE:20111212
DTSTAMP:20260423T180749
CREATED:20180515T123412Z
LAST-MODIFIED:20190423T101641Z
UID:5824-1323561600-1323561600@hardloopevenementen.com
SUMMARY:Kids First kinderopvang Crosscup Almere Almere (FL)
DESCRIPTION:Doe mee met het hardloopevenement Kids First kinderopvang Crosscup Almere te Almere (FL) op zo 11 dec 2011. De volgende afstanden staan op het programma: 1 km – 2 km – 4 km – 6 km – 8 km hardlopen. Wilt u inschrijven voor dit loopevenement?  Raadpleeg hiervoor dan de website van de organisatie\nDe uitslagen van deze hardloopwedstrijd zijn te raadplegen via dezelfde website of via de bekende websites zoals uitslagen.nl\, runtimer en mylaps. Doet u mee met dit evenement\, zorg dan dat u goed voorbereid aan de start staat! Met een goed trainingsschema komt u een heel eind. Train bijvoorbeeld met start to run van Evy Gruyaert. Download de start to run mp3 bestanden en zet ze op uw telefoon. Oortjes in\, hit the play button en en rennen maar! \n\n\n\n\nMeer informatie over Kids First kinderopvang Crosscup Almere op Hardloopkalender.nl  \nDe Kids First kinderopvang Crosscup Almere wordt gehouden over 4 wedstrijden op verschillen plekken in Almere. De 3 beste resultaten tellen mee voor het eindresultaat. De 1ste wedstrijd vindt plaats in het Kotterbos tussen Almere en Lelystad. De 2de wedstrijd wordt gehouden in het Beginbos bij Almere Haven met als extra verrassing de berucht Bult. De 3de wedstrijd is tevens de mooiste cross. Die wordt gelopen op het Almeerderstrand. Door velen wordt deze cross gezien als de ideale voorbereiding en test voor de Egmond Halve Marathon in Januari en voor de Sylvestercross op oudjaarsdag. De laatste en afsluitende cross wordt gehouden rond de Atletiekbaan van AV Almere’81. Uiteraard is los inschrijven voor elke wedstrijd ook mogelijk. \n  \n  \n 
URL:https://hardloopevenementen.com/loopagenda/kids-first-kinderopvang-crosscup-almere-almere-fl/
END:VEVENT
BEGIN:VEVENT
DTSTART;VALUE=DATE:20111113
DTEND;VALUE=DATE:20111114
DTSTAMP:20260423T180749
CREATED:20180903T230006Z
LAST-MODIFIED:20190423T101725Z
UID:5989-1321142400-1321142400@hardloopevenementen.com
SUMMARY:Kids First kinderopvang Crosscup Almere Almere (FL)
DESCRIPTION:Doe mee met het hardloopevenement Kids First kinderopvang Crosscup Almere te Almere (FL) op zo 13 nov 2011. De volgende afstanden staan op het programma: 1 km – 2 km – 4 km – 6 km – 8 km hardlopen. Wilt u inschrijven voor dit loopevenement?  Raadpleeg hiervoor dan de website van de organisatie\nDe uitslagen van deze hardloopwedstrijd zijn te raadplegen via dezelfde website of via de bekende websites zoals uitslagen.nl\, runtimer en mylaps. Doet u mee met dit evenement\, zorg dan dat u goed voorbereid aan de start staat! Met een goed trainingsschema komt u een heel eind. Train bijvoorbeeld met start to run van Evy Gruyaert. Download de start to run mp3 bestanden en zet ze op uw telefoon. Oortjes in\, hit the play button en en rennen maar! \n\n\n\n\nMeer informatie over Kids First kinderopvang Crosscup Almere op Hardloopkalender.nl  \nDe Kids First kinderopvang Crosscup Almere wordt gehouden over 4 wedstrijden op verschillen plekken in Almere. De 3 beste resultaten tellen mee voor het eindresultaat. De 1ste wedstrijd vindt plaats in het Kotterbos tussen Almere en Lelystad. De 2de wedstrijd wordt gehouden in het Beginbos bij Almere Haven met als extra verrassing de berucht Bult. De 3de wedstrijd is tevens de mooiste cross. Die wordt gelopen op het Almeerderstrand. Door velen wordt deze cross gezien als de ideale voorbereiding en test voor de Egmond Halve Marathon in Januari en voor de Sylvestercross op oudjaarsdag. De laatste en afsluitende cross wordt gehouden rond de Atletiekbaan van AV Almere’81. Uiteraard is los inschrijven voor elke wedstrijd ook mogelijk. \n  \n  \n 
URL:https://hardloopevenementen.com/loopagenda/kids-first-kinderopvang-crosscup-almere-almere-fl-2/
END:VEVENT
BEGIN:VEVENT
DTSTART;VALUE=DATE:20111011
DTEND;VALUE=DATE:20111012
DTSTAMP:20260423T180749
CREATED:20121023T032334Z
LAST-MODIFIED:20190423T101807Z
UID:6162-1318291200-1318291200@hardloopevenementen.com
SUMMARY:Kids First kinderopvang Crosscup Almere Almere (FL)
DESCRIPTION:Doe mee met het hardloopevenement Kids First kinderopvang Crosscup Almere te Almere (FL) op di 11 okt 2011. De volgende afstanden staan op het programma: 1 km – 2 km – 4 km – 6 km – 8 km hardlopen. Wilt u inschrijven voor dit loopevenement?  Raadpleeg hiervoor dan de website van de organisatie\nDe uitslagen van deze hardloopwedstrijd zijn te raadplegen via dezelfde website of via de bekende websites zoals uitslagen.nl\, runtimer en mylaps. Doet u mee met dit evenement\, zorg dan dat u goed voorbereid aan de start staat! Met een goed trainingsschema komt u een heel eind. Train bijvoorbeeld met start to run van Evy Gruyaert. Download de start to run mp3 bestanden en zet ze op uw telefoon. Oortjes in\, hit the play button en en rennen maar! \n\n\n\n\nMeer informatie over Kids First kinderopvang Crosscup Almere op Hardloopkalender.nl  \nDe Kids First kinderopvang Crosscup Almere wordt gehouden over 4 wedstrijden op verschillen plekken in Almere. De 3 beste resultaten tellen mee voor het eindresultaat. De 1ste wedstrijd vindt plaats in het Kotterbos tussen Almere en Lelystad. De 2de wedstrijd wordt gehouden in het Beginbos bij Almere Haven met als extra verrassing de berucht Bult. De 3de wedstrijd is tevens de mooiste cross. Die wordt gelopen op het Almeerderstrand. Door velen wordt deze cross gezien als de ideale voorbereiding en test voor de Egmond Halve Marathon in Januari en voor de Sylvestercross op oudjaarsdag. De laatste en afsluitende cross wordt gehouden rond de Atletiekbaan van AV Almere’81. Uiteraard is los inschrijven voor elke wedstrijd ook mogelijk.    Overige data   1ste cross 11-10-2011  2de cross  13-11-2011  3de cross   11-12-2011 \n  \n  \n 
URL:https://hardloopevenementen.com/loopagenda/kids-first-kinderopvang-crosscup-almere-almere-fl-3/
END:VEVENT
BEGIN:VEVENT
DTSTART;VALUE=DATE:20111009
DTEND;VALUE=DATE:20111010
DTSTAMP:20260423T180749
CREATED:20070321T204737Z
LAST-MODIFIED:20190423T101812Z
UID:6186-1318118400-1318118400@hardloopevenementen.com
SUMMARY:Kids First kinderopvang Crosscup Almere Almere (FL)
DESCRIPTION:Doe mee met het hardloopevenement Kids First kinderopvang Crosscup Almere te Almere (FL) op zo 09 okt 2011. De volgende afstanden staan op het programma: 1 km – 2 km – 4 km – 6 km – 8 km hardlopen. Wilt u inschrijven voor dit loopevenement?  Raadpleeg hiervoor dan de website van de organisatie\nDe uitslagen van deze hardloopwedstrijd zijn te raadplegen via dezelfde website of via de bekende websites zoals uitslagen.nl\, runtimer en mylaps. Doet u mee met dit evenement\, zorg dan dat u goed voorbereid aan de start staat! Met een goed trainingsschema komt u een heel eind. Train bijvoorbeeld met start to run van Evy Gruyaert. Download de start to run mp3 bestanden en zet ze op uw telefoon. Oortjes in\, hit the play button en en rennen maar! \n\n\n\n\nMeer informatie over Kids First kinderopvang Crosscup Almere op Hardloopkalender.nl  \nDe Kids First kinderopvang Crosscup Almere wordt gehouden over 4 wedstrijden op verschillen plekken in Almere. De 3 beste resultaten tellen mee voor het eindresultaat. De 1ste wedstrijd vindt plaats in het Kotterbos tussen Almere en Lelystad. De 2de wedstrijd wordt gehouden in het Beginbos bij Almere Haven met als extra verrassing de berucht Bult. De 3de wedstrijd is tevens de mooiste cross. Die wordt gelopen op het Almeerderstrand. Door velen wordt deze cross gezien als de ideale voorbereiding en test voor de Egmond Halve Marathon in Januari en voor de Sylvestercross op oudjaarsdag. De laatste en afsluitende cross wordt gehouden rond de Atletiekbaan van AV Almere’81. Uiteraard is los inschrijven voor elke wedstrijd ook mogelijk. \n  \n  \n 
URL:https://hardloopevenementen.com/loopagenda/kids-first-kinderopvang-crosscup-almere-almere-fl-4/
END:VEVENT
BEGIN:VEVENT
DTSTART;VALUE=DATE:20110123
DTEND;VALUE=DATE:20110124
DTSTAMP:20260423T180749
CREATED:20070515T034027Z
LAST-MODIFIED:20190423T102424Z
UID:26989-1295740800-1295740800@hardloopevenementen.com
SUMMARY:Kids First kinderopvang crosscup Almere (FL)
DESCRIPTION:Doe mee met het hardloopevenement Kids First kinderopvang crosscup te Almere (FL) op zo 23 jan 2011. De volgende afstanden staan op het programma: 1 km – 2 km – 4 km – 6 km – 8 km hardlopen. Wilt u inschrijven voor dit loopevenement?  Raadpleeg hiervoor dan de website van de organisatie\nDe uitslagen van deze hardloopwedstrijd zijn te raadplegen via dezelfde website of via de bekende websites zoals uitslagen.nl\, runtimer en mylaps. Doet u mee met dit evenement\, zorg dan dat u goed voorbereid aan de start staat! Met een goed trainingsschema komt u een heel eind. Train bijvoorbeeld met start to run van Evy Gruyaert. Download de start to run mp3 bestanden en zet ze op uw telefoon. Oortjes in\, hit the play button en en rennen maar! \n\n\n\n\nMeer informatie over Kids First kinderopvang crosscup op Hardloopkalender.nl  \nDe Kids First kinderopvang Cross Cup Almere    Het Crosscircuit wordt gehouden over 4 wedstrijden waarvan er 3 meetellen voor de Cross Cup.  Ook is deelname per wedstrijd mogelijk.  De cross lopen worden gehouden op 4 prachtige verschillende locaties in Almere  Voor iedere categorie zijn er prijzen voor de 1ste 3 dames en de 1ste 3 heren.    de 1 km is voor de jongste jeugd   de 2km voor de jeugd t m junD  Voor de 4\,6\,8 km is de leeftijd vanaf 12 jaar    Het speerpunt is de Strand cross op 12 december 2010  Deze strand cross gehouden op het Almere strand is de voorbereiding loop voor de Egmond Halve Marathon \n  \n  \n 
URL:https://hardloopevenementen.com/loopagenda/kids-first-kinderopvang-crosscup-almere-fl-4/
END:VEVENT
BEGIN:VEVENT
DTSTART;VALUE=DATE:20101212
DTEND;VALUE=DATE:20101213
DTSTAMP:20260423T180749
CREATED:20120224T120855Z
LAST-MODIFIED:20190423T100558Z
UID:3118-1292112000-1292112000@hardloopevenementen.com
SUMMARY:Kids First kinderopvang crosscup Almere (FL)
DESCRIPTION:Doe mee met het hardloopevenement Kids First kinderopvang crosscup te Almere (FL) op zo 12 dec 2010. De volgende afstanden staan op het programma: 1 km – 2 km – 4 km – 6 km – 8 km hardlopen. Wilt u inschrijven voor dit loopevenement?  Raadpleeg hiervoor dan de website van de organisatie\nDe uitslagen van deze hardloopwedstrijd zijn te raadplegen via dezelfde website of via de bekende websites zoals uitslagen.nl\, runtimer en mylaps. Doet u mee met dit evenement\, zorg dan dat u goed voorbereid aan de start staat! Met een goed trainingsschema komt u een heel eind. Train bijvoorbeeld met start to run van Evy Gruyaert. Download de start to run mp3 bestanden en zet ze op uw telefoon. Oortjes in\, hit the play button en en rennen maar! \n\n\n\n\nMeer informatie over Kids First kinderopvang crosscup op Hardloopkalender.nl  \nDe Kids First kinderopvang Cross Cup Almere    Het Crosscircuit wordt gehouden over 4 wedstrijden waarvan er 3 meetellen voor de Cross Cup.  Ook is deelname per wedstrijd mogelijk.  De cross lopen worden gehouden op 4 prachtige verschillende locaties in Almere  Voor iedere categorie zijn er prijzen voor de 1ste 3 dames en de 1ste 3 heren.    de 1 km is voor de jongste jeugd   de 2km voor de jeugd t m junD  Voor de 4\,6\,8 km is de leeftijd vanaf 12 jaar    Het speerpunt is de Strand cross op 12 december 2010  Deze strand cross gehouden op het Almere strand is de voorbereiding loop voor de Egmond Halve Marathon \n  \n  \n 
URL:https://hardloopevenementen.com/loopagenda/kids-first-kinderopvang-crosscup-almere-fl/
END:VEVENT
BEGIN:VEVENT
DTSTART;VALUE=DATE:20101114
DTEND;VALUE=DATE:20101115
DTSTAMP:20260423T180749
CREATED:20100805T163610Z
LAST-MODIFIED:20190423T100638Z
UID:3273-1289692800-1289692800@hardloopevenementen.com
SUMMARY:Kids First kinderopvang crosscup Almere (FL)
DESCRIPTION:Doe mee met het hardloopevenement Kids First kinderopvang crosscup te Almere (FL) op zo 14 nov 2010. De volgende afstanden staan op het programma: 1 km – 2 km – 4 km – 6 km – 8 km hardlopen. Wilt u inschrijven voor dit loopevenement?  Raadpleeg hiervoor dan de website van de organisatie\nDe uitslagen van deze hardloopwedstrijd zijn te raadplegen via dezelfde website of via de bekende websites zoals uitslagen.nl\, runtimer en mylaps. Doet u mee met dit evenement\, zorg dan dat u goed voorbereid aan de start staat! Met een goed trainingsschema komt u een heel eind. Train bijvoorbeeld met start to run van Evy Gruyaert. Download de start to run mp3 bestanden en zet ze op uw telefoon. Oortjes in\, hit the play button en en rennen maar! \n\n\n\n\nMeer informatie over Kids First kinderopvang crosscup op Hardloopkalender.nl  \nDe Kids First kinderopvang Cross Cup Almere    Het Crosscircuit wordt gehouden over 4 wedstrijden waarvan er 3 meetellen voor de Cross Cup.  Ook is deelname per wedstrijd mogelijk.  De cross lopen worden gehouden op 4 prachtige verschillende locaties in Almere  Voor iedere categorie zijn er prijzen voor de 1ste 3 dames en de 1ste 3 heren.    de 1 km is voor de jongste jeugd   de 2km voor de jeugd t m junD  Voor de 4\,6\,8 km is de leeftijd vanaf 12 jaar    Het speerpunt is de Strand cross op 12 december 2010  Deze strand cross gehouden op het Almere strand is de voorbereiding loop voor de Egmond Halve Marathon \n  \n  \n 
URL:https://hardloopevenementen.com/loopagenda/kids-first-kinderopvang-crosscup-almere-fl-2/
END:VEVENT
BEGIN:VEVENT
DTSTART;VALUE=DATE:20101010
DTEND;VALUE=DATE:20101011
DTSTAMP:20260423T180749
CREATED:20120825T060709Z
LAST-MODIFIED:20190423T100758Z
UID:3466-1286668800-1286668800@hardloopevenementen.com
SUMMARY:Kids First kinderopvang crosscup Almere (FL)
DESCRIPTION:Doe mee met het hardloopevenement Kids First kinderopvang crosscup te Almere (FL) op zo 10 okt 2010. De volgende afstanden staan op het programma: 1 km – 2 km – 4 km – 6 km – 8 km hardlopen. Wilt u inschrijven voor dit loopevenement?  Raadpleeg hiervoor dan de website van de organisatie\nDe uitslagen van deze hardloopwedstrijd zijn te raadplegen via dezelfde website of via de bekende websites zoals uitslagen.nl\, runtimer en mylaps. Doet u mee met dit evenement\, zorg dan dat u goed voorbereid aan de start staat! Met een goed trainingsschema komt u een heel eind. Train bijvoorbeeld met start to run van Evy Gruyaert. Download de start to run mp3 bestanden en zet ze op uw telefoon. Oortjes in\, hit the play button en en rennen maar! \n\n\n\n\nMeer informatie over Kids First kinderopvang crosscup op Hardloopkalender.nl  \nDe Kids First kinderopvang Cross Cup Almere    Het Crosscircuit wordt gehouden over 4 wedstrijden waarvan er 3 meetellen voor de Cross Cup.  Ook is deelname per wedstrijd mogelijk.  De cross lopen worden gehouden op 4 prachtige verschillende locaties in Almere  Voor iedere categorie zijn er prijzen voor de 1ste 3 dames en de 1ste 3 heren.    de 1 km is voor de jongste jeugd   de 2km voor de jeugd t m junD  Voor de 4\,6\,8 km is de leeftijd vanaf 12 jaar    Het speerpunt is de Strand cross op 12 december 2010  Deze strand cross gehouden op het Almere strand is de voorbereiding loop voor de Egmond Halve Marathon \n  \n  \n 
URL:https://hardloopevenementen.com/loopagenda/kids-first-kinderopvang-crosscup-almere-fl-3/
END:VEVENT
BEGIN:VEVENT
DTSTART;VALUE=DATE:20100228
DTEND;VALUE=DATE:20100301
DTSTAMP:20260423T180749
CREATED:20070716T173051Z
LAST-MODIFIED:20190423T101343Z
UID:23904-1267315200-1267315200@hardloopevenementen.com
SUMMARY:Kids First Run Crosscup Almere Almere (FL)
DESCRIPTION:Doe mee met het hardloopevenement Kids First Run Crosscup Almere te Almere (FL) op zo 28 feb 2010. De volgende afstanden staan op het programma: 1 km – 2 km – 4 km – 6 km – 8 km hardlopen. Wilt u inschrijven voor dit loopevenement?  Raadpleeg hiervoor dan de website van de organisatie\nDe uitslagen van deze hardloopwedstrijd zijn te raadplegen via dezelfde website of via de bekende websites zoals uitslagen.nl\, runtimer en mylaps. Doet u mee met dit evenement\, zorg dan dat u goed voorbereid aan de start staat! Met een goed trainingsschema komt u een heel eind. Train bijvoorbeeld met start to run van Evy Gruyaert. Download de start to run mp3 bestanden en zet ze op uw telefoon. Oortjes in\, hit the play button en en rennen maar! \n\n\n\n\nMeer informatie over Kids First Run Crosscup Almere op Hardloopkalender.nl  \nDe laatste wedstrijd van de Kids First kinderopvang Crosscup Almere.    Een uitdagende cross wedstrijd rond de Atletiekbaan van Almere’81.    Afstanden:  voor de jeugd:  Kids First Run 1 km (t m pupC                             Kids First Run 2 km (t m JunD)  Prijzen voor de eerste drie dames en heren per afstand  voor de volwassenen:  4 km (vanaf junC)  6 km  8 km  (Geld)prijzen voor de eerste drie dames en heren per afstand. en voor de eerste drie Masters op de 8 km \n  \n  \n 
URL:https://hardloopevenementen.com/loopagenda/kids-first-run-crosscup-almere-almere-fl-2/
END:VEVENT
BEGIN:VEVENT
DTSTART;VALUE=DATE:20091213
DTEND;VALUE=DATE:20091214
DTSTAMP:20260423T180749
CREATED:20140404T111313Z
LAST-MODIFIED:20190423T095634Z
UID:1322-1260662400-1260662400@hardloopevenementen.com
SUMMARY:Kids First Run crosscup Almere Almere (FL)
DESCRIPTION:Doe mee met het hardloopevenement Kids First Run crosscup Almere te Almere (FL) op zo 13 dec 2009. De volgende afstanden staan op het programma: 1 km – 2 km – 4 km – 6 km – 8 km hardlopen. Wilt u inschrijven voor dit loopevenement?  Raadpleeg hiervoor dan de website van de organisatie\nDe uitslagen van deze hardloopwedstrijd zijn te raadplegen via dezelfde website of via de bekende websites zoals uitslagen.nl\, runtimer en mylaps. Doet u mee met dit evenement\, zorg dan dat u goed voorbereid aan de start staat! Met een goed trainingsschema komt u een heel eind. Train bijvoorbeeld met start to run van Evy Gruyaert. Download de start to run mp3 bestanden en zet ze op uw telefoon. Oortjes in\, hit the play button en en rennen maar! \n\n\n\n\nMeer informatie over Kids First Run crosscup Almere op Hardloopkalender.nl  \nKids First Run 1 en 2 km voor de jeugd t m 12 jaar  4\,6 en 8 km cross voor iedereen vanaf 12 jaar  Leuke cross wedstrijden in afwisselende natuurlijke omgevingen.  zondag 13 december 2009  Almeerderstrand  zondag 17 januari 2010  Beginbos  zondag 28 februari 2010  AV Almere ’81    Geldprijzen  Voor de dames en heren op de 2\, 4\, 6 & 8 kilometer zijn er geldprijzen beschikbaar. Voor de 1ste drie plaatsen per categorie \n  \n  \n 
URL:https://hardloopevenementen.com/loopagenda/kids-first-run-crosscup-almere-almere-fl/
END:VEVENT
END:VCALENDAR