BEGIN:VCALENDAR
VERSION:2.0
PRODID:-//Hardloopevenementen - ECPv6.15.14//NONSGML v1.0//EN
CALSCALE:GREGORIAN
METHOD:PUBLISH
X-WR-CALNAME:Hardloopevenementen
X-ORIGINAL-URL:https://hardloopevenementen.com
X-WR-CALDESC:Evenementen voor Hardloopevenementen
REFRESH-INTERVAL;VALUE=DURATION:PT1H
X-Robots-Tag:noindex
X-PUBLISHED-TTL:PT1H
BEGIN:VTIMEZONE
TZID:UTC
BEGIN:STANDARD
TZOFFSETFROM:+0000
TZOFFSETTO:+0000
TZNAME:UTC
DTSTART:20080101T000000
END:STANDARD
END:VTIMEZONE
BEGIN:VEVENT
DTSTART;VALUE=DATE:20101010
DTEND;VALUE=DATE:20101011
DTSTAMP:20260422T073553
CREATED:20100227T084106Z
LAST-MODIFIED:20190423T100756Z
UID:3456-1286668800-1286668800@hardloopevenementen.com
SUMMARY:FlevOnice-run Biddinghuizen\, gemeente Dronten (FL)
DESCRIPTION:Doe mee met het hardloopevenement FlevOnice-run te Biddinghuizen\, gemeente Dronten (FL) op zo 10 okt 2010. De volgende afstanden staan op het programma: 1\,5 km – 5 km – 10 km – 15 km hardlopen. Wilt u inschrijven voor dit loopevenement?  Raadpleeg hiervoor dan de website van de organisatie\nDe uitslagen van deze hardloopwedstrijd zijn te raadplegen via dezelfde website of via de bekende websites zoals uitslagen.nl\, runtimer en mylaps. Doet u mee met dit evenement\, zorg dan dat u goed voorbereid aan de start staat! Met een goed trainingsschema komt u een heel eind. Train bijvoorbeeld met start to run van Evy Gruyaert. Download de start to run mp3 bestanden en zet ze op uw telefoon. Oortjes in\, hit the play button en en rennen maar! \n\n\n\n\nMeer informatie over FlevOnice-run op Hardloopkalender.nl  \nDit loopevenement wordt georganiseerd door Loopgroep 2000.De eerste afstand (of onderdeel) start om 11:30.Het adres van de start en de finish is strandgaperweg 1Categorie(ën): mannen\, vrouwen\, jeugdVooraf inschrijven is mogelijk vanaf 01 april 2010 tot 08 oktober 2010.Inschrijven op de dag van de loop is mogelijk (vanaf 10.30) op dit adres: Strandgaperweg 1.Meer informatie:Contactpersoon: h.mentinkTel.: 0365235933Email: info@loopgroep2000.nlEr is een kleedaccomodatie aanwezig. Douchen is mogelijk.Het parcours is verhard.Vorig jaar deden er 250 lopers mee aan dit evenement.Overige bijzonderheden:  prijzen 1\,2\,3 per afstand per klasse \n  \n  \n 
URL:https://hardloopevenementen.com/loopagenda/flevonice-run-biddinghuizen-gemeente-dronten-fl-2/
END:VEVENT
BEGIN:VEVENT
DTSTART;VALUE=DATE:20091004
DTEND;VALUE=DATE:20091005
DTSTAMP:20260422T073553
CREATED:20091113T225211Z
LAST-MODIFIED:20190423T095822Z
UID:1687-1254614400-1254614400@hardloopevenementen.com
SUMMARY:FlevOnice Run Biddinghuizen\, gemeente Dronten (FL)
DESCRIPTION:Doe mee met het hardloopevenement FlevOnice Run te Biddinghuizen\, gemeente Dronten (FL) op zo 04 okt 2009. De volgende afstanden staan op het programma: 5 km – 10 km – 15 km hardlopen. Wilt u inschrijven voor dit loopevenement?  Raadpleeg hiervoor dan de website van de organisatie\nDe uitslagen van deze hardloopwedstrijd zijn te raadplegen via dezelfde website of via de bekende websites zoals uitslagen.nl\, runtimer en mylaps. Doet u mee met dit evenement\, zorg dan dat u goed voorbereid aan de start staat! Met een goed trainingsschema komt u een heel eind. Train bijvoorbeeld met start to run van Evy Gruyaert. Download de start to run mp3 bestanden en zet ze op uw telefoon. Oortjes in\, hit the play button en en rennen maar! \n\n\n\n\nMeer informatie over FlevOnice Run op Hardloopkalender.nl  \n5-10-15 km 12:00 uur  De uitslagen komen beschikbaar op uitslagen.nl. \n  \n  \n 
URL:https://hardloopevenementen.com/loopagenda/flevonice-run-biddinghuizen-gemeente-dronten-fl/
END:VEVENT
END:VCALENDAR