BEGIN:VCALENDAR
VERSION:2.0
PRODID:-//Hardloopevenementen - ECPv6.15.14//NONSGML v1.0//EN
CALSCALE:GREGORIAN
METHOD:PUBLISH
X-ORIGINAL-URL:https://hardloopevenementen.com
X-WR-CALDESC:Evenementen voor Hardloopevenementen
REFRESH-INTERVAL;VALUE=DURATION:PT1H
X-Robots-Tag:noindex
X-PUBLISHED-TTL:PT1H
BEGIN:VTIMEZONE
TZID:UTC
BEGIN:STANDARD
TZOFFSETFROM:+0000
TZOFFSETTO:+0000
TZNAME:UTC
DTSTART:20090101T000000
END:STANDARD
END:VTIMEZONE
BEGIN:VEVENT
DTSTART;VALUE=DATE:20110507
DTEND;VALUE=DATE:20110508
DTSTAMP:20260423T043236
CREATED:20161003T194849Z
LAST-MODIFIED:20190423T102151Z
UID:7040-1304726400-1304726400@hardloopevenementen.com
SUMMARY:3e Flexcompany Ultraloop van Altena Hank\, gemeente Werkendam (NB)
DESCRIPTION:Doe mee met het hardloopevenement 3e Flexcompany Ultraloop van Altena te Hank\, gemeente Werkendam (NB) op za 07 mei 2011. De volgende afstanden staan op het programma: 60 km hardlopen. Wilt u inschrijven voor dit loopevenement?  Raadpleeg hiervoor dan de website van de organisatie\nDe uitslagen van deze hardloopwedstrijd zijn te raadplegen via dezelfde website of via de bekende websites zoals uitslagen.nl\, runtimer en mylaps. Doet u mee met dit evenement\, zorg dan dat u goed voorbereid aan de start staat! Met een goed trainingsschema komt u een heel eind. Train bijvoorbeeld met start to run van Evy Gruyaert. Download de start to run mp3 bestanden en zet ze op uw telefoon. Oortjes in\, hit the play button en en rennen maar! \n\n\n\n\nMeer informatie over 3e Flexcompany Ultraloop van Altena op Hardloopkalender.nl  \nHet loopevenement 3e Flexcompany Ultraloop van Altena te Hank vindt plaats op zaterdag 07 mei 2011. De loop wordt georganiseerd door Altena Road Runners. Inschrijven is mogelijk vanaf 01 november 2010. Klik hier voor het adres van de start (Google Maps).Er is verkleedaccomodatie met douchemogelijkheid aanwezig. Er is EHBO aanwezig. Bijzonderheden: Uitgebreid programma: marathon\, ultralopen\, estafette en familieloop..Afstand(km)Inschrijfgeld()Starttijd6020\,0009:0060estafette75\,0009:00120-180Roparun0\,0022:00-6meiVoor meer informatie:Henny Wijnandshenny.wijnands@casema.nl0162402913http:  www.stichtingh2o.nl \n  \n  \n 
URL:https://hardloopevenementen.com/loopagenda/3e-flexcompany-ultraloop-van-altena-hank-gemeente-werkendam-nb/
END:VEVENT
BEGIN:VEVENT
DTSTART;VALUE=DATE:20110507
DTEND;VALUE=DATE:20110508
DTSTAMP:20260423T043236
CREATED:20081004T170208Z
LAST-MODIFIED:20190423T102151Z
UID:7039-1304726400-1304726400@hardloopevenementen.com
SUMMARY:3e Flexcompany Marathon van Altena Hank\, gemeente Werkendam (NB)
DESCRIPTION:Doe mee met het hardloopevenement 3e Flexcompany Marathon van Altena te Hank\, gemeente Werkendam (NB) op za 07 mei 2011. De volgende afstanden staan op het programma: marathon hardlopen. Wilt u inschrijven voor dit loopevenement?  Raadpleeg hiervoor dan de website van de organisatie\nDe uitslagen van deze hardloopwedstrijd zijn te raadplegen via dezelfde website of via de bekende websites zoals uitslagen.nl\, runtimer en mylaps. Doet u mee met dit evenement\, zorg dan dat u goed voorbereid aan de start staat! Met een goed trainingsschema komt u een heel eind. Train bijvoorbeeld met start to run van Evy Gruyaert. Download de start to run mp3 bestanden en zet ze op uw telefoon. Oortjes in\, hit the play button en en rennen maar! \n\n\n\n\nMeer informatie over 3e Flexcompany Marathon van Altena op Hardloopkalender.nl  \nHet loopevenement 3e Flexcompany Marathon van Altena te Hank vindt plaats op zaterdag 07 mei 2011. De loop wordt georganiseerd door Altena Road Runners. Inschrijven is mogelijk vanaf 01 november 2010. Klik hier voor het adres van de start (Google Maps).Er is verkleedaccomodatie met douchemogelijkheid aanwezig. Er is EHBO aanwezig. Bijzonderheden: Uitgebreid programma: marathon\, ultralopen en estafette..Afstand(km)Inschrijfgeld()Starttijd42.215\,0011:0042.2estafette50\,0011:00Voor meer informatie:Henny Wijnandshenny.wijnands@casema.nl0162402913http:  www.stichtingh2o.nl      LET OP:  Hoi Sportvrienden  Het word het zaterdag mooi weer. Dat is leuk om op het strand te liggen maar niet om te lopen.   Derhalve hebben wij van de Hankse Hardloop Organisatie\, besloten dat de   MARATHON VAN ALTENA en DE ULTRALOOP VAN HET LAND VAN HEUSDEN EN ALTENA op zaterdag 7 mei   NIET DOOR GAAT.  Beter nu een rot gevoel dat we iedereen moeten teleurstellen\, dan zaterdagavond een kater omdat er iets gebeurd is \, met het welzijn van één van onze deelnemers. Wij kunnen namelijk geen extra maatregelingen treffen om meer drinken en verkoeling te verzorgen.  Het inschrijfgeld word dit weekend nog teruggestort op de rekeningnummers van degene die het al hebben overgemaakt. Mocht u onverhoopt vrijdag 13 mei nog niets hebben ontvangen\, dan worden wij daar middels een mail graag van op de hoogte gebracht.  Rekenende op uw begrip en met pijn in het hart\, met vriendelijke groet Henny Wijnands \n  \n  \n 
URL:https://hardloopevenementen.com/loopagenda/3e-flexcompany-marathon-van-altena-hank-gemeente-werkendam-nb/
END:VEVENT
BEGIN:VEVENT
DTSTART;VALUE=DATE:20100501
DTEND;VALUE=DATE:20100502
DTSTAMP:20260423T043236
CREATED:20130106T074037Z
LAST-MODIFIED:20190423T101212Z
UID:23539-1272672000-1272672000@hardloopevenementen.com
SUMMARY:Flexcompany-Marathon van Altena Hank\, gemeente Werkendam (NB)
DESCRIPTION:Doe mee met het hardloopevenement Flexcompany-Marathon van Altena te Hank\, gemeente Werkendam (NB) op za 01 mei 2010. De volgende afstanden staan op het programma: 6 km – 9 km – 10 Engelse mijl – marathon – 60 km hardlopen. Wilt u inschrijven voor dit loopevenement?  Raadpleeg hiervoor dan de website van de organisatie\nDe uitslagen van deze hardloopwedstrijd zijn te raadplegen via dezelfde website of via de bekende websites zoals uitslagen.nl\, runtimer en mylaps. Doet u mee met dit evenement\, zorg dan dat u goed voorbereid aan de start staat! Met een goed trainingsschema komt u een heel eind. Train bijvoorbeeld met start to run van Evy Gruyaert. Download de start to run mp3 bestanden en zet ze op uw telefoon. Oortjes in\, hit the play button en en rennen maar! \n\n\n\n\nMeer informatie over Flexcompany-Marathon van Altena op Hardloopkalender.nl  \nDe 2e Flexcompany Marathon van Altena voert door de Biesbosch en langs de Merwede.     Na het succes van vorig jaar(bijna 2400 euro voor de Roparun) gaan we dit jaar voor een nog grotere opbrengst en een nog betere organisatie.   Tevens op die dag Ultralopen over 60 en 120 km Estaffette-wedstrijden over deze drie afstanden\, met aflossingen zoals de ploegen zelf willen en trimlopen over 6\, 9 en 16\,1 km. Een grandioos loopevenement\, met heel veel enthousiaste vrijwilligers \n  \n  \n 
URL:https://hardloopevenementen.com/loopagenda/flexcompany-marathon-van-altena-hank-gemeente-werkendam-nb/
END:VEVENT
END:VCALENDAR