BEGIN:VCALENDAR
VERSION:2.0
PRODID:-//Hardloopevenementen - ECPv6.15.14//NONSGML v1.0//EN
CALSCALE:GREGORIAN
METHOD:PUBLISH
X-ORIGINAL-URL:https://hardloopevenementen.com
X-WR-CALDESC:Evenementen voor Hardloopevenementen
REFRESH-INTERVAL;VALUE=DURATION:PT1H
X-Robots-Tag:noindex
X-PUBLISHED-TTL:PT1H
BEGIN:VTIMEZONE
TZID:UTC
BEGIN:STANDARD
TZOFFSETFROM:+0000
TZOFFSETTO:+0000
TZNAME:UTC
DTSTART:20130101T000000
END:STANDARD
END:VTIMEZONE
BEGIN:VEVENT
DTSTART;VALUE=DATE:20161216
DTEND;VALUE=DATE:20161217
DTSTAMP:20260423T204749
CREATED:20090819T030321Z
LAST-MODIFIED:20190423T112009Z
UID:11390-1481846400-1481846400@hardloopevenementen.com
SUMMARY:Foute Kersttruienloop Almere (FL)
DESCRIPTION:Doe mee met het hardloopevenement Foute Kersttruienloop te Almere (FL) op vr 16 dec 2016. De volgende afstanden staan op het programma: 3\,8 km – 7\,5 km hardlopen. Wilt u inschrijven voor dit loopevenement?  Raadpleeg hiervoor dan de website van de organisatie\nDe uitslagen van deze hardloopwedstrijd zijn te raadplegen via dezelfde website of via de bekende websites zoals uitslagen.nl\, runtimer en mylaps. Doet u mee met dit evenement\, zorg dan dat u goed voorbereid aan de start staat! Met een goed trainingsschema komt u een heel eind. Train bijvoorbeeld met start to run van Evy Gruyaert. Download de start to run mp3 bestanden en zet ze op uw telefoon. Oortjes in\, hit the play button en en rennen maar! \n\n\n\n\nMeer informatie over Foute Kersttruienloop op Hardloopkalender.nl  \nHeb jij een foute kersttrui en houd je van harlopen? Doe dan op 16 december 2016 mee met de Foute Kersttruienloop van Pop Up Runs Almere en Run2Day. Een Fun Run\, dus zonder tijdsregistratie\, op een gezellig duurlooptempo door het stadshart van Almere.      Je hebt de keuze tussen één of twee rondjes van bijna 4 kilometer ieder. Iedereen is welkom!     De start is vanaf Run2Day Almere op de Metropolestraat 23 in het stadshart van onze mooie stad.     De loop begint om 19:00 uur. Kom ruim op tijd.     Niet verplicht\, wel heel wenselijk….. trek je foutste kerstrui aan!     We streven naar een deelnemersaantal van maximaal 40. Vol is vol. Geef daarom op tijd op dat je meegaat. Doe dit simpelweg door op Facebook aan te vinken dat je gaat.     Zoals bij al onze evenementen is deze ook geheel GRATIS. \n  \n  \n 
URL:https://hardloopevenementen.com/loopagenda/foute-kersttruienloop-almere-fl/
END:VEVENT
BEGIN:VEVENT
DTSTART;VALUE=DATE:20140906
DTEND;VALUE=DATE:20140907
DTSTAMP:20260423T204749
CREATED:20141126T020500Z
LAST-MODIFIED:20190423T105202Z
UID:33360-1409961600-1409961600@hardloopevenementen.com
SUMMARY:De Foute Disco Run Zwolle (OV)
DESCRIPTION:Doe mee met het hardloopevenement De Foute Disco Run te Zwolle (OV) op za 06 sep 2014. De volgende afstanden staan op het programma: 1 km – 10 km – 15 km – 99 km hardlopen. Wilt u inschrijven voor dit loopevenement?  Raadpleeg hiervoor dan de website van de organisatie\nDe uitslagen van deze hardloopwedstrijd zijn te raadplegen via dezelfde website of via de bekende websites zoals uitslagen.nl\, runtimer en mylaps. Doet u mee met dit evenement\, zorg dan dat u goed voorbereid aan de start staat! Met een goed trainingsschema komt u een heel eind. Train bijvoorbeeld met start to run van Evy Gruyaert. Download de start to run mp3 bestanden en zet ze op uw telefoon. Oortjes in\, hit the play button en en rennen maar! \n\n\n\n\nMeer informatie over De Foute Disco Run op Hardloopkalender.nl  \nUltieme fun run in de IJsselhallen in Zwolle. Kom naar deze mega disco en dans en loop mee op de discoknallers van de jaren 70\, 80 en 90! \n  \n  \n 
URL:https://hardloopevenementen.com/loopagenda/de-foute-disco-run-zwolle-ov/
END:VEVENT
END:VCALENDAR