BEGIN:VCALENDAR
VERSION:2.0
PRODID:-//Hardloopevenementen - ECPv6.15.14//NONSGML v1.0//EN
CALSCALE:GREGORIAN
METHOD:PUBLISH
X-ORIGINAL-URL:https://hardloopevenementen.com
X-WR-CALDESC:Evenementen voor Hardloopevenementen
REFRESH-INTERVAL;VALUE=DURATION:PT1H
X-Robots-Tag:noindex
X-PUBLISHED-TTL:PT1H
BEGIN:VTIMEZONE
TZID:UTC
BEGIN:STANDARD
TZOFFSETFROM:+0000
TZOFFSETTO:+0000
TZNAME:UTC
DTSTART:20080101T000000
END:STANDARD
END:VTIMEZONE
BEGIN:VEVENT
DTSTART;VALUE=DATE:20090523
DTEND;VALUE=DATE:20090524
DTSTAMP:20260425T131005
CREATED:20070428T051929Z
LAST-MODIFIED:20190423T100115Z
UID:2286-1243036800-1243036800@hardloopevenementen.com
SUMMARY:Gaasperplasloop Amsterdam-Zuidoost\, gemeente Amsterdam (NH)
DESCRIPTION:Doe mee met het hardloopevenement Gaasperplasloop te Amsterdam-Zuidoost\, gemeente Amsterdam (NH) op za 23 mei 2009. De volgende afstanden staan op het programma: 1 km – 2 km – 4\,6 km hardlopen. Wilt u inschrijven voor dit loopevenement?  Raadpleeg hiervoor dan de website van de organisatie\nDe uitslagen van deze hardloopwedstrijd zijn te raadplegen via dezelfde website of via de bekende websites zoals uitslagen.nl\, runtimer en mylaps. Doet u mee met dit evenement\, zorg dan dat u goed voorbereid aan de start staat! Met een goed trainingsschema komt u een heel eind. Train bijvoorbeeld met start to run van Evy Gruyaert. Download de start to run mp3 bestanden en zet ze op uw telefoon. Oortjes in\, hit the play button en en rennen maar! \n\n\n\n\nMeer informatie over Gaasperplasloop op Hardloopkalender.nl  \nHardloopwedstrijd georganiseerd door AV Feniks\, een atletiekvereniging gespecialiseerd in jeugdatletiek. Deelnemers die hun PR verbeteren\, krijgen een medaille. Deelname is gratis. Inschrijven bij Zeilvereniging Gaasperplas\, op dag van deelname.   Lokatie Zeilvereniging Gaasperplas Langbroekpad 1 in Amsterdam Zuidoost    Inschrijven vanaf 11:45  Starttijd 12:20 uur \n  \n  \n 
URL:https://hardloopevenementen.com/loopagenda/gaasperplasloop-amsterdam-zuidoost-gemeente-amsterdam-nh/
END:VEVENT
BEGIN:VEVENT
DTSTART;VALUE=DATE:20090321
DTEND;VALUE=DATE:20090322
DTSTAMP:20260425T131005
CREATED:20150720T123608Z
LAST-MODIFIED:20190423T100238Z
UID:2620-1237593600-1237593600@hardloopevenementen.com
SUMMARY:Gaasperplasloop Amsterdam-Zuidoost\, gemeente Amsterdam (NH)
DESCRIPTION:Doe mee met het hardloopevenement Gaasperplasloop te Amsterdam-Zuidoost\, gemeente Amsterdam (NH) op za 21 mrt 2009. De volgende afstanden staan op het programma: 1 km – 2 km – 4\,5 km hardlopen. Wilt u inschrijven voor dit loopevenement?  Raadpleeg hiervoor dan de website van de organisatie\nDe uitslagen van deze hardloopwedstrijd zijn te raadplegen via dezelfde website of via de bekende websites zoals uitslagen.nl\, runtimer en mylaps. Doet u mee met dit evenement\, zorg dan dat u goed voorbereid aan de start staat! Met een goed trainingsschema komt u een heel eind. Train bijvoorbeeld met start to run van Evy Gruyaert. Download de start to run mp3 bestanden en zet ze op uw telefoon. Oortjes in\, hit the play button en en rennen maar! \n\n\n\n\nMeer informatie over Gaasperplasloop op Hardloopkalender.nl  \nGaasperplas Run    Elk kwartaal organiseert Atletiek Vereniging Feniks een loop door het prachtige park rondom de Gaasperplas. Meedoen is gratis voor kinderen tot 16 jaar en leden van AV Feniks. Degene die zijn persoonlijk record verbreekt\, wordt beloond.    Iedereen vanaf 6 jaar is welkom om mee te doen!    Eerstvolgende: 9 oktober 2010    Verdere data 2010:    18 december    Start inschrijving: 9.30 uur\, 10 km start om 10.00 uur. Gezamelijke warming up voor de andere afstanden: 10.15 uur\, 5 om 10.25 uur en 1 en 2 km rond 10.30 uur.    Lokatie: Zeilvereniging Gaasperplas\, Langbroekpad 1.  Afstanden: 1\, 2\, 5  en 10 km. Persoonlijke records worden beloond.    Kosten: voor niet-leden 3\,50 euro\, kinderen tot 16 jaar en AV Feniks-leden gratis.    U kunt zich inschrijven via de inschrijfpagina of door te klikken op inschrijven in de linker banner.    Of ter plaatse op de dag zelf vanaf 9.30 uur.Kom niet te laat\, want de 10 km start om 10 uur! Voor de andere afstanden kunt u meedoen met de gezamelijke warming up die om 10.15 uur begint. \n  \n  \n 
URL:https://hardloopevenementen.com/loopagenda/gaasperplasloop-amsterdam-zuidoost-gemeente-amsterdam-nh-2/
END:VEVENT
END:VCALENDAR