BEGIN:VCALENDAR
VERSION:2.0
PRODID:-//Hardloopevenementen - ECPv6.15.14//NONSGML v1.0//EN
CALSCALE:GREGORIAN
METHOD:PUBLISH
X-WR-CALNAME:Hardloopevenementen
X-ORIGINAL-URL:https://hardloopevenementen.com
X-WR-CALDESC:Evenementen voor Hardloopevenementen
REFRESH-INTERVAL;VALUE=DURATION:PT1H
X-Robots-Tag:noindex
X-PUBLISHED-TTL:PT1H
BEGIN:VTIMEZONE
TZID:UTC
BEGIN:STANDARD
TZOFFSETFROM:+0000
TZOFFSETTO:+0000
TZNAME:UTC
DTSTART:20070101T000000
END:STANDARD
END:VTIMEZONE
BEGIN:VEVENT
DTSTART;VALUE=DATE:20150912
DTEND;VALUE=DATE:20150913
DTSTAMP:20260423T103423
CREATED:20181205T233933Z
LAST-MODIFIED:20190423T110921Z
UID:9810-1442016000-1442016000@hardloopevenementen.com
SUMMARY:Ganzenvenloop Galder Galder\, gemeente Alphen-Chaam (NB)
DESCRIPTION:Doe mee met het hardloopevenement Ganzenvenloop Galder te Galder\, gemeente Alphen-Chaam (NB) op za 12 sep 2015. De volgende afstanden staan op het programma: 3\,3 km – 6\,6 km – 10 km hardlopen. Wilt u inschrijven voor dit loopevenement?  Raadpleeg hiervoor dan de website van de organisatie\nDe uitslagen van deze hardloopwedstrijd zijn te raadplegen via dezelfde website of via de bekende websites zoals uitslagen.nl\, runtimer en mylaps. Doet u mee met dit evenement\, zorg dan dat u goed voorbereid aan de start staat! Met een goed trainingsschema komt u een heel eind. Train bijvoorbeeld met start to run van Evy Gruyaert. Download de start to run mp3 bestanden en zet ze op uw telefoon. Oortjes in\, hit the play button en en rennen maar! \n\n\n\n\nMeer informatie over Ganzenvenloop Galder op Hardloopkalender.nl  \nHet loopevenement Ganzenvenloop Galder te Galder vindt plaats op zaterdag 12 september 2015. \n  \n  \n 
URL:https://hardloopevenementen.com/loopagenda/ganzenvenloop-galder-galder-gemeente-alphen-chaam-nb/
END:VEVENT
BEGIN:VEVENT
DTSTART;VALUE=DATE:20110910
DTEND;VALUE=DATE:20110911
DTSTAMP:20260423T103423
CREATED:20161202T205037Z
LAST-MODIFIED:20190423T101858Z
UID:6372-1315612800-1315612800@hardloopevenementen.com
SUMMARY:Ganzenvenloop Galder\, gemeente Alphen-Chaam (NB)
DESCRIPTION:Doe mee met het hardloopevenement Ganzenvenloop te Galder\, gemeente Alphen-Chaam (NB) op za 10 sep 2011. De volgende afstanden staan op het programma: 0\,5 km – 0\,8 km – 1\,2 km – 1\,8 km – 5 km – 10 km hardlopen. Wilt u inschrijven voor dit loopevenement?  Raadpleeg hiervoor dan de website van de organisatie\nDe uitslagen van deze hardloopwedstrijd zijn te raadplegen via dezelfde website of via de bekende websites zoals uitslagen.nl\, runtimer en mylaps. Doet u mee met dit evenement\, zorg dan dat u goed voorbereid aan de start staat! Met een goed trainingsschema komt u een heel eind. Train bijvoorbeeld met start to run van Evy Gruyaert. Download de start to run mp3 bestanden en zet ze op uw telefoon. Oortjes in\, hit the play button en en rennen maar! \n\n\n\n\nMeer informatie over Ganzenvenloop op Hardloopkalender.nl  \nHet loopevenement Ganzenvenloop te Galder vindt plaats op zaterdag 10 september 2011. De loop wordt georganiseerd door St. Ganzenvenloop. Inschrijven is mogelijk vanaf 01 juli 2011. Klik hier voor het adres van de start (Google Maps).Er is verkleedaccomodatie met douchemogelijkheid aanwezig. Er is EHBO aanwezig. Bijzonderheden: Ganzenvenloop is recreatieloop. Parcours loopt oa langs rivier De Mark..Afstand(km)Inschrijfgeld(€)Starttijd10€5\,0016.00uur5€5\,0016.00uur0\,5€1\,0014.00uur0\,8€1\,0014.15uur1\,2€1\,0014.30uur1\,8€1\,0014.45uurVoor meer informatie:Hélène van der Veldenhelenevandervelden@casema.nl0765650868http:  www.ganzenvenloop.nl \n  \n  \n 
URL:https://hardloopevenementen.com/loopagenda/ganzenvenloop-galder-gemeente-alphen-chaam-nb-2/
END:VEVENT
BEGIN:VEVENT
DTSTART;VALUE=DATE:20100911
DTEND;VALUE=DATE:20100912
DTSTAMP:20260423T103423
CREATED:20160522T232343Z
LAST-MODIFIED:20190423T100856Z
UID:3641-1284163200-1284163200@hardloopevenementen.com
SUMMARY:Ganzenvenloop Galder\, gemeente Alphen-Chaam (NB)
DESCRIPTION:Doe mee met het hardloopevenement Ganzenvenloop te Galder\, gemeente Alphen-Chaam (NB) op za 11 sep 2010. De volgende afstanden staan op het programma: 5 km hardlopen. Wilt u inschrijven voor dit loopevenement?  Raadpleeg hiervoor dan de website van de organisatie\nDe uitslagen van deze hardloopwedstrijd zijn te raadplegen via dezelfde website of via de bekende websites zoals uitslagen.nl\, runtimer en mylaps. Doet u mee met dit evenement\, zorg dan dat u goed voorbereid aan de start staat! Met een goed trainingsschema komt u een heel eind. Train bijvoorbeeld met start to run van Evy Gruyaert. Download de start to run mp3 bestanden en zet ze op uw telefoon. Oortjes in\, hit the play button en en rennen maar! \n\n\n\n\nMeer informatie over Ganzenvenloop op Hardloopkalender.nl  \nDit loopevenement wordt georganiseerd door St. Ganzenvenloop.De eerste afstand (of onderdeel) start om 14:00.Het adres van de start en de finish is St. Jacobsstraat 1BCategorie(ën): mannen\, vrouwen\, jeugdVooraf inschrijven is mogelijk vanaf 01 juni 2010 tot 10 september 2010.Inschrijven op de dag van de loop is mogelijk (vanaf 11 sept 2009 tot aanvang wedstrijden) op dit adres: De Leeuwerik  St. Jacobsstraat 1B  4855 AK Galder.Meer informatie:Contactpersoon: Hélène van der VeldenTel.: 0765650868Email: helenevandervelden@casema.nlEr is een kleedaccomodatie aanwezig. Douchen is mogelijk.Het parcours is deels onverhard.Overige bijzonderheden:  Senioren: 1 ronde = 5 km\, max 3 ronden. Parcours ged onverhard. \n  \n  \n 
URL:https://hardloopevenementen.com/loopagenda/ganzenvenloop-galder-gemeente-alphen-chaam-nb/
END:VEVENT
BEGIN:VEVENT
DTSTART;VALUE=DATE:20080913
DTEND;VALUE=DATE:20080914
DTSTAMP:20260423T103423
CREATED:20141118T221305Z
LAST-MODIFIED:20190423T094530Z
UID:19205-1221264000-1221264000@hardloopevenementen.com
SUMMARY:Ganzenvenloop Galder
DESCRIPTION:Doe mee met het hardloopevenement Ganzenvenloop te Galder op za 13 sep 2008. De volgende afstanden staan op het programma: 5 km – 10 km – 15 km hardlopen. Wilt u inschrijven voor dit loopevenement?  Raadpleeg hiervoor dan de website van de organisatie\nDe uitslagen van deze hardloopwedstrijd zijn te raadplegen via dezelfde website of via de bekende websites zoals uitslagen.nl\, runtimer en mylaps. Doet u mee met dit evenement\, zorg dan dat u goed voorbereid aan de start staat! Met een goed trainingsschema komt u een heel eind. Train bijvoorbeeld met start to run van Evy Gruyaert. Download de start to run mp3 bestanden en zet ze op uw telefoon. Oortjes in\, hit the play button en en rennen maar! \n\n\n\n\nMeer informatie over Ganzenvenloop op Hardloopkalender.nl  \nstart 5-10-15 km 16:00 uur \n  \n  \n 
URL:https://hardloopevenementen.com/loopagenda/ganzenvenloop-galder/
END:VEVENT
END:VCALENDAR