BEGIN:VCALENDAR
VERSION:2.0
PRODID:-//Hardloopevenementen - ECPv6.15.14//NONSGML v1.0//EN
CALSCALE:GREGORIAN
METHOD:PUBLISH
X-WR-CALNAME:Hardloopevenementen
X-ORIGINAL-URL:https://hardloopevenementen.com
X-WR-CALDESC:Evenementen voor Hardloopevenementen
REFRESH-INTERVAL;VALUE=DURATION:PT1H
X-Robots-Tag:noindex
X-PUBLISHED-TTL:PT1H
BEGIN:VTIMEZONE
TZID:UTC
BEGIN:STANDARD
TZOFFSETFROM:+0000
TZOFFSETTO:+0000
TZNAME:UTC
DTSTART:20170101T000000
END:STANDARD
END:VTIMEZONE
BEGIN:VEVENT
DTSTART;VALUE=DATE:20190706
DTEND;VALUE=DATE:20190707
DTSTAMP:20260422T223734
CREATED:20120701T025826Z
LAST-MODIFIED:20191114T112537Z
UID:142439-1562371200-1562371200@hardloopevenementen.com
SUMMARY:De Gedykster Trappeldei Gorredijk\, gemeente Opsterland (FR)
DESCRIPTION:Doe mee met het hardloopevenement De Gedykster Trappeldei te Gorredijk\, gemeente Opsterland (FR) op za 06 jul 2019. De volgende afstanden staan op het programma: 1 km – 2 km hardlopen. Wilt u inschrijven voor dit loopevenement?  Raadpleeg hiervoor dan de website van de organisatie\nDe uitslagen van deze hardloopwedstrijd zijn te raadplegen via dezelfde website of via de bekende websites zoals uitslagen.nl\, runtimer en mylaps. Doet u mee met dit evenement\, zorg dan dat u goed voorbereid aan de start staat! Met een goed trainingsschema komt u een heel eind. Train bijvoorbeeld met start to run van Evy Gruyaert. Download de start to run mp3 bestanden en zet ze op uw telefoon. Oortjes in\, hit the play button en en rennen maar! \n\n\n\n\nMeer informatie over De Gedykster Trappeldei op Hardloopkalender.nl  \nWe beginnen in de ochtend met de Funrun\, ouder(s)&kind of sportvereniging\, bedrijf\, groep of individueel gaan het parcours van 1 km afleggen. 8 Leuke hindernissen en je mag maximaal 5 ronden afleggen. De starttijd krijgt u persoonlijk thuis op de mail aangezien wij een maximaal aantal personen op de baan willen en mogen hebben.  Ouder&kind : Kinderen vanaf 10 jaar mogen individueel maar staan onder verantwoordelijkheid van de ouders.  Vanaf 8 jaar loop je samen met een volwassen persoon zoals vader of moeder.  De verlengde run ( 2\,7 km run)  Het bestaande parcours wordt uitgebreid met ongeveer 2 km extra en hindernissen. Hindernissen die zwaarder zijn dan de hindernissen in het kleine parcours.  Wij dagen de kandidaten dan ook uit!!  Het wedstrijd parcours is 2.7 km en is een waardige tegenstander\, speer gooien en zandzak sjouwen zijn onderdelen van allure. \n  \n  \n 
URL:https://hardloopevenementen.com/loopagenda/de-gedykster-trappeldei-gorredijk-gemeente-opsterland-fr-2/
END:VEVENT
BEGIN:VEVENT
DTSTART;VALUE=DATE:20180915
DTEND;VALUE=DATE:20180916
DTSTAMP:20260422T223734
CREATED:20150404T184201Z
LAST-MODIFIED:20190423T120252Z
UID:16015-1536969600-1536969600@hardloopevenementen.com
SUMMARY:De Gedykster Trappeldei Gorredijk\, gemeente Opsterland (FR)
DESCRIPTION:Doe mee met het hardloopevenement De Gedykster Trappeldei te Gorredijk\, gemeente Opsterland (FR) op za 15 sep 2018. De volgende afstanden staan op het programma: 1 km – 5 km hardlopen. Wilt u inschrijven voor dit loopevenement?  Raadpleeg hiervoor dan de website van de organisatie\nDe uitslagen van deze hardloopwedstrijd zijn te raadplegen via dezelfde website of via de bekende websites zoals uitslagen.nl\, runtimer en mylaps. Doet u mee met dit evenement\, zorg dan dat u goed voorbereid aan de start staat! Met een goed trainingsschema komt u een heel eind. Train bijvoorbeeld met start to run van Evy Gruyaert. Download de start to run mp3 bestanden en zet ze op uw telefoon. Oortjes in\, hit the play button en en rennen maar! \n\n\n\n\nMeer informatie over De Gedykster Trappeldei op Hardloopkalender.nl  \nEen fun run voor iedereen\, 1 km+ ronde met 7 hindernissen. individueel\, tegen elkaar of in een groep.  Kijk voor de kaart en extra informatie op de website. \n  \n  \n 
URL:https://hardloopevenementen.com/loopagenda/de-gedykster-trappeldei-gorredijk-gemeente-opsterland-fr/
END:VEVENT
END:VCALENDAR