BEGIN:VCALENDAR
VERSION:2.0
PRODID:-//Hardloopevenementen - ECPv6.15.14//NONSGML v1.0//EN
CALSCALE:GREGORIAN
METHOD:PUBLISH
X-ORIGINAL-URL:https://hardloopevenementen.com
X-WR-CALDESC:Evenementen voor Hardloopevenementen
REFRESH-INTERVAL;VALUE=DURATION:PT1H
X-Robots-Tag:noindex
X-PUBLISHED-TTL:PT1H
BEGIN:VTIMEZONE
TZID:UTC
BEGIN:STANDARD
TZOFFSETFROM:+0000
TZOFFSETTO:+0000
TZNAME:UTC
DTSTART:20090101T000000
END:STANDARD
END:VTIMEZONE
BEGIN:VEVENT
DTSTART;VALUE=DATE:20151122
DTEND;VALUE=DATE:20151123
DTSTAMP:20260421T182641
CREATED:20150427T232826Z
LAST-MODIFIED:20190423T110715Z
UID:9343-1448150400-1448150400@hardloopevenementen.com
SUMMARY:Geffenseplas Cross Oss (NB)
DESCRIPTION:Doe mee met het hardloopevenement Geffenseplas Cross te Oss (NB) op zo 22 nov 2015. De volgende afstanden staan op het programma: 4\,5 km – 5 km – 9 km – 10 km – halve marathon hardlopen. Wilt u inschrijven voor dit loopevenement?  Raadpleeg hiervoor dan de website van de organisatie\nDe uitslagen van deze hardloopwedstrijd zijn te raadplegen via dezelfde website of via de bekende websites zoals uitslagen.nl\, runtimer en mylaps. Doet u mee met dit evenement\, zorg dan dat u goed voorbereid aan de start staat! Met een goed trainingsschema komt u een heel eind. Train bijvoorbeeld met start to run van Evy Gruyaert. Download de start to run mp3 bestanden en zet ze op uw telefoon. Oortjes in\, hit the play button en en rennen maar! \n\n\n\n\nMeer informatie over Geffenseplas Cross op Hardloopkalender.nl  \nHet loopevenement Geffenseplas Cross te Oss vindt plaats op 22 november 2015. \n  \n  \n 
URL:https://hardloopevenementen.com/loopagenda/geffenseplas-cross-oss-nb-4/
END:VEVENT
BEGIN:VEVENT
DTSTART;VALUE=DATE:20121111
DTEND;VALUE=DATE:20121112
DTSTAMP:20260421T182641
CREATED:20100203T142323Z
LAST-MODIFIED:20190423T102751Z
UID:7361-1352592000-1352592000@hardloopevenementen.com
SUMMARY:Geffenseplas Cross Oss (NB)
DESCRIPTION:Doe mee met het hardloopevenement Geffenseplas Cross te Oss (NB) op zo 11 nov 2012. De volgende afstanden staan op het programma: 4\,5 km – 9 km hardlopen. Wilt u inschrijven voor dit loopevenement?  Raadpleeg hiervoor dan de website van de organisatie\nDe uitslagen van deze hardloopwedstrijd zijn te raadplegen via dezelfde website of via de bekende websites zoals uitslagen.nl\, runtimer en mylaps. Doet u mee met dit evenement\, zorg dan dat u goed voorbereid aan de start staat! Met een goed trainingsschema komt u een heel eind. Train bijvoorbeeld met start to run van Evy Gruyaert. Download de start to run mp3 bestanden en zet ze op uw telefoon. Oortjes in\, hit the play button en en rennen maar! \n\n\n\n\nMeer informatie over Geffenseplas Cross op Hardloopkalender.nl  \nHet loopevenement Geffenseplas Cross te Oss vindt plaats op zondag 11 november 2012. De loop wordt georganiseerd door AV Oss `78. Inschrijven is mogelijk vanaf 30 september 2012. Klik hier voor het adres van de start (Google Maps).Er is EHBO aanwezig. Afstand SoortloopInschrijfgeldStarttijdInfo9 km4\,0010uur4.5 km4\,0010uurVoor meer informatie:H.M.van Oorschotwedstrijden@avoss78.nl0412633163http:  www.avoss78.nl \n  \n  \n 
URL:https://hardloopevenementen.com/loopagenda/geffenseplas-cross-oss-nb-3/
END:VEVENT
BEGIN:VEVENT
DTSTART;VALUE=DATE:20111113
DTEND;VALUE=DATE:20111114
DTSTAMP:20260421T182641
CREATED:20150722T082331Z
LAST-MODIFIED:20190423T101721Z
UID:5976-1321142400-1321142400@hardloopevenementen.com
SUMMARY:Geffenseplas Cross Oss (NB)
DESCRIPTION:Doe mee met het hardloopevenement Geffenseplas Cross te Oss (NB) op zo 13 nov 2011. De volgende afstanden staan op het programma: 4\,5 km – 9 km hardlopen. Wilt u inschrijven voor dit loopevenement?  Raadpleeg hiervoor dan de website van de organisatie\nDe uitslagen van deze hardloopwedstrijd zijn te raadplegen via dezelfde website of via de bekende websites zoals uitslagen.nl\, runtimer en mylaps. Doet u mee met dit evenement\, zorg dan dat u goed voorbereid aan de start staat! Met een goed trainingsschema komt u een heel eind. Train bijvoorbeeld met start to run van Evy Gruyaert. Download de start to run mp3 bestanden en zet ze op uw telefoon. Oortjes in\, hit the play button en en rennen maar! \n\n\n\n\nMeer informatie over Geffenseplas Cross op Hardloopkalender.nl  \nHet loopevenement Geffenseplas Cross te Oss vindt plaats op zondag 13 november 2011. De loop wordt georganiseerd door AV Oss `78. Inschrijven is mogelijk vanaf 30 september 2011. Klik hier voor het adres van de start (Google Maps).Er is verkleedaccomodatie met douchemogelijkheid aanwezig. Er is EHBO aanwezig. Afstand(km)Inschrijfgeld(€)Starttijd9€4\,0010uur4\,5€4\,0010uurVoor meer informatie:H.M.van Oorschotwedstrijden@avoss78.nl0412633163http:  www.avoss78.nl \n  \n  \n 
URL:https://hardloopevenementen.com/loopagenda/geffenseplas-cross-oss-nb-2/
END:VEVENT
BEGIN:VEVENT
DTSTART;VALUE=DATE:20101114
DTEND;VALUE=DATE:20101115
DTSTAMP:20260421T182641
CREATED:20120303T124010Z
LAST-MODIFIED:20190423T100634Z
UID:3256-1289692800-1289692800@hardloopevenementen.com
SUMMARY:Geffenseplas Cross Oss (NB)
DESCRIPTION:Doe mee met het hardloopevenement Geffenseplas Cross te Oss (NB) op zo 14 nov 2010. De volgende afstanden staan op het programma: 4\,5 km – 9 km hardlopen. Wilt u inschrijven voor dit loopevenement?  Raadpleeg hiervoor dan de website van de organisatie\nDe uitslagen van deze hardloopwedstrijd zijn te raadplegen via dezelfde website of via de bekende websites zoals uitslagen.nl\, runtimer en mylaps. Doet u mee met dit evenement\, zorg dan dat u goed voorbereid aan de start staat! Met een goed trainingsschema komt u een heel eind. Train bijvoorbeeld met start to run van Evy Gruyaert. Download de start to run mp3 bestanden en zet ze op uw telefoon. Oortjes in\, hit the play button en en rennen maar! \n\n\n\n\nMeer informatie over Geffenseplas Cross op Hardloopkalender.nl  \nDit loopevenement wordt georganiseerd door AV Oss `78.De eerste afstand (of onderdeel) start om 10:00.Het adres van de start en de finish is Gielekenspad 10Categorie(ën): mannen\, vrouwen\, jeugdVooraf inschrijven is mogelijk vanaf 31 oktober 2009 tot 31 oktober 2009.Inschrijven op de dag van de loop is mogelijk (vanaf onbekend) op dit adres: Restaurant “De Geffenseplas “.Meer informatie:Contactpersoon: H.M.van OorschotTel.: 0412633163Email: wedstrijden@avoss78.nlEr is een kleedaccomodatie aanwezig. Douchen is niet mogelijk.Het parcours is verhard.Overige bijzonderheden:  Na afloop een appel plus 1 keer koeffie thee limonade in de kantine \n  \n  \n 
URL:https://hardloopevenementen.com/loopagenda/geffenseplas-cross-oss-nb/
END:VEVENT
END:VCALENDAR