BEGIN:VCALENDAR
VERSION:2.0
PRODID:-//Hardloopevenementen - ECPv6.15.14//NONSGML v1.0//EN
CALSCALE:GREGORIAN
METHOD:PUBLISH
X-ORIGINAL-URL:https://hardloopevenementen.com
X-WR-CALDESC:Evenementen voor Hardloopevenementen
REFRESH-INTERVAL;VALUE=DURATION:PT1H
X-Robots-Tag:noindex
X-PUBLISHED-TTL:PT1H
BEGIN:VTIMEZONE
TZID:UTC
BEGIN:STANDARD
TZOFFSETFROM:+0000
TZOFFSETTO:+0000
TZNAME:UTC
DTSTART:20090101T000000
END:STANDARD
END:VTIMEZONE
BEGIN:VEVENT
DTSTART;VALUE=DATE:20151108
DTEND;VALUE=DATE:20151109
DTSTAMP:20260424T065500
CREATED:20150912T191718Z
LAST-MODIFIED:20190423T110737Z
UID:9431-1446940800-1446940800@hardloopevenementen.com
SUMMARY:Get Running Witvencross Veldhoven (NB)
DESCRIPTION:Doe mee met het hardloopevenement Get Running Witvencross te Veldhoven (NB) op zo 08 nov 2015. De volgende afstanden staan op het programma: 8\,2 km hardlopen. Wilt u inschrijven voor dit loopevenement?  Raadpleeg hiervoor dan de website van de organisatie\nDe uitslagen van deze hardloopwedstrijd zijn te raadplegen via dezelfde website of via de bekende websites zoals uitslagen.nl\, runtimer en mylaps. Doet u mee met dit evenement\, zorg dan dat u goed voorbereid aan de start staat! Met een goed trainingsschema komt u een heel eind. Train bijvoorbeeld met start to run van Evy Gruyaert. Download de start to run mp3 bestanden en zet ze op uw telefoon. Oortjes in\, hit the play button en en rennen maar! \n\n\n\n\nMeer informatie over Get Running Witvencross op Hardloopkalender.nl  \nHet loopevenement Get Running Witvencross te Veldhoven vindt plaats op zondag 08 november 2015. \n  \n  \n 
URL:https://hardloopevenementen.com/loopagenda/get-running-witvencross-veldhoven-nb-2/
END:VEVENT
BEGIN:VEVENT
DTSTART;VALUE=DATE:20141116
DTEND;VALUE=DATE:20141117
DTSTAMP:20260424T065500
CREATED:20130414T041636Z
LAST-MODIFIED:20190423T104922Z
UID:8685-1416096000-1416096000@hardloopevenementen.com
SUMMARY:Get Running Witvencross Veldhoven (NB)
DESCRIPTION:Doe mee met het hardloopevenement Get Running Witvencross te Veldhoven (NB) op zo 16 nov 2014. De volgende afstanden staan op het programma: 8\,2 km hardlopen. Wilt u inschrijven voor dit loopevenement?  Raadpleeg hiervoor dan de website van de organisatie\nDe uitslagen van deze hardloopwedstrijd zijn te raadplegen via dezelfde website of via de bekende websites zoals uitslagen.nl\, runtimer en mylaps. Doet u mee met dit evenement\, zorg dan dat u goed voorbereid aan de start staat! Met een goed trainingsschema komt u een heel eind. Train bijvoorbeeld met start to run van Evy Gruyaert. Download de start to run mp3 bestanden en zet ze op uw telefoon. Oortjes in\, hit the play button en en rennen maar! \n\n\n\n\nMeer informatie over Get Running Witvencross op Hardloopkalender.nl  \nHet loopevenement Get Running Witvencross te Veldhoven vindt plaats op zondag 16 november 2014. De loop wordt georganisseerd door GVAC. Klik hier voor het adres van de start (Google Maps).Bijzonderheden: Wedstrijd maakt deel uit van Kempische Crosscompetitie. \n  \n  \n 
URL:https://hardloopevenementen.com/loopagenda/get-running-witvencross-veldhoven-nb/
END:VEVENT
BEGIN:VEVENT
DTSTART;VALUE=DATE:20140819
DTEND;VALUE=DATE:20140820
DTSTAMP:20260424T065500
CREATED:20180117T181034Z
LAST-MODIFIED:20190423T105235Z
UID:33484-1408406400-1408406400@hardloopevenementen.com
SUMMARY:Get Running Wolfsvenloop Geldrop\, gemeente Geldrop-Mierlo (NB)
DESCRIPTION:Doe mee met het hardloopevenement Get Running Wolfsvenloop te Geldrop\, gemeente Geldrop-Mierlo (NB) op di 19 aug 2014. De volgende afstanden staan op het programma: 0\,8 km – 1\,5 km – 3\,3 km – 6\,6 km – 10 km hardlopen. Wilt u inschrijven voor dit loopevenement?  Raadpleeg hiervoor dan de website van de organisatie\nDe uitslagen van deze hardloopwedstrijd zijn te raadplegen via dezelfde website of via de bekende websites zoals uitslagen.nl\, runtimer en mylaps. Doet u mee met dit evenement\, zorg dan dat u goed voorbereid aan de start staat! Met een goed trainingsschema komt u een heel eind. Train bijvoorbeeld met start to run van Evy Gruyaert. Download de start to run mp3 bestanden en zet ze op uw telefoon. Oortjes in\, hit the play button en en rennen maar! \n\n\n\n\nMeer informatie over Get Running Wolfsvenloop op Hardloopkalender.nl  \nHet loopevenement Get Running Wolfsvenloop te Geldrop-Mierlo vindt plaats op dinsdag 19 augustus 2014. De loop wordt georganisseerd door Geldrop Runners. Klik hier voor het adres van de start (Google Maps).Bijzonderheden: Het gehele parkoers ligt op het domein van Bospark ’t Wolfsven. \n  \n  \n 
URL:https://hardloopevenementen.com/loopagenda/get-running-wolfsvenloop-geldrop-gemeente-geldrop-mierlo-nb-4/
END:VEVENT
BEGIN:VEVENT
DTSTART;VALUE=DATE:20130820
DTEND;VALUE=DATE:20130821
DTSTAMP:20260424T065500
CREATED:20130726T090441Z
LAST-MODIFIED:20190423T104052Z
UID:31295-1376956800-1376956800@hardloopevenementen.com
SUMMARY:Get Running Wolfsvenloop Geldrop\, gemeente Geldrop-Mierlo (NB)
DESCRIPTION:Doe mee met het hardloopevenement Get Running Wolfsvenloop te Geldrop\, gemeente Geldrop-Mierlo (NB) op di 20 aug 2013. De volgende afstanden staan op het programma: 0\,8 km – 1\,5 km – 3\,3 km – 6\,6 km – 10 km hardlopen. Wilt u inschrijven voor dit loopevenement?  Raadpleeg hiervoor dan de website van de organisatie\nDe uitslagen van deze hardloopwedstrijd zijn te raadplegen via dezelfde website of via de bekende websites zoals uitslagen.nl\, runtimer en mylaps. Doet u mee met dit evenement\, zorg dan dat u goed voorbereid aan de start staat! Met een goed trainingsschema komt u een heel eind. Train bijvoorbeeld met start to run van Evy Gruyaert. Download de start to run mp3 bestanden en zet ze op uw telefoon. Oortjes in\, hit the play button en en rennen maar! \n\n\n\n\nMeer informatie over Get Running Wolfsvenloop op Hardloopkalender.nl  \nHet loopevenement Get Running Wolfsvenloop te Geldrop-Mierlo vindt plaats op dinsdag 20 augustus 2013. De loop wordt georganisseerd door Geldrop Runners. Inschrijven is mogelijk vanaf 01 juni 2012. Klik hier voor het adres van de start (Google Maps).Er is verkleedaccomodatie met douchemogelijkheid aanwezig. Er is EHBO aanwezig. Bijzonderheden: Het gehele parkoers ligt op het domein van Bospark ’t Wolfsven.Voor meer informatie:Marc Flebuswedstrijden@geldroprunners.nl0625442611http:  www.geldroprunners.nl \n  \n  \n 
URL:https://hardloopevenementen.com/loopagenda/get-running-wolfsvenloop-geldrop-gemeente-geldrop-mierlo-nb-3/
END:VEVENT
BEGIN:VEVENT
DTSTART;VALUE=DATE:20120821
DTEND;VALUE=DATE:20120822
DTSTAMP:20260424T065500
CREATED:20161220T160927Z
LAST-MODIFIED:20190423T103015Z
UID:27861-1345507200-1345507200@hardloopevenementen.com
SUMMARY:Get Running Wolfsvenloop Geldrop\, gemeente Geldrop-Mierlo (NB)
DESCRIPTION:Doe mee met het hardloopevenement Get Running Wolfsvenloop te Geldrop\, gemeente Geldrop-Mierlo (NB) op di 21 aug 2012. De volgende afstanden staan op het programma: 0\,8 km – 1\,5 km – 3\,3 km – 6\,6 km – 10 km hardlopen. Wilt u inschrijven voor dit loopevenement?  Raadpleeg hiervoor dan de website van de organisatie\nDe uitslagen van deze hardloopwedstrijd zijn te raadplegen via dezelfde website of via de bekende websites zoals uitslagen.nl\, runtimer en mylaps. Doet u mee met dit evenement\, zorg dan dat u goed voorbereid aan de start staat! Met een goed trainingsschema komt u een heel eind. Train bijvoorbeeld met start to run van Evy Gruyaert. Download de start to run mp3 bestanden en zet ze op uw telefoon. Oortjes in\, hit the play button en en rennen maar! \n\n\n\n\nMeer informatie over Get Running Wolfsvenloop op Hardloopkalender.nl  \nHet loopevenement Get Running Wolfsvenloop te Geldrop-Mierlo vindt plaats op woensdag 22 augustus 2012. De loop wordt georganiseerd door Geldrop Runners. Inschrijven is mogelijk vanaf 01 juni 2012. Klik hier voor het adres van de start (Google Maps).Er is EHBO aanwezig. Bijzonderheden: Het gehele parkoers ligt op het domein van Bospark ’t Wolfsven.Afstand SoortloopInschrijfgeldStarttijdInfo0.82 km2\,0019.001.5 km2\,0019.103.3 km4\,5019.306.6 km4\,5019.3010 km4\,5019.30Voor meer informatie:Marc Flebuswedstrijden@geldroprunners.nl0625442611http:  www.geldroprunners.nl \n  \n  \n 
URL:https://hardloopevenementen.com/loopagenda/get-running-wolfsvenloop-geldrop-gemeente-geldrop-mierlo-nb-2/
END:VEVENT
BEGIN:VEVENT
DTSTART;VALUE=DATE:20100901
DTEND;VALUE=DATE:20100902
DTSTAMP:20260424T065500
CREATED:20091210T225438Z
LAST-MODIFIED:20190423T100917Z
UID:3703-1283299200-1283299200@hardloopevenementen.com
SUMMARY:Get Running Wolfsvenloop Geldrop\, gemeente Geldrop-Mierlo (NB)
DESCRIPTION:Doe mee met het hardloopevenement Get Running Wolfsvenloop te Geldrop\, gemeente Geldrop-Mierlo (NB) op wo 01 sep 2010. De volgende afstanden staan op het programma: 0\,8 km – 10 km hardlopen. Wilt u inschrijven voor dit loopevenement?  Raadpleeg hiervoor dan de website van de organisatie\nDe uitslagen van deze hardloopwedstrijd zijn te raadplegen via dezelfde website of via de bekende websites zoals uitslagen.nl\, runtimer en mylaps. Doet u mee met dit evenement\, zorg dan dat u goed voorbereid aan de start staat! Met een goed trainingsschema komt u een heel eind. Train bijvoorbeeld met start to run van Evy Gruyaert. Download de start to run mp3 bestanden en zet ze op uw telefoon. Oortjes in\, hit the play button en en rennen maar! \n\n\n\n\nMeer informatie over Get Running Wolfsvenloop op Hardloopkalender.nl  \nDit loopevenement wordt georganiseerd door Geldrop Runners.De eerste afstand (of onderdeel) start om 19:20.Het adres van de start en de finish is Patrijslaan 4Categorie(ën): mannen\, vrouwen\, jeugdVooraf inschrijven is mogelijk vanaf 01 juni 2010 tot 27 augustus 2010.Inschrijven op de dag van de loop is mogelijk (vanaf 18.00hr) op dit adres: Wedstrijdsecretariaat  Bospark Wolfsven  Patrijslaan 4  5731 XN Mierlo.Meer informatie:Contactpersoon: Marc FlebusTel.: 0625442611Email: wedstrijden@geldroprunners.nlEr is een kleedaccomodatie aanwezig. Douchen is mogelijk.Het parcours is deels onverhard.Vorig jaar deden er 144 lopers mee aan dit evenement.Overige bijzonderheden:  Het gehele parkoers ligt op het prachtige domein van Bospark Wolfsven. \n  \n  \n 
URL:https://hardloopevenementen.com/loopagenda/get-running-wolfsvenloop-geldrop-gemeente-geldrop-mierlo-nb/
END:VEVENT
BEGIN:VEVENT
DTSTART;VALUE=DATE:20100605
DTEND;VALUE=DATE:20100606
DTSTAMP:20260424T065500
CREATED:20121229T100711Z
LAST-MODIFIED:20190423T101120Z
UID:4123-1275696000-1275696000@hardloopevenementen.com
SUMMARY:GET OUT RUN Exloo\, gemeente Borger-Odoorn (DR)
DESCRIPTION:Doe mee met het hardloopevenement GET OUT RUN te Exloo\, gemeente Borger-Odoorn (DR) op za 05 jun 2010. De volgende afstanden staan op het programma: 5 km – 10 km hardlopen. Wilt u inschrijven voor dit loopevenement?  Raadpleeg hiervoor dan de website van de organisatie\nDe uitslagen van deze hardloopwedstrijd zijn te raadplegen via dezelfde website of via de bekende websites zoals uitslagen.nl\, runtimer en mylaps. Doet u mee met dit evenement\, zorg dan dat u goed voorbereid aan de start staat! Met een goed trainingsschema komt u een heel eind. Train bijvoorbeeld met start to run van Evy Gruyaert. Download de start to run mp3 bestanden en zet ze op uw telefoon. Oortjes in\, hit the play button en en rennen maar! \n\n\n\n\nMeer informatie over GET OUT RUN op Hardloopkalender.nl  \nDit loopevenement wordt georganiseerd door EAC De Sperwers.De eerste afstand (of onderdeel) start om 18:00.Het adres van de start en de finish is Zuiderhoofdstraat 1Categorie(ën): mannen\, vrouwenVooraf inschrijven is mogelijk vanaf 05 april 2010 tot 28 mei 2010.Inschrijven op de dag van de loop is mogelijk (vanaf 17.00) op dit adres: Zuiderhoofdstraat 1\, Exloo.Meer informatie:Contactpersoon: H. HollanderTel.: 0591659863Email: info@sport2000getout.nlEr is een kleedaccomodatie aanwezig. Douchen is mogelijk.Het parcours is verhard.Overige bijzonderheden:  Pittig parcours over heuvels van Rhenen. Veel sfeer bij start finish. \n  \n  \n 
URL:https://hardloopevenementen.com/loopagenda/get-out-run-exloo-gemeente-borger-odoorn-dr/
END:VEVENT
END:VCALENDAR