BEGIN:VCALENDAR
VERSION:2.0
PRODID:-//Hardloopevenementen - ECPv6.15.14//NONSGML v1.0//EN
CALSCALE:GREGORIAN
METHOD:PUBLISH
X-ORIGINAL-URL:https://hardloopevenementen.com
X-WR-CALDESC:Evenementen voor Hardloopevenementen
REFRESH-INTERVAL;VALUE=DURATION:PT1H
X-Robots-Tag:noindex
X-PUBLISHED-TTL:PT1H
BEGIN:VTIMEZONE
TZID:UTC
BEGIN:STANDARD
TZOFFSETFROM:+0000
TZOFFSETTO:+0000
TZNAME:UTC
DTSTART:20140101T000000
END:STANDARD
END:VTIMEZONE
BEGIN:VEVENT
DTSTART;VALUE=DATE:20161028
DTEND;VALUE=DATE:20161029
DTSTAMP:20260425T112054
CREATED:20100720T173327Z
LAST-MODIFIED:20190423T112116Z
UID:11693-1477612800-1477612800@hardloopevenementen.com
SUMMARY:3e Glowrun Apeldoorn Apeldoorn (GE)
DESCRIPTION:Doe mee met het hardloopevenement 3e Glowrun Apeldoorn te Apeldoorn (GE) op vr 28 okt 2016. De volgende afstanden staan op het programma: 5 km – 10 km hardlopen. Wilt u inschrijven voor dit loopevenement?  Raadpleeg hiervoor dan de website van de organisatie\nDe uitslagen van deze hardloopwedstrijd zijn te raadplegen via dezelfde website of via de bekende websites zoals uitslagen.nl\, runtimer en mylaps. Doet u mee met dit evenement\, zorg dan dat u goed voorbereid aan de start staat! Met een goed trainingsschema komt u een heel eind. Train bijvoorbeeld met start to run van Evy Gruyaert. Download de start to run mp3 bestanden en zet ze op uw telefoon. Oortjes in\, hit the play button en en rennen maar! \n\n\n\n\nMeer informatie over 3e Glowrun Apeldoorn op Hardloopkalender.nl  \nDe leukste fun run in het donker! Een unieke ervaring die je niet mag missen. Wees er op tijd bij\, want er is een beperkt aantal startnummers. \n  \n  \n 
URL:https://hardloopevenementen.com/loopagenda/3e-glowrun-apeldoorn-apeldoorn-ge/
END:VEVENT
BEGIN:VEVENT
DTSTART;VALUE=DATE:20151030
DTEND;VALUE=DATE:20151031
DTSTAMP:20260425T112054
CREATED:20070826T171925Z
LAST-MODIFIED:20190423T110756Z
UID:9502-1446163200-1446163200@hardloopevenementen.com
SUMMARY:Glowrun Apeldoorn Apeldoorn (GE)
DESCRIPTION:Doe mee met het hardloopevenement Glowrun Apeldoorn te Apeldoorn (GE) op vr 30 okt 2015. De volgende afstanden staan op het programma: 5 km – 10 km hardlopen. Wilt u inschrijven voor dit loopevenement?  Raadpleeg hiervoor dan de website van de organisatie\nDe uitslagen van deze hardloopwedstrijd zijn te raadplegen via dezelfde website of via de bekende websites zoals uitslagen.nl\, runtimer en mylaps. Doet u mee met dit evenement\, zorg dan dat u goed voorbereid aan de start staat! Met een goed trainingsschema komt u een heel eind. Train bijvoorbeeld met start to run van Evy Gruyaert. Download de start to run mp3 bestanden en zet ze op uw telefoon. Oortjes in\, hit the play button en en rennen maar! \n\n\n\n\nMeer informatie over Glowrun Apeldoorn op Hardloopkalender.nl  \n  \n  \n 
URL:https://hardloopevenementen.com/loopagenda/glowrun-apeldoorn-apeldoorn-ge/
END:VEVENT
END:VCALENDAR