BEGIN:VCALENDAR
VERSION:2.0
PRODID:-//Hardloopevenementen - ECPv6.15.14//NONSGML v1.0//EN
CALSCALE:GREGORIAN
METHOD:PUBLISH
X-ORIGINAL-URL:https://hardloopevenementen.com
X-WR-CALDESC:Evenementen voor Hardloopevenementen
REFRESH-INTERVAL;VALUE=DURATION:PT1H
X-Robots-Tag:noindex
X-PUBLISHED-TTL:PT1H
BEGIN:VTIMEZONE
TZID:UTC
BEGIN:STANDARD
TZOFFSETFROM:+0000
TZOFFSETTO:+0000
TZNAME:UTC
DTSTART:20060101T000000
END:STANDARD
END:VTIMEZONE
BEGIN:VEVENT
DTSTART;VALUE=DATE:20200412
DTEND;VALUE=DATE:20200413
DTSTAMP:20260421T011343
CREATED:20090311T002926Z
LAST-MODIFIED:20200206T111427Z
UID:145115-1586649600-1586649600@hardloopevenementen.com
SUMMARY:KRANENBROEKER BOSLOOP 20 tbv Goede doel Echt\, gemeente Echt-Susteren (LI)
DESCRIPTION:Doe mee met het hardloopevenement KRANENBROEKER BOSLOOP 20 tbv Goede doel te Echt\, gemeente Echt-Susteren (LI) op zo 12 apr 2020. De volgende afstanden staan op het programma: 1 km – 2\,5 km – 5 km – 7 km – 10\,5 km hardlopen. Wilt u inschrijven voor dit loopevenement?  Raadpleeg hiervoor dan de website van de organisatie\nDe uitslagen van deze hardloopwedstrijd zijn te raadplegen via dezelfde website of via de bekende websites zoals uitslagen.nl\, runtimer en mylaps. Doet u mee met dit evenement\, zorg dan dat u goed voorbereid aan de start staat! Met een goed trainingsschema komt u een heel eind. Train bijvoorbeeld met start to run van Evy Gruyaert. Download de start to run mp3 bestanden en zet ze op uw telefoon. Oortjes in\, hit the play button en en rennen maar! \n\n\n\n\nMeer informatie over KRANENBROEKER BOSLOOP 20 tbv Goede doel op Hardloopkalender.nl  \n  \n  \n 
URL:https://hardloopevenementen.com/loopagenda/kranenbroeker-bosloop-20-tbv-goede-doel-echt-gemeente-echt-susteren-li/
END:VEVENT
BEGIN:VEVENT
DTSTART;VALUE=DATE:20191006
DTEND;VALUE=DATE:20191007
DTSTAMP:20260421T011343
CREATED:20071216T151736Z
LAST-MODIFIED:20191114T112426Z
UID:142579-1570320000-1570320000@hardloopevenementen.com
SUMMARY:BattleRUN - hardlopen voor het goede doel Drachten\, gemeente Smallingerland (FR)
DESCRIPTION:Doe mee met het hardloopevenement BattleRUN – hardlopen voor het goede doel te Drachten\, gemeente Smallingerland (FR) op zo 06 okt 2019. De volgende afstanden staan op het programma: 1 km – 5 km – 8\,2 km hardlopen. Wilt u inschrijven voor dit loopevenement?  Raadpleeg hiervoor dan de website van de organisatie\nDe uitslagen van deze hardloopwedstrijd zijn te raadplegen via dezelfde website of via de bekende websites zoals uitslagen.nl\, runtimer en mylaps. Doet u mee met dit evenement\, zorg dan dat u goed voorbereid aan de start staat! Met een goed trainingsschema komt u een heel eind. Train bijvoorbeeld met start to run van Evy Gruyaert. Download de start to run mp3 bestanden en zet ze op uw telefoon. Oortjes in\, hit the play button en en rennen maar! \n\n\n\n\nMeer informatie over BattleRUN – hardlopen voor het goede doel op Hardloopkalender.nl  \nBattleRUN 2019  Run for Malawi  De BattleRUN 2019 staat alweer gepland en wel op 6 oktober aanstaande en zal georganiseerd worden in een samenwerking met de jongeren van projectgroep Worldservants Bethel. De gehele opbrengst zal dit jaar dan ook ten goede komen aan het project Bethel Goes Malawi 2020.    Zet het alvast in je agenda en begin alvast te oefenen\, want dit jaar gaan we voor een record aantal deelnemers en de bijbehorende opbrengst voor het goede doel. \n  \n  \n 
URL:https://hardloopevenementen.com/loopagenda/battlerun-hardlopen-voor-het-goede-doel-drachten-gemeente-smallingerland-fr/
END:VEVENT
BEGIN:VEVENT
DTSTART;VALUE=DATE:20150912
DTEND;VALUE=DATE:20150913
DTSTAMP:20260421T011343
CREATED:20091015T003947Z
LAST-MODIFIED:20190423T110920Z
UID:9804-1442016000-1442016000@hardloopevenementen.com
SUMMARY:polderrun voor het goede doel Open Doors Bleskensgraaf\, gemeente Graafstroom (ZH)
DESCRIPTION:Doe mee met het hardloopevenement polderrun voor het goede doel Open Doors te Bleskensgraaf\, gemeente Graafstroom (ZH) op za 12 sep 2015. De volgende afstanden staan op het programma: 6 km – 9 km – 12 km hardlopen. Wilt u inschrijven voor dit loopevenement?  Raadpleeg hiervoor dan de website van de organisatie\nDe uitslagen van deze hardloopwedstrijd zijn te raadplegen via dezelfde website of via de bekende websites zoals uitslagen.nl\, runtimer en mylaps. Doet u mee met dit evenement\, zorg dan dat u goed voorbereid aan de start staat! Met een goed trainingsschema komt u een heel eind. Train bijvoorbeeld met start to run van Evy Gruyaert. Download de start to run mp3 bestanden en zet ze op uw telefoon. Oortjes in\, hit the play button en en rennen maar! \n\n\n\n\nMeer informatie over polderrun voor het goede doel Open Doors op Hardloopkalender.nl  \nwees welkom! een run georganiseerd voor een goed doel! het goede doel is dit jaar Open Doors die zich inzet voor vervolgde christenen. erg actueel door wat er nu allemaal gebeurd in het midden-oosten door het geweld van de IS. zet je hardlooptalent in voor deze mensen in nood en kom op 12 september naar de polderrun in bleskensgraaf. de inschrijfkosten zijn 10 euro en gaan helemaal naar Open Doors! \n  \n  \n 
URL:https://hardloopevenementen.com/loopagenda/polderrun-voor-het-goede-doel-open-doors-bleskensgraaf-gemeente-graafstroom-zh/
END:VEVENT
BEGIN:VEVENT
DTSTART;VALUE=DATE:20121219
DTEND;VALUE=DATE:20121220
DTSTAMP:20260421T011343
CREATED:20170519T040616Z
LAST-MODIFIED:20190423T102703Z
UID:7163-1355875200-1355875200@hardloopevenementen.com
SUMMARY:Clini Clowns Goede doelen Kerstloop 2012 Rotterdam (ZH)
DESCRIPTION:Doe mee met het hardloopevenement Clini Clowns Goede doelen Kerstloop 2012 te Rotterdam (ZH) op wo 19 dec 2012. De volgende afstanden staan op het programma: 6 km – 10 km hardlopen. Wilt u inschrijven voor dit loopevenement?  Raadpleeg hiervoor dan de website van de organisatie\nDe uitslagen van deze hardloopwedstrijd zijn te raadplegen via dezelfde website of via de bekende websites zoals uitslagen.nl\, runtimer en mylaps. Doet u mee met dit evenement\, zorg dan dat u goed voorbereid aan de start staat! Met een goed trainingsschema komt u een heel eind. Train bijvoorbeeld met start to run van Evy Gruyaert. Download de start to run mp3 bestanden en zet ze op uw telefoon. Oortjes in\, hit the play button en en rennen maar! \n\n\n\n\nMeer informatie over Clini Clowns Goede doelen Kerstloop 2012 op Hardloopkalender.nl  \nGoede Doelen Loop\, in kerstsfeer  we gaan naar het Sophia Kinderziekenhuis\, om alles wat we ophalen in 1 avond te doneren\, verkleed als kerstvrouw man geven we ze een licht om naar uit te kijken.  Lust je warme chocolade  of thee loop dan mee.  inschrijven Metrostation Blaak vanaf 18.30 uur\, start 19.30 uur  voor info: m.raamsdonk@upcmail.nl of  www.run4funkrimpen.nl \n  \n  \n 
URL:https://hardloopevenementen.com/loopagenda/clini-clowns-goede-doelen-kerstloop-2012-rotterdam-zh/
END:VEVENT
BEGIN:VEVENT
DTSTART;VALUE=DATE:20071217
DTEND;VALUE=DATE:20071218
DTSTAMP:20260421T011343
CREATED:20130821T232125Z
LAST-MODIFIED:20190423T093805Z
UID:60-1197849600-1197849600@hardloopevenementen.com
SUMMARY:Goede Doelen Loop Rotterdam Rotterdam
DESCRIPTION:Doe mee met het hardloopevenement Goede Doelen Loop Rotterdam te Rotterdam op ma 17 dec 2007. De volgende afstanden staan op het programma: 6\,9 km hardlopen. Wilt u inschrijven voor dit loopevenement?  Raadpleeg hiervoor dan de website van de organisatie\nDe uitslagen van deze hardloopwedstrijd zijn te raadplegen via dezelfde website of via de bekende websites zoals uitslagen.nl\, runtimer en mylaps. Doet u mee met dit evenement\, zorg dan dat u goed voorbereid aan de start staat! Met een goed trainingsschema komt u een heel eind. Train bijvoorbeeld met start to run van Evy Gruyaert. Download de start to run mp3 bestanden en zet ze op uw telefoon. Oortjes in\, hit the play button en en rennen maar! \n\n\n\n\nMeer informatie over Goede Doelen Loop Rotterdam op Hardloopkalender.nl  \n  \n  \n 
URL:https://hardloopevenementen.com/loopagenda/goede-doelen-loop-rotterdam-rotterdam/
END:VEVENT
END:VCALENDAR