BEGIN:VCALENDAR
VERSION:2.0
PRODID:-//Hardloopevenementen - ECPv6.15.14//NONSGML v1.0//EN
CALSCALE:GREGORIAN
METHOD:PUBLISH
X-WR-CALNAME:Hardloopevenementen
X-ORIGINAL-URL:https://hardloopevenementen.com
X-WR-CALDESC:Evenementen voor Hardloopevenementen
REFRESH-INTERVAL;VALUE=DURATION:PT1H
X-Robots-Tag:noindex
X-PUBLISHED-TTL:PT1H
BEGIN:VTIMEZONE
TZID:UTC
BEGIN:STANDARD
TZOFFSETFROM:+0000
TZOFFSETTO:+0000
TZNAME:UTC
DTSTART:20080101T000000
END:STANDARD
END:VTIMEZONE
BEGIN:VEVENT
DTSTART;VALUE=DATE:20160904
DTEND;VALUE=DATE:20160905
DTSTAMP:20260424T211315
CREATED:20101121T052202Z
LAST-MODIFIED:20190423T112237Z
UID:12069-1472947200-1472947200@hardloopevenementen.com
SUMMARY:Gooische Run Blaricum (NH)
DESCRIPTION:Doe mee met het hardloopevenement Gooische Run te Blaricum (NH) op zo 04 sep 2016. De volgende afstanden staan op het programma: 0\,8 km – 1\,6 km – 6\,4 km – 12\,8 km hardlopen. Wilt u inschrijven voor dit loopevenement?  Raadpleeg hiervoor dan de website van de organisatie\nDe uitslagen van deze hardloopwedstrijd zijn te raadplegen via dezelfde website of via de bekende websites zoals uitslagen.nl\, runtimer en mylaps. Doet u mee met dit evenement\, zorg dan dat u goed voorbereid aan de start staat! Met een goed trainingsschema komt u een heel eind. Train bijvoorbeeld met start to run van Evy Gruyaert. Download de start to run mp3 bestanden en zet ze op uw telefoon. Oortjes in\, hit the play button en en rennen maar! \n\n\n\n\nMeer informatie over Gooische Run op Hardloopkalender.nl  \nHet loopevenement Gooische Run te Blaricum vindt plaats op zondag 04 september 2016. \n  \n  \n 
URL:https://hardloopevenementen.com/loopagenda/gooische-run-blaricum-nh-2/
END:VEVENT
BEGIN:VEVENT
DTSTART;VALUE=DATE:20150906
DTEND;VALUE=DATE:20150907
DTSTAMP:20260424T211315
CREATED:20150929T095919Z
LAST-MODIFIED:20190423T110933Z
UID:9857-1441497600-1441497600@hardloopevenementen.com
SUMMARY:Gooische Run Blaricum (NH)
DESCRIPTION:Doe mee met het hardloopevenement Gooische Run te Blaricum (NH) op zo 06 sep 2015. De volgende afstanden staan op het programma: 1\,6 km – 6\,4 km – 12\,8 km hardlopen. Wilt u inschrijven voor dit loopevenement?  Raadpleeg hiervoor dan de website van de organisatie\nDe uitslagen van deze hardloopwedstrijd zijn te raadplegen via dezelfde website of via de bekende websites zoals uitslagen.nl\, runtimer en mylaps. Doet u mee met dit evenement\, zorg dan dat u goed voorbereid aan de start staat! Met een goed trainingsschema komt u een heel eind. Train bijvoorbeeld met start to run van Evy Gruyaert. Download de start to run mp3 bestanden en zet ze op uw telefoon. Oortjes in\, hit the play button en en rennen maar! \n\n\n\n\nMeer informatie over Gooische Run op Hardloopkalender.nl  \nDe Gooische Run is na een jaar afwezigheid weer terug op de hardloopkalender.  Vanaf nu is er 1 mijl kinderloop\, 4 mijl wedstrijd en een 8 mijl recreantenloop.    De start is in Blaricum\, vanuit hier loop je naar Laren om weer terug te keren naar Blaricum.    Wil jij het Gooi is op een andere manier zien\, dan is dit de unieke kans. Schrijf je snel in. \n  \n  \n 
URL:https://hardloopevenementen.com/loopagenda/gooische-run-blaricum-nh/
END:VEVENT
BEGIN:VEVENT
DTSTART;VALUE=DATE:20100829
DTEND;VALUE=DATE:20100830
DTSTAMP:20260424T211315
CREATED:20100530T010323Z
LAST-MODIFIED:20190423T100923Z
UID:3727-1283040000-1283040000@hardloopevenementen.com
SUMMARY:Gooische Run Laren (NH)
DESCRIPTION:Doe mee met het hardloopevenement Gooische Run te Laren (NH) op zo 29 aug 2010. De volgende afstanden staan op het programma: 1 km – 5 km – 10 km – 15 km hardlopen. Wilt u inschrijven voor dit loopevenement?  Raadpleeg hiervoor dan de website van de organisatie\nDe uitslagen van deze hardloopwedstrijd zijn te raadplegen via dezelfde website of via de bekende websites zoals uitslagen.nl\, runtimer en mylaps. Doet u mee met dit evenement\, zorg dan dat u goed voorbereid aan de start staat! Met een goed trainingsschema komt u een heel eind. Train bijvoorbeeld met start to run van Evy Gruyaert. Download de start to run mp3 bestanden en zet ze op uw telefoon. Oortjes in\, hit the play button en en rennen maar! \n\n\n\n\nMeer informatie over Gooische Run op Hardloopkalender.nl  \nDe loop kent vier afstanden: 15\, 10 en 5 kilometer en speciaal voor kinderen is er de kidsrun (1000 meter). Hiermee is de Gooische Run een echte familieloop. Jong\, oud\, getraind\, amateur\, iedereen uit het Gooi en omstreken kan meelopen. U kiest uw eigen afstand. Leuke bijkomstigheid is dat de loop u langs de prestieuze woningen van diverse Bekende Nederlanders brengt. Heeft u altijd al willen weten hoe John de Mol woont\, dan dit is dé gelegenheid om op sportieve wijze Laren te leren kennen en belangrijker nog\, bij te dragen aan een nog betere wereld! \n  \n  \n 
URL:https://hardloopevenementen.com/loopagenda/gooische-run-laren-nh/
END:VEVENT
BEGIN:VEVENT
DTSTART;VALUE=DATE:20090830
DTEND;VALUE=DATE:20090831
DTSTAMP:20260424T211315
CREATED:20150825T143705Z
LAST-MODIFIED:20190423T095915Z
UID:1887-1251590400-1251590400@hardloopevenementen.com
SUMMARY:De Gooische Run Laren (NH)
DESCRIPTION:Doe mee met het hardloopevenement De Gooische Run te Laren (NH) op zo 30 aug 2009. De volgende afstanden staan op het programma: 1 km – 5 km – 10 km – 15 km hardlopen. Wilt u inschrijven voor dit loopevenement?  Raadpleeg hiervoor dan de website van de organisatie\nDe uitslagen van deze hardloopwedstrijd zijn te raadplegen via dezelfde website of via de bekende websites zoals uitslagen.nl\, runtimer en mylaps. Doet u mee met dit evenement\, zorg dan dat u goed voorbereid aan de start staat! Met een goed trainingsschema komt u een heel eind. Train bijvoorbeeld met start to run van Evy Gruyaert. Download de start to run mp3 bestanden en zet ze op uw telefoon. Oortjes in\, hit the play button en en rennen maar! \n\n\n\n\nMeer informatie over De Gooische Run op Hardloopkalender.nl  \nDit unieke loopevenement is een hardloopparcours in en rondom Laren & Blaricum en heeft dit jaar als doel  geld in te zamelen voor Stichting Orange Babies .   Het evenement vindt plaats op zondag 30 augustus 2009 in het centrum van Laren en heide gebied rondom Blaricum.      De Gooische Run kent dit jaar vier  afstanden: 15km\, 10 km\, 5km en de kidsrun van 1km.   Het hardloop evenement is voor iedereen! \n  \n  \n 
URL:https://hardloopevenementen.com/loopagenda/de-gooische-run-laren-nh/
END:VEVENT
END:VCALENDAR