BEGIN:VCALENDAR
VERSION:2.0
PRODID:-//Hardloopevenementen - ECPv6.15.14//NONSGML v1.0//EN
CALSCALE:GREGORIAN
METHOD:PUBLISH
X-ORIGINAL-URL:https://hardloopevenementen.com
X-WR-CALDESC:Evenementen voor Hardloopevenementen
REFRESH-INTERVAL;VALUE=DURATION:PT1H
X-Robots-Tag:noindex
X-PUBLISHED-TTL:PT1H
BEGIN:VTIMEZONE
TZID:UTC
BEGIN:STANDARD
TZOFFSETFROM:+0000
TZOFFSETTO:+0000
TZNAME:UTC
DTSTART:20070101T000000
END:STANDARD
END:VTIMEZONE
BEGIN:VEVENT
DTSTART;VALUE=DATE:20110206
DTEND;VALUE=DATE:20110207
DTSTAMP:20260425T150652
CREATED:20080809T155010Z
LAST-MODIFIED:20190423T102408Z
UID:26924-1296950400-1296950400@hardloopevenementen.com
SUMMARY:Groenhovenplusloop Gouda (ZH)
DESCRIPTION:Doe mee met het hardloopevenement Groenhovenplusloop te Gouda (ZH) op zo 06 feb 2011. De volgende afstanden staan op het programma: 1 km – 5 km – 10 km – halve marathon hardlopen. Wilt u inschrijven voor dit loopevenement?  Raadpleeg hiervoor dan de website van de organisatie\nDe uitslagen van deze hardloopwedstrijd zijn te raadplegen via dezelfde website of via de bekende websites zoals uitslagen.nl\, runtimer en mylaps. Doet u mee met dit evenement\, zorg dan dat u goed voorbereid aan de start staat! Met een goed trainingsschema komt u een heel eind. Train bijvoorbeeld met start to run van Evy Gruyaert. Download de start to run mp3 bestanden en zet ze op uw telefoon. Oortjes in\, hit the play button en en rennen maar! \n\n\n\n\nMeer informatie over Groenhovenplusloop op Hardloopkalender.nl  \nHet loopevenement Groenhovenplusloop te Gouda vindt plaats op zondag 06 februari 2011. De loop wordt georganiseerd door AV Gouda. Inschrijven is mogelijk vanaf 01 december 2010. Klik hier voor het adres van de start (Google Maps).Er is verkleedaccomodatie met douchemogelijkheid aanwezig. Er is EHBO aanwezig. Bijzonderheden: Volledig nieuw parcours door de fraaie polder tussen Gouda\, Waddinxveen en Reeuw.Afstand(km)Inschrijfgeld(€)Starttijd1€3\,0012.20uur5€5\,0012.10uur10€5\,0012.10uur21\,1€7\,5012.00uurVoor meer informatie:Sjaak Kuijerjansjaak@xs4all.nl0644748918http:  www.avgouda.nl \n  \n  \n 
URL:https://hardloopevenementen.com/loopagenda/groenhovenplusloop-gouda-zh-3/
END:VEVENT
BEGIN:VEVENT
DTSTART;VALUE=DATE:20100207
DTEND;VALUE=DATE:20100208
DTSTAMP:20260425T150652
CREATED:20080229T163039Z
LAST-MODIFIED:20190423T101419Z
UID:24032-1265500800-1265500800@hardloopevenementen.com
SUMMARY:Groenhovenplusloop Gouda (ZH)
DESCRIPTION:Doe mee met het hardloopevenement Groenhovenplusloop te Gouda (ZH) op zo 07 feb 2010. De volgende afstanden staan op het programma: 1 km – 5 km – 10 km – halve marathon hardlopen. Wilt u inschrijven voor dit loopevenement?  Raadpleeg hiervoor dan de website van de organisatie\nDe uitslagen van deze hardloopwedstrijd zijn te raadplegen via dezelfde website of via de bekende websites zoals uitslagen.nl\, runtimer en mylaps. Doet u mee met dit evenement\, zorg dan dat u goed voorbereid aan de start staat! Met een goed trainingsschema komt u een heel eind. Train bijvoorbeeld met start to run van Evy Gruyaert. Download de start to run mp3 bestanden en zet ze op uw telefoon. Oortjes in\, hit the play button en en rennen maar! \n\n\n\n\nMeer informatie over Groenhovenplusloop op Hardloopkalender.nl  \nDit loopevenement wordt georganiseerd door AV Gouda.De eerste afstand (of onderdeel) start om 13:30.Het adres van de start is Groenhovepark 1 Het adres van de finish is Groenhovenpark 1Categorie(ën): mannen\, vrouwen\, jeugdVooraf inschrijven is mogelijk vanaf 01 januari 2010 tot 04 februari 2010.Inschrijven op de dag van de loop is mogelijk (vanaf 11.00u) op dit adres: Clubhuis AV Gouda  Groenhovenpark te Gouda.Meer informatie:Contactpersoon: Clemens WennekesTel.: 0629043415Email: clemenswennekes@hotmail.comEr is een kleedaccomodatie aanwezig. Douchen is mogelijk.Het parcours is verhard.Overige bijzonderheden:  familieloop; drie keer meelopen gratis hardloopshirt \n  \n  \n 
URL:https://hardloopevenementen.com/loopagenda/groenhovenplusloop-gouda-zh-2/
END:VEVENT
BEGIN:VEVENT
DTSTART;VALUE=DATE:20090208
DTEND;VALUE=DATE:20090209
DTSTAMP:20260425T150652
CREATED:20160609T013321Z
LAST-MODIFIED:20190423T100327Z
UID:2805-1234051200-1234051200@hardloopevenementen.com
SUMMARY:Groenhovenplusloop Gouda (ZH)
DESCRIPTION:Doe mee met het hardloopevenement Groenhovenplusloop te Gouda (ZH) op zo 08 feb 2009. De volgende afstanden staan op het programma: 6 km – 11 km – halve marathon hardlopen. Wilt u inschrijven voor dit loopevenement?  Raadpleeg hiervoor dan de website van de organisatie\nDe uitslagen van deze hardloopwedstrijd zijn te raadplegen via dezelfde website of via de bekende websites zoals uitslagen.nl\, runtimer en mylaps. Doet u mee met dit evenement\, zorg dan dat u goed voorbereid aan de start staat! Met een goed trainingsschema komt u een heel eind. Train bijvoorbeeld met start to run van Evy Gruyaert. Download de start to run mp3 bestanden en zet ze op uw telefoon. Oortjes in\, hit the play button en en rennen maar! \n\n\n\n\nMeer informatie over Groenhovenplusloop op Hardloopkalender.nl  \n6-11-21\,1 km 13:30 uur \n  \n  \n 
URL:https://hardloopevenementen.com/loopagenda/groenhovenplusloop-gouda-zh/
END:VEVENT
BEGIN:VEVENT
DTSTART;VALUE=DATE:20080203
DTEND;VALUE=DATE:20080204
DTSTAMP:20260425T150652
CREATED:20110905T144724Z
LAST-MODIFIED:20190423T094926Z
UID:20239-1201996800-1201996800@hardloopevenementen.com
SUMMARY:Groenhovenplusloop Gouda
DESCRIPTION:Doe mee met het hardloopevenement Groenhovenplusloop te Gouda op zo 03 feb 2008. De volgende afstanden staan op het programma: 6 km – 11 km – halve marathon hardlopen. Wilt u inschrijven voor dit loopevenement?  Raadpleeg hiervoor dan de website van de organisatie\nDe uitslagen van deze hardloopwedstrijd zijn te raadplegen via dezelfde website of via de bekende websites zoals uitslagen.nl\, runtimer en mylaps. Doet u mee met dit evenement\, zorg dan dat u goed voorbereid aan de start staat! Met een goed trainingsschema komt u een heel eind. Train bijvoorbeeld met start to run van Evy Gruyaert. Download de start to run mp3 bestanden en zet ze op uw telefoon. Oortjes in\, hit the play button en en rennen maar! \n\n\n\n\nMeer informatie over Groenhovenplusloop op Hardloopkalender.nl  \nStart: 13.30 uur alle afstanden    Plaats:  Atletiekbaan Groenhoven aan  de Groenhovenweg in Gouda  (0182 534954).    Parcours:  Verkeersvrij parcours over wegen en paden door de Goudse wijk  Bloemendaal\, het Groenhovenpark\,en door het polderland.   Het parcours voor de Halve Marathon bestaat uit twee grote ronden en een kleine aanloopronde.    Onderdelen:  Prestatielopen over 21\,1 en 11 en 6 km    kosten  Prestatielopen 6 en 11 km: 3 euro  Prestatieloop 21\,1 km: 6 euro \n  \n  \n 
URL:https://hardloopevenementen.com/loopagenda/groenhovenplusloop-gouda/
END:VEVENT
END:VCALENDAR