BEGIN:VCALENDAR
VERSION:2.0
PRODID:-//Hardloopevenementen - ECPv6.15.14//NONSGML v1.0//EN
CALSCALE:GREGORIAN
METHOD:PUBLISH
X-ORIGINAL-URL:https://hardloopevenementen.com
X-WR-CALDESC:Evenementen voor Hardloopevenementen
REFRESH-INTERVAL;VALUE=DURATION:PT1H
X-Robots-Tag:noindex
X-PUBLISHED-TTL:PT1H
BEGIN:VTIMEZONE
TZID:UTC
BEGIN:STANDARD
TZOFFSETFROM:+0000
TZOFFSETTO:+0000
TZNAME:UTC
DTSTART:20090101T000000
END:STANDARD
END:VTIMEZONE
BEGIN:VEVENT
DTSTART;VALUE=DATE:20101219
DTEND;VALUE=DATE:20101220
DTSTAMP:20260423T155052
CREATED:20091216T125916Z
LAST-MODIFIED:20190423T100541Z
UID:3055-1292716800-1292716800@hardloopevenementen.com
SUMMARY:Groetpolderloop 't Veld\, gemeente Niedorp (NH)
DESCRIPTION:Doe mee met het hardloopevenement Groetpolderloop te ’t Veld\, gemeente Niedorp (NH) op zo 19 dec 2010. De volgende afstanden staan op het programma: 10 km hardlopen. Wilt u inschrijven voor dit loopevenement?  Raadpleeg hiervoor dan de website van de organisatie\nDe uitslagen van deze hardloopwedstrijd zijn te raadplegen via dezelfde website of via de bekende websites zoals uitslagen.nl\, runtimer en mylaps. Doet u mee met dit evenement\, zorg dan dat u goed voorbereid aan de start staat! Met een goed trainingsschema komt u een heel eind. Train bijvoorbeeld met start to run van Evy Gruyaert. Download de start to run mp3 bestanden en zet ze op uw telefoon. Oortjes in\, hit the play button en en rennen maar! \n\n\n\n\nMeer informatie over Groetpolderloop op Hardloopkalender.nl  \nDit loopevenement wordt georganiseerd door Tav ‘ 80.De eerste afstand (of onderdeel) start om 10:30.Het adres van de start is Rijdersstraat112 Het adres van de finish is Rijdersstraat 112Categorie(ën): mannen\, vrouwenVooraf inschrijven is mogelijk vanaf 19 december 2010 tot niet van toepassing.Inschrijven op de dag van de loop is mogelijk (vanaf 09:30) op dit adres: Stayokay hostel  Boslustweg 1  4624 RB Bergen op Zoom.Meer informatie:Contactpersoon: Gerard SchipperTel.: 0226422730Email: gerarddotcom@hetnet.nlEr is een kleedaccomodatie aanwezig. Douchen is mogelijk.Het parcours is verhard.Overige bijzonderheden:  Door de Groetpolder. \n  \n  \n 
URL:https://hardloopevenementen.com/loopagenda/groetpolderloop-t-veld-gemeente-niedorp-nh/
END:VEVENT
END:VCALENDAR