BEGIN:VCALENDAR
VERSION:2.0
PRODID:-//Hardloopevenementen - ECPv6.15.14//NONSGML v1.0//EN
CALSCALE:GREGORIAN
METHOD:PUBLISH
X-WR-CALNAME:Hardloopevenementen
X-ORIGINAL-URL:https://hardloopevenementen.com
X-WR-CALDESC:Evenementen voor Hardloopevenementen
REFRESH-INTERVAL;VALUE=DURATION:PT1H
X-Robots-Tag:noindex
X-PUBLISHED-TTL:PT1H
BEGIN:VTIMEZONE
TZID:UTC
BEGIN:STANDARD
TZOFFSETFROM:+0000
TZOFFSETTO:+0000
TZNAME:UTC
DTSTART:20070101T000000
END:STANDARD
END:VTIMEZONE
BEGIN:VEVENT
DTSTART;VALUE=DATE:20080316
DTEND;VALUE=DATE:20080317
DTSTAMP:20260424T194502
CREATED:20141112T143543Z
LAST-MODIFIED:20190423T094837Z
UID:20023-1205625600-1205625600@hardloopevenementen.com
SUMMARY:Lenteloop Eerbeek Eerbeek
DESCRIPTION:Doe mee met het hardloopevenement Lenteloop Eerbeek te Eerbeek op zo 16 mrt 2008. De volgende afstanden staan op het programma: 3 km – 6 km – 12 km – halve marathon hardlopen. Wilt u inschrijven voor dit loopevenement?  Raadpleeg hiervoor dan de website van de organisatie\nDe uitslagen van deze hardloopwedstrijd zijn te raadplegen via dezelfde website of via de bekende websites zoals uitslagen.nl\, runtimer en mylaps. Doet u mee met dit evenement\, zorg dan dat u goed voorbereid aan de start staat! Met een goed trainingsschema komt u een heel eind. Train bijvoorbeeld met start to run van Evy Gruyaert. Download de start to run mp3 bestanden en zet ze op uw telefoon. Oortjes in\, hit the play button en en rennen maar! \n\n\n\n\nMeer informatie over Lenteloop Eerbeek op Hardloopkalender.nl  \n3 km 10:50 uur\, 6 km 10:55 uur\, 12 km 11:10 uur\, 21\,1 km 11:40 uur  Traject trimloop   Vrijwel het gehele parcours van de diverse afstanden loopt over verharde fiets- en wandelpaden door de bossen. Tijdens de loop worden de routes aangegeven met borden\, door posten en met behulp van meefietsende officials.     De Lenteloop wordt georganiseerd op het Landalgreenpark Coldenhove\, dat gelegen is in de bossen van de Veluwezoom te Eerbeek. Voor routeplanners: Boshoffweg 6\, 6961 LD. Door de voorzieningen op dit park beschikt de Lenteloop over een bijzonder goede accomodatie. Het is mogelijk de deelname aan de Lenteloop te combineren met een verblijf op het vakantiepark. Bij ‘contacten en links’ wordt de informatie hierover verstrekt.   Per openbaar vervoer: Met de trein naar Apeldoorn of Dieren. Vervolgens met de lijnbus naar Eerbeek. Uitstappen bij halte Coldenhovenseweg. Lopen in de richting van de verkeersrotonde. Dan aanwijzingen naar Landal en of Lenteloop volgen. De loopafstand tot de start bedraagt 2 km.     Deelname aan de Lenteloop is voor verantwoording en risico van de loper en de wandelaar . \n  \n  \n 
URL:https://hardloopevenementen.com/loopagenda/lenteloop-eerbeek-eerbeek/
END:VEVENT
END:VCALENDAR