BEGIN:VCALENDAR
VERSION:2.0
PRODID:-//Hardloopevenementen - ECPv6.15.14//NONSGML v1.0//EN
CALSCALE:GREGORIAN
METHOD:PUBLISH
X-WR-CALNAME:Hardloopevenementen
X-ORIGINAL-URL:https://hardloopevenementen.com
X-WR-CALDESC:Evenementen voor Hardloopevenementen
REFRESH-INTERVAL;VALUE=DURATION:PT1H
X-Robots-Tag:noindex
X-PUBLISHED-TTL:PT1H
BEGIN:VTIMEZONE
TZID:UTC
BEGIN:STANDARD
TZOFFSETFROM:+0000
TZOFFSETTO:+0000
TZNAME:UTC
DTSTART:20060101T000000
END:STANDARD
END:VTIMEZONE
BEGIN:VEVENT
DTSTART;VALUE=DATE:20080921
DTEND;VALUE=DATE:20080922
DTSTAMP:20260422T013112
CREATED:20070325T073620Z
LAST-MODIFIED:20190423T094515Z
UID:19139-1221955200-1221955200@hardloopevenementen.com
SUMMARY:Groningen Stad Marathon Groningen
DESCRIPTION:Doe mee met het hardloopevenement Groningen Stad Marathon te Groningen op zo 21 sep 2008. De volgende afstanden staan op het programma: 1 km – 10 km – halve marathon – marathon hardlopen. Wilt u inschrijven voor dit loopevenement?  Raadpleeg hiervoor dan de website van de organisatie\nDe uitslagen van deze hardloopwedstrijd zijn te raadplegen via dezelfde website of via de bekende websites zoals uitslagen.nl\, runtimer en mylaps. Doet u mee met dit evenement\, zorg dan dat u goed voorbereid aan de start staat! Met een goed trainingsschema komt u een heel eind. Train bijvoorbeeld met start to run van Evy Gruyaert. Download de start to run mp3 bestanden en zet ze op uw telefoon. Oortjes in\, hit the play button en en rennen maar! \n\n\n\n\nMeer informatie over Groningen Stad Marathon op Hardloopkalender.nl  \nHet Groningen Stad Marathon Hardloopevenement wordt dit jaar voor de 3e maal georganiseerd op zondag 21 september 2008.    Met afstanden die voor iedereen haalbaar zijn\, waar de beleving centraal staat en waar het bereiken van ieders persoonlijk doel mogelijk wordt gemaakt; Finishen op de Vismarkt op zondag 21 september 2008.    Onze afstanden zijn de 1KRunaway 1000 meterloop voor de jeugd\, de 10 km\, de halve marathon\, de hele marathon en de Groninger Estafette voor bedrijven\, studenten en verenigingen.    start:  estafette 10:30 uur\, 10-21\,1-42\,2 km 10:30 uur\, 1 km 10:45 uur    Het parcours voert langs verschillende mooie en bijzondere plekken in en om de stad Groningen.   Er kan genoten worden van markante woonwijken in de gemeenten Haren\, Groningen en Bedum\, de stilte van de natuur en de bijzondere sfeer van de binnenstad van Groningen.    Veel loopplezier en tot aan de finish! \n  \n  \n 
URL:https://hardloopevenementen.com/loopagenda/groningen-stad-marathon-groningen-2/
END:VEVENT
BEGIN:VEVENT
DTSTART;VALUE=DATE:20080828
DTEND;VALUE=DATE:20080829
DTSTAMP:20260422T013112
CREATED:20170318T143544Z
LAST-MODIFIED:20190423T094549Z
UID:19293-1219881600-1219881600@hardloopevenementen.com
SUMMARY:Bommenberendloop Groningen
DESCRIPTION:Doe mee met het hardloopevenement Bommenberendloop te Groningen op do 28 aug 2008. De volgende afstanden staan op het programma: 9 km – halve marathon hardlopen. Wilt u inschrijven voor dit loopevenement?  Raadpleeg hiervoor dan de website van de organisatie\nDe uitslagen van deze hardloopwedstrijd zijn te raadplegen via dezelfde website of via de bekende websites zoals uitslagen.nl\, runtimer en mylaps. Doet u mee met dit evenement\, zorg dan dat u goed voorbereid aan de start staat! Met een goed trainingsschema komt u een heel eind. Train bijvoorbeeld met start to run van Evy Gruyaert. Download de start to run mp3 bestanden en zet ze op uw telefoon. Oortjes in\, hit the play button en en rennen maar! \n\n\n\n\nMeer informatie over Bommenberendloop op Hardloopkalender.nl  \n21\,1 km 18:00 uur\, 9 km 18:15 uur \n  \n  \n 
URL:https://hardloopevenementen.com/loopagenda/bommenberendloop-groningen-2/
END:VEVENT
BEGIN:VEVENT
DTSTART;VALUE=DATE:20080501
DTEND;VALUE=DATE:20080502
DTSTAMP:20260422T013112
CREATED:20181007T222049Z
LAST-MODIFIED:20190423T094739Z
UID:19776-1209600000-1209600000@hardloopevenementen.com
SUMMARY:Nacht van Groningen Groningen
DESCRIPTION:Doe mee met het hardloopevenement Nacht van Groningen te Groningen op do 01 mei 2008. De volgende afstanden staan op het programma: 6\,4 km – 13\,7 km – halve marathon hardlopen. Wilt u inschrijven voor dit loopevenement?  Raadpleeg hiervoor dan de website van de organisatie\nDe uitslagen van deze hardloopwedstrijd zijn te raadplegen via dezelfde website of via de bekende websites zoals uitslagen.nl\, runtimer en mylaps. Doet u mee met dit evenement\, zorg dan dat u goed voorbereid aan de start staat! Met een goed trainingsschema komt u een heel eind. Train bijvoorbeeld met start to run van Evy Gruyaert. Download de start to run mp3 bestanden en zet ze op uw telefoon. Oortjes in\, hit the play button en en rennen maar! \n\n\n\n\nMeer informatie over Nacht van Groningen op Hardloopkalender.nl  \nestafette 18:30 uur\, 6\,4-13\,7-21\,1-21\,1 km 18:30 uur  ALGEMENE INFORMATIE  – Naam evenement : Nacht van Groningen   – Datum : 17 mei 2007 (Hemelvaartsdag)   – Starttijd : 18.30 uur (voor alle categoriën)   – Start- en Finishlokatie : Ossenmarkt Groningen   – Prijsuitreiking : 20.30 uur Wedstrijdloop (Ossenmarkt)  21.00 uur Bedrijvenloop (Ossenmarkt)      Op donderdag 17 mei 2007\, Hemelvaartsdag\, is de 6e editie van de Nacht van Groningen. Dit jaar met een aantal veranderingen en vernieuwingen. Zo zal de Nacht van Groningen niet starten op de Grote Markt. Dit jaar (17 mei 2007) is de start en finish op de Ossenmarkt\, dit in verband met de kermis op de Grote Markt. \n  \n  \n 
URL:https://hardloopevenementen.com/loopagenda/nacht-van-groningen-groningen/
END:VEVENT
BEGIN:VEVENT
DTSTART;VALUE=DATE:20080405
DTEND;VALUE=DATE:20080406
DTSTAMP:20260422T013112
CREATED:20071020T013241Z
LAST-MODIFIED:20190423T094814Z
UID:19929-1207353600-1207353600@hardloopevenementen.com
SUMMARY:7e Unive Astrea Run Groningen
DESCRIPTION:Doe mee met het hardloopevenement 7e Unive Astrea Run te Groningen op za 05 apr 2008. De volgende afstanden staan op het programma: 7 km – 10\,5 km – halve marathon hardlopen. Wilt u inschrijven voor dit loopevenement?  Raadpleeg hiervoor dan de website van de organisatie\nDe uitslagen van deze hardloopwedstrijd zijn te raadplegen via dezelfde website of via de bekende websites zoals uitslagen.nl\, runtimer en mylaps. Doet u mee met dit evenement\, zorg dan dat u goed voorbereid aan de start staat! Met een goed trainingsschema komt u een heel eind. Train bijvoorbeeld met start to run van Evy Gruyaert. Download de start to run mp3 bestanden en zet ze op uw telefoon. Oortjes in\, hit the play button en en rennen maar! \n\n\n\n\nMeer informatie over 7e Unive Astrea Run op Hardloopkalender.nl  \n7e Univé Astrea Run     over 7 – 10.5 – 21.1 km  en een kidsrun over 1 en 2 km      Nog 81 dagen\, 0 uren\, 34 minuten\, en 56 seconden tot de start.       Meer info:    Het startschot zal om 14.00 uur worden gelost door Hans Schieving\, regiomanager Univé verzekeringen Groningen e.o.       Start 21\,1 km: 14.00 uur (min. leeftijd: 18 jaar)  Start 10\,5 km: 14.00 uur (min. leeftijd: 14 jaar)   Start 7 km: 14.15 uur (min. leeftijd: 12 jaar)     Na-inschrijving ( 7\,00) voor alle afstanden is mogelijk op 5 april van 12.00 uur tot 13.30 uur. Per inschrijving gaat  4\,- naar het goede doel: kinderprojecten in de derde wereld van de stichting World Runners.       Start kidsrun 1 en 2 km: 13.00 uur. Inschrijfgeld  2\,00.       Tijdregistratie voor alle deelnemers d.m.v. GatewaY Concepts. NB: de gele ChampionChip kan tijdens de Astrea Run niet worden gebruikt.    Afhalen startnummers voorinschrijvers. Op vrijdagmiddag 4 april 2008 van 15.00 uur tot 17.30 uur is het mogelijk startnummers af te halen in het clubhuis van Loopgroep Astrea. Zaterdag kunnen de startnummers vanaf 12.00 uur worden afgehaald bij de voorinschrijvingsdesk.      Ruime douche- en kleedgelegenheid.      Masseurs aanwezig.      De deelnemers ontvangen na afloop een practische herinnering.      Verzorging: water\, fruit\, sponzen.      Maximum aantal deelnemers: 500      Elke deelnemer loopt voor eigen risico en dient zich te houden aan de verkeersregels. De organisatie is niet aansprakelijk voor ongevallen voor\, tijdens of na de Run.        Loopgroep Astrea telt ongeveer 120 actieve lopers. De loopgroep bestaat al vanaf 1984 en is aangesloten bij de KNAU. De loopgroep heeft haar clubgebouw op sportpark Selwerd (t o De Parrel) en organiseert o.a loopcursussen voor beginners in samenwerking met de Gemeente Groningen. Kom voor een gratis kennismakingstraining geheel vrijblijvend eens meetrainen. Zowel op de maandag als woensdag zijn er drie aparte groepen. De trainingstijden zijn maandag van 19.30 uur tot 20.30 en woensdagavond van 19.30 tot 21.00 uur. Douche en kleedgelegenheid zijn aanwezig voor dames en heren.     Wilt u meer weten over stichting World Runners en Loopgroep Astrea kijk dan op: www.worldrunners.nl en www.loopgroepastrea.nl. \n  \n  \n 
URL:https://hardloopevenementen.com/loopagenda/7e-unive-astrea-run-groningen/
END:VEVENT
BEGIN:VEVENT
DTSTART;VALUE=DATE:20070916
DTEND;VALUE=DATE:20070917
DTSTAMP:20260422T013112
CREATED:20121008T164644Z
LAST-MODIFIED:20190423T093905Z
UID:305-1189900800-1189900800@hardloopevenementen.com
SUMMARY:Groningen Stad Marathon Groningen
DESCRIPTION:Doe mee met het hardloopevenement Groningen Stad Marathon te Groningen op zo 16 sep 2007. De volgende afstanden staan op het programma: halve marathon – 32\,8 km hardlopen. Wilt u inschrijven voor dit loopevenement?  Raadpleeg hiervoor dan de website van de organisatie\nDe uitslagen van deze hardloopwedstrijd zijn te raadplegen via dezelfde website of via de bekende websites zoals uitslagen.nl\, runtimer en mylaps. Doet u mee met dit evenement\, zorg dan dat u goed voorbereid aan de start staat! Met een goed trainingsschema komt u een heel eind. Train bijvoorbeeld met start to run van Evy Gruyaert. Download de start to run mp3 bestanden en zet ze op uw telefoon. Oortjes in\, hit the play button en en rennen maar! \n\n\n\n\nMeer informatie over Groningen Stad Marathon op Hardloopkalender.nl  \n  \n  \n 
URL:https://hardloopevenementen.com/loopagenda/groningen-stad-marathon-groningen/
END:VEVENT
BEGIN:VEVENT
DTSTART;VALUE=DATE:20070828
DTEND;VALUE=DATE:20070829
DTSTAMP:20260422T013112
CREATED:20081007T234907Z
LAST-MODIFIED:20190423T093917Z
UID:354-1188259200-1188259200@hardloopevenementen.com
SUMMARY:Bommenberendloop Groningen
DESCRIPTION:Doe mee met het hardloopevenement Bommenberendloop te Groningen op di 28 aug 2007. De volgende afstanden staan op het programma: 12 km – halve marathon hardlopen. Wilt u inschrijven voor dit loopevenement?  Raadpleeg hiervoor dan de website van de organisatie\nDe uitslagen van deze hardloopwedstrijd zijn te raadplegen via dezelfde website of via de bekende websites zoals uitslagen.nl\, runtimer en mylaps. Doet u mee met dit evenement\, zorg dan dat u goed voorbereid aan de start staat! Met een goed trainingsschema komt u een heel eind. Train bijvoorbeeld met start to run van Evy Gruyaert. Download de start to run mp3 bestanden en zet ze op uw telefoon. Oortjes in\, hit the play button en en rennen maar! \n\n\n\n\nMeer informatie over Bommenberendloop op Hardloopkalender.nl  \n  \n  \n 
URL:https://hardloopevenementen.com/loopagenda/bommenberendloop-groningen/
END:VEVENT
END:VCALENDAR