BEGIN:VCALENDAR
VERSION:2.0
PRODID:-//Hardloopevenementen - ECPv6.15.14//NONSGML v1.0//EN
CALSCALE:GREGORIAN
METHOD:PUBLISH
X-ORIGINAL-URL:https://hardloopevenementen.com
X-WR-CALDESC:Evenementen voor Hardloopevenementen
REFRESH-INTERVAL;VALUE=DURATION:PT1H
X-Robots-Tag:noindex
X-PUBLISHED-TTL:PT1H
BEGIN:VTIMEZONE
TZID:UTC
BEGIN:STANDARD
TZOFFSETFROM:+0000
TZOFFSETTO:+0000
TZNAME:UTC
DTSTART:20060101T000000
END:STANDARD
END:VTIMEZONE
BEGIN:VEVENT
DTSTART;VALUE=DATE:20080406
DTEND;VALUE=DATE:20080407
DTSTAMP:20260422T052332
CREATED:20090208T155013Z
LAST-MODIFIED:20190423T094811Z
UID:19914-1207440000-1207440000@hardloopevenementen.com
SUMMARY:Braassemloop Roelofarendsveen
DESCRIPTION:Doe mee met het hardloopevenement Braassemloop te Roelofarendsveen op zo 06 apr 2008. De volgende afstanden staan op het programma: 1 km – 5 km – 10 km – halve marathon hardlopen. Wilt u inschrijven voor dit loopevenement?  Raadpleeg hiervoor dan de website van de organisatie\nDe uitslagen van deze hardloopwedstrijd zijn te raadplegen via dezelfde website of via de bekende websites zoals uitslagen.nl\, runtimer en mylaps. Doet u mee met dit evenement\, zorg dan dat u goed voorbereid aan de start staat! Met een goed trainingsschema komt u een heel eind. Train bijvoorbeeld met start to run van Evy Gruyaert. Download de start to run mp3 bestanden en zet ze op uw telefoon. Oortjes in\, hit the play button en en rennen maar! \n\n\n\n\nMeer informatie over Braassemloop op Hardloopkalender.nl  \nPlaats Roelofarendsveen   Organisatie LVA Plantaris   Afstanden en   Starttijden Kinderloop   6 t m  9   Kinderloop 10 t m 12   Kort (geel)   Midden (blauw)   Lang (rood)  1 km   1 km   5 km   10 km   21\,1 km  10:30 uur  10:30 uur  11:20 uur  11:00 uur  11:10 uur    Start en Finish Op de Korte Goog in de directe omgeving van de Treffers.  Sportpad 2  2371PP Roelofarendsveen  Plan uw route     Inschrijving Dag van de loop tussen 9:30 en 11:00 uur  Clubgebouw van “De Treffers”   Informatie LVA Plantaris   06-20552910 (na 19:00 uur)   http:  www.plantaris.nl    Prijzenschema Dames en Heren 5 km 10 km 21\,1 km   1e prijs  30\,-  35\,-  45\,-   2e prijs  20\,-  25\,-  35\,-   3e prijs  15\,-  15\,-  25\,-   Wandelen Ook aan de wandelaars is gedacht!!!  Vanaf 09.00 uur kunt u starten voor een mooie wandeling van 20 km.  Tussen 10.00-11.00 uur kunt u starten voor een wandeling van 7 km\,  ook geschikt voor kinderen.  Iedere deelnemer ontvangt een leuke herinnering.  Inschrijven op de dag zelf bij De Treffers in het clubgebouw vanaf 08.30 uur. \n  \n  \n 
URL:https://hardloopevenementen.com/loopagenda/braassemloop-roelofarendsveen-2/
END:VEVENT
BEGIN:VEVENT
DTSTART;VALUE=DATE:20070401
DTEND;VALUE=DATE:20070402
DTSTAMP:20260422T052332
CREATED:20111222T202907Z
LAST-MODIFIED:20190423T094021Z
UID:630-1175385600-1175385600@hardloopevenementen.com
SUMMARY:Braassemloop Roelofarendsveen
DESCRIPTION:Doe mee met het hardloopevenement Braassemloop te Roelofarendsveen op zo 01 apr 2007. De volgende afstanden staan op het programma: 5 km – 10 km – halve marathon hardlopen. Wilt u inschrijven voor dit loopevenement?  Raadpleeg hiervoor dan de website van de organisatie\nDe uitslagen van deze hardloopwedstrijd zijn te raadplegen via dezelfde website of via de bekende websites zoals uitslagen.nl\, runtimer en mylaps. Doet u mee met dit evenement\, zorg dan dat u goed voorbereid aan de start staat! Met een goed trainingsschema komt u een heel eind. Train bijvoorbeeld met start to run van Evy Gruyaert. Download de start to run mp3 bestanden en zet ze op uw telefoon. Oortjes in\, hit the play button en en rennen maar! \n\n\n\n\nMeer informatie over Braassemloop op Hardloopkalender.nl  \n  \n  \n 
URL:https://hardloopevenementen.com/loopagenda/braassemloop-roelofarendsveen/
END:VEVENT
END:VCALENDAR